BEGIN:VCALENDAR
VERSION:2.0
PRODID:-//Treasure Coast Running - ECPv6.15.20//NONSGML v1.0//EN
CALSCALE:GREGORIAN
METHOD:PUBLISH
X-WR-CALNAME:Treasure Coast Running
X-ORIGINAL-URL:https://www.tcrunning.org
X-WR-CALDESC:Events for Treasure Coast Running
REFRESH-INTERVAL;VALUE=DURATION:PT1H
X-Robots-Tag:noindex
X-PUBLISHED-TTL:PT1H
BEGIN:VTIMEZONE
TZID:America/New_York
BEGIN:DAYLIGHT
TZOFFSETFROM:-0500
TZOFFSETTO:-0400
TZNAME:EDT
DTSTART:20250309T070000
END:DAYLIGHT
BEGIN:STANDARD
TZOFFSETFROM:-0400
TZOFFSETTO:-0500
TZNAME:EST
DTSTART:20251102T060000
END:STANDARD
BEGIN:DAYLIGHT
TZOFFSETFROM:-0500
TZOFFSETTO:-0400
TZNAME:EDT
DTSTART:20260308T070000
END:DAYLIGHT
BEGIN:STANDARD
TZOFFSETFROM:-0400
TZOFFSETTO:-0500
TZNAME:EST
DTSTART:20261101T060000
END:STANDARD
BEGIN:DAYLIGHT
TZOFFSETFROM:-0500
TZOFFSETTO:-0400
TZNAME:EDT
DTSTART:20270314T070000
END:DAYLIGHT
BEGIN:STANDARD
TZOFFSETFROM:-0400
TZOFFSETTO:-0500
TZNAME:EST
DTSTART:20271107T060000
END:STANDARD
END:VTIMEZONE
BEGIN:VEVENT
DTSTART;TZID=America/New_York:20260917T174500
DTEND;TZID=America/New_York:20260917T190000
DTSTAMP:20260423T132234
CREATED:20250511T212831Z
LAST-MODIFIED:20260206T194159Z
UID:10006835-1789667100-1789671600@www.tcrunning.org
SUMMARY:Thr Jogging with the Doctor
DESCRIPTION:Pace: All Paces\nDistance: All Distances\nLocation: Tradition Square \n 
URL:https://www.tcrunning.org/event/jogging-with-the-doctor-2/2026-09-17/
LOCATION:Tradition Square\, Tradition Square\, Port St. Lucie\, FL\, 34987\, United States
CATEGORIES:Weekly Running
END:VEVENT
BEGIN:VEVENT
DTSTART;TZID=America/New_York:20260922T174500
DTEND;TZID=America/New_York:20260922T190000
DTSTAMP:20260423T132234
CREATED:20250503T204616Z
LAST-MODIFIED:20260206T194342Z
UID:10007102-1790099100-1790103600@www.tcrunning.org
SUMMARY:Tue Jogging with the Doctor
DESCRIPTION:Pace: All Paces\nDistance: All Distances\nLocation: Tradition Square
URL:https://www.tcrunning.org/event/jogging-with-the-doctor/2026-09-22/
LOCATION:Tradition Square\, Tradition Square\, Port St. Lucie\, FL\, 34987\, United States
CATEGORIES:Weekly Running
END:VEVENT
BEGIN:VEVENT
DTSTART;TZID=America/New_York:20260924T174500
DTEND;TZID=America/New_York:20260924T190000
DTSTAMP:20260423T132234
CREATED:20250511T212831Z
LAST-MODIFIED:20260206T194159Z
UID:10006836-1790271900-1790276400@www.tcrunning.org
SUMMARY:Thr Jogging with the Doctor
DESCRIPTION:Pace: All Paces\nDistance: All Distances\nLocation: Tradition Square \n 
URL:https://www.tcrunning.org/event/jogging-with-the-doctor-2/2026-09-24/
LOCATION:Tradition Square\, Tradition Square\, Port St. Lucie\, FL\, 34987\, United States
CATEGORIES:Weekly Running
END:VEVENT
BEGIN:VEVENT
DTSTART;TZID=America/New_York:20260929T174500
DTEND;TZID=America/New_York:20260929T190000
DTSTAMP:20260423T132234
CREATED:20250503T204616Z
LAST-MODIFIED:20260206T194342Z
UID:10007103-1790703900-1790708400@www.tcrunning.org
SUMMARY:Tue Jogging with the Doctor
DESCRIPTION:Pace: All Paces\nDistance: All Distances\nLocation: Tradition Square
URL:https://www.tcrunning.org/event/jogging-with-the-doctor/2026-09-29/
LOCATION:Tradition Square\, Tradition Square\, Port St. Lucie\, FL\, 34987\, United States
CATEGORIES:Weekly Running
END:VEVENT
BEGIN:VEVENT
DTSTART;TZID=America/New_York:20261001T174500
DTEND;TZID=America/New_York:20261001T190000
DTSTAMP:20260423T132234
CREATED:20250511T212831Z
LAST-MODIFIED:20260206T194159Z
UID:10006837-1790876700-1790881200@www.tcrunning.org
SUMMARY:Thr Jogging with the Doctor
DESCRIPTION:Pace: All Paces\nDistance: All Distances\nLocation: Tradition Square \n 
URL:https://www.tcrunning.org/event/jogging-with-the-doctor-2/2026-10-01/
LOCATION:Tradition Square\, Tradition Square\, Port St. Lucie\, FL\, 34987\, United States
CATEGORIES:Weekly Running
END:VEVENT
BEGIN:VEVENT
DTSTART;TZID=America/New_York:20261006T174500
DTEND;TZID=America/New_York:20261006T190000
DTSTAMP:20260423T132234
CREATED:20250503T204616Z
LAST-MODIFIED:20260206T194342Z
UID:10007104-1791308700-1791313200@www.tcrunning.org
SUMMARY:Tue Jogging with the Doctor
DESCRIPTION:Pace: All Paces\nDistance: All Distances\nLocation: Tradition Square
URL:https://www.tcrunning.org/event/jogging-with-the-doctor/2026-10-06/
LOCATION:Tradition Square\, Tradition Square\, Port St. Lucie\, FL\, 34987\, United States
CATEGORIES:Weekly Running
END:VEVENT
BEGIN:VEVENT
DTSTART;TZID=America/New_York:20261008T174500
DTEND;TZID=America/New_York:20261008T190000
DTSTAMP:20260423T132235
CREATED:20250511T212831Z
LAST-MODIFIED:20260206T194159Z
UID:10006838-1791481500-1791486000@www.tcrunning.org
SUMMARY:Thr Jogging with the Doctor
DESCRIPTION:Pace: All Paces\nDistance: All Distances\nLocation: Tradition Square \n 
URL:https://www.tcrunning.org/event/jogging-with-the-doctor-2/2026-10-08/
LOCATION:Tradition Square\, Tradition Square\, Port St. Lucie\, FL\, 34987\, United States
CATEGORIES:Weekly Running
END:VEVENT
BEGIN:VEVENT
DTSTART;TZID=America/New_York:20261013T174500
DTEND;TZID=America/New_York:20261013T190000
DTSTAMP:20260423T132235
CREATED:20250503T204616Z
LAST-MODIFIED:20260206T194342Z
UID:10007105-1791913500-1791918000@www.tcrunning.org
SUMMARY:Tue Jogging with the Doctor
DESCRIPTION:Pace: All Paces\nDistance: All Distances\nLocation: Tradition Square
URL:https://www.tcrunning.org/event/jogging-with-the-doctor/2026-10-13/
LOCATION:Tradition Square\, Tradition Square\, Port St. Lucie\, FL\, 34987\, United States
CATEGORIES:Weekly Running
END:VEVENT
BEGIN:VEVENT
DTSTART;TZID=America/New_York:20261015T174500
DTEND;TZID=America/New_York:20261015T190000
DTSTAMP:20260423T132235
CREATED:20250511T212831Z
LAST-MODIFIED:20260206T194159Z
UID:10006839-1792086300-1792090800@www.tcrunning.org
SUMMARY:Thr Jogging with the Doctor
DESCRIPTION:Pace: All Paces\nDistance: All Distances\nLocation: Tradition Square \n 
URL:https://www.tcrunning.org/event/jogging-with-the-doctor-2/2026-10-15/
LOCATION:Tradition Square\, Tradition Square\, Port St. Lucie\, FL\, 34987\, United States
CATEGORIES:Weekly Running
END:VEVENT
BEGIN:VEVENT
DTSTART;TZID=America/New_York:20261020T174500
DTEND;TZID=America/New_York:20261020T190000
DTSTAMP:20260423T132235
CREATED:20250503T204616Z
LAST-MODIFIED:20260206T194342Z
UID:10007106-1792518300-1792522800@www.tcrunning.org
SUMMARY:Tue Jogging with the Doctor
DESCRIPTION:Pace: All Paces\nDistance: All Distances\nLocation: Tradition Square
URL:https://www.tcrunning.org/event/jogging-with-the-doctor/2026-10-20/
LOCATION:Tradition Square\, Tradition Square\, Port St. Lucie\, FL\, 34987\, United States
CATEGORIES:Weekly Running
END:VEVENT
BEGIN:VEVENT
DTSTART;TZID=America/New_York:20261022T174500
DTEND;TZID=America/New_York:20261022T190000
DTSTAMP:20260423T132235
CREATED:20250511T212831Z
LAST-MODIFIED:20260206T194159Z
UID:10006840-1792691100-1792695600@www.tcrunning.org
SUMMARY:Thr Jogging with the Doctor
DESCRIPTION:Pace: All Paces\nDistance: All Distances\nLocation: Tradition Square \n 
URL:https://www.tcrunning.org/event/jogging-with-the-doctor-2/2026-10-22/
LOCATION:Tradition Square\, Tradition Square\, Port St. Lucie\, FL\, 34987\, United States
CATEGORIES:Weekly Running
END:VEVENT
BEGIN:VEVENT
DTSTART;TZID=America/New_York:20261027T174500
DTEND;TZID=America/New_York:20261027T190000
DTSTAMP:20260423T132235
CREATED:20250503T204616Z
LAST-MODIFIED:20260206T194342Z
UID:10007107-1793123100-1793127600@www.tcrunning.org
SUMMARY:Tue Jogging with the Doctor
DESCRIPTION:Pace: All Paces\nDistance: All Distances\nLocation: Tradition Square
URL:https://www.tcrunning.org/event/jogging-with-the-doctor/2026-10-27/
LOCATION:Tradition Square\, Tradition Square\, Port St. Lucie\, FL\, 34987\, United States
CATEGORIES:Weekly Running
END:VEVENT
BEGIN:VEVENT
DTSTART;TZID=America/New_York:20261029T174500
DTEND;TZID=America/New_York:20261029T190000
DTSTAMP:20260423T132235
CREATED:20250511T212831Z
LAST-MODIFIED:20260206T194159Z
UID:10006841-1793295900-1793300400@www.tcrunning.org
SUMMARY:Thr Jogging with the Doctor
DESCRIPTION:Pace: All Paces\nDistance: All Distances\nLocation: Tradition Square \n 
URL:https://www.tcrunning.org/event/jogging-with-the-doctor-2/2026-10-29/
LOCATION:Tradition Square\, Tradition Square\, Port St. Lucie\, FL\, 34987\, United States
CATEGORIES:Weekly Running
END:VEVENT
BEGIN:VEVENT
DTSTART;TZID=America/New_York:20261103T174500
DTEND;TZID=America/New_York:20261103T190000
DTSTAMP:20260423T132235
CREATED:20250503T204616Z
LAST-MODIFIED:20260206T194342Z
UID:10007108-1793727900-1793732400@www.tcrunning.org
SUMMARY:Tue Jogging with the Doctor
DESCRIPTION:Pace: All Paces\nDistance: All Distances\nLocation: Tradition Square
URL:https://www.tcrunning.org/event/jogging-with-the-doctor/2026-11-03/
LOCATION:Tradition Square\, Tradition Square\, Port St. Lucie\, FL\, 34987\, United States
CATEGORIES:Weekly Running
END:VEVENT
BEGIN:VEVENT
DTSTART;TZID=America/New_York:20261105T174500
DTEND;TZID=America/New_York:20261105T190000
DTSTAMP:20260423T132235
CREATED:20250511T212831Z
LAST-MODIFIED:20260206T194159Z
UID:10006842-1793900700-1793905200@www.tcrunning.org
SUMMARY:Thr Jogging with the Doctor
DESCRIPTION:Pace: All Paces\nDistance: All Distances\nLocation: Tradition Square \n 
URL:https://www.tcrunning.org/event/jogging-with-the-doctor-2/2026-11-05/
LOCATION:Tradition Square\, Tradition Square\, Port St. Lucie\, FL\, 34987\, United States
CATEGORIES:Weekly Running
END:VEVENT
BEGIN:VEVENT
DTSTART;TZID=America/New_York:20261110T174500
DTEND;TZID=America/New_York:20261110T190000
DTSTAMP:20260423T132235
CREATED:20250503T204616Z
LAST-MODIFIED:20260206T194342Z
UID:10007109-1794332700-1794337200@www.tcrunning.org
SUMMARY:Tue Jogging with the Doctor
DESCRIPTION:Pace: All Paces\nDistance: All Distances\nLocation: Tradition Square
URL:https://www.tcrunning.org/event/jogging-with-the-doctor/2026-11-10/
LOCATION:Tradition Square\, Tradition Square\, Port St. Lucie\, FL\, 34987\, United States
CATEGORIES:Weekly Running
END:VEVENT
BEGIN:VEVENT
DTSTART;TZID=America/New_York:20261112T174500
DTEND;TZID=America/New_York:20261112T190000
DTSTAMP:20260423T132235
CREATED:20250511T212831Z
LAST-MODIFIED:20260206T194159Z
UID:10006843-1794505500-1794510000@www.tcrunning.org
SUMMARY:Thr Jogging with the Doctor
DESCRIPTION:Pace: All Paces\nDistance: All Distances\nLocation: Tradition Square \n 
URL:https://www.tcrunning.org/event/jogging-with-the-doctor-2/2026-11-12/
LOCATION:Tradition Square\, Tradition Square\, Port St. Lucie\, FL\, 34987\, United States
CATEGORIES:Weekly Running
END:VEVENT
BEGIN:VEVENT
DTSTART;TZID=America/New_York:20261117T174500
DTEND;TZID=America/New_York:20261117T190000
DTSTAMP:20260423T132235
CREATED:20250503T204616Z
LAST-MODIFIED:20260206T194342Z
UID:10007110-1794937500-1794942000@www.tcrunning.org
SUMMARY:Tue Jogging with the Doctor
DESCRIPTION:Pace: All Paces\nDistance: All Distances\nLocation: Tradition Square
URL:https://www.tcrunning.org/event/jogging-with-the-doctor/2026-11-17/
LOCATION:Tradition Square\, Tradition Square\, Port St. Lucie\, FL\, 34987\, United States
CATEGORIES:Weekly Running
END:VEVENT
BEGIN:VEVENT
DTSTART;TZID=America/New_York:20261119T174500
DTEND;TZID=America/New_York:20261119T190000
DTSTAMP:20260423T132235
CREATED:20250511T212831Z
LAST-MODIFIED:20260206T194159Z
UID:10006844-1795110300-1795114800@www.tcrunning.org
SUMMARY:Thr Jogging with the Doctor
DESCRIPTION:Pace: All Paces\nDistance: All Distances\nLocation: Tradition Square \n 
URL:https://www.tcrunning.org/event/jogging-with-the-doctor-2/2026-11-19/
LOCATION:Tradition Square\, Tradition Square\, Port St. Lucie\, FL\, 34987\, United States
CATEGORIES:Weekly Running
END:VEVENT
BEGIN:VEVENT
DTSTART;TZID=America/New_York:20261124T174500
DTEND;TZID=America/New_York:20261124T190000
DTSTAMP:20260423T132235
CREATED:20250503T204616Z
LAST-MODIFIED:20260206T194342Z
UID:10007111-1795542300-1795546800@www.tcrunning.org
SUMMARY:Tue Jogging with the Doctor
DESCRIPTION:Pace: All Paces\nDistance: All Distances\nLocation: Tradition Square
URL:https://www.tcrunning.org/event/jogging-with-the-doctor/2026-11-24/
LOCATION:Tradition Square\, Tradition Square\, Port St. Lucie\, FL\, 34987\, United States
CATEGORIES:Weekly Running
END:VEVENT
BEGIN:VEVENT
DTSTART;TZID=America/New_York:20261126T174500
DTEND;TZID=America/New_York:20261126T190000
DTSTAMP:20260423T132235
CREATED:20250511T212831Z
LAST-MODIFIED:20260206T194159Z
UID:10006845-1795715100-1795719600@www.tcrunning.org
SUMMARY:Thr Jogging with the Doctor
DESCRIPTION:Pace: All Paces\nDistance: All Distances\nLocation: Tradition Square \n 
URL:https://www.tcrunning.org/event/jogging-with-the-doctor-2/2026-11-26/
LOCATION:Tradition Square\, Tradition Square\, Port St. Lucie\, FL\, 34987\, United States
CATEGORIES:Weekly Running
END:VEVENT
BEGIN:VEVENT
DTSTART;TZID=America/New_York:20261201T174500
DTEND;TZID=America/New_York:20261201T190000
DTSTAMP:20260423T132235
CREATED:20250503T204616Z
LAST-MODIFIED:20260206T194342Z
UID:10007112-1796147100-1796151600@www.tcrunning.org
SUMMARY:Tue Jogging with the Doctor
DESCRIPTION:Pace: All Paces\nDistance: All Distances\nLocation: Tradition Square
URL:https://www.tcrunning.org/event/jogging-with-the-doctor/2026-12-01/
LOCATION:Tradition Square\, Tradition Square\, Port St. Lucie\, FL\, 34987\, United States
CATEGORIES:Weekly Running
END:VEVENT
BEGIN:VEVENT
DTSTART;TZID=America/New_York:20261203T174500
DTEND;TZID=America/New_York:20261203T190000
DTSTAMP:20260423T132235
CREATED:20250511T212831Z
LAST-MODIFIED:20260206T194159Z
UID:10006846-1796319900-1796324400@www.tcrunning.org
SUMMARY:Thr Jogging with the Doctor
DESCRIPTION:Pace: All Paces\nDistance: All Distances\nLocation: Tradition Square \n 
URL:https://www.tcrunning.org/event/jogging-with-the-doctor-2/2026-12-03/
LOCATION:Tradition Square\, Tradition Square\, Port St. Lucie\, FL\, 34987\, United States
CATEGORIES:Weekly Running
END:VEVENT
BEGIN:VEVENT
DTSTART;TZID=America/New_York:20261208T174500
DTEND;TZID=America/New_York:20261208T190000
DTSTAMP:20260423T132235
CREATED:20250503T204616Z
LAST-MODIFIED:20260206T194342Z
UID:10007113-1796751900-1796756400@www.tcrunning.org
SUMMARY:Tue Jogging with the Doctor
DESCRIPTION:Pace: All Paces\nDistance: All Distances\nLocation: Tradition Square
URL:https://www.tcrunning.org/event/jogging-with-the-doctor/2026-12-08/
LOCATION:Tradition Square\, Tradition Square\, Port St. Lucie\, FL\, 34987\, United States
CATEGORIES:Weekly Running
END:VEVENT
BEGIN:VEVENT
DTSTART;TZID=America/New_York:20261210T174500
DTEND;TZID=America/New_York:20261210T190000
DTSTAMP:20260423T132235
CREATED:20250511T212831Z
LAST-MODIFIED:20260206T194159Z
UID:10006847-1796924700-1796929200@www.tcrunning.org
SUMMARY:Thr Jogging with the Doctor
DESCRIPTION:Pace: All Paces\nDistance: All Distances\nLocation: Tradition Square \n 
URL:https://www.tcrunning.org/event/jogging-with-the-doctor-2/2026-12-10/
LOCATION:Tradition Square\, Tradition Square\, Port St. Lucie\, FL\, 34987\, United States
CATEGORIES:Weekly Running
END:VEVENT
BEGIN:VEVENT
DTSTART;TZID=America/New_York:20261215T174500
DTEND;TZID=America/New_York:20261215T190000
DTSTAMP:20260423T132235
CREATED:20250503T204616Z
LAST-MODIFIED:20260206T194342Z
UID:10007114-1797356700-1797361200@www.tcrunning.org
SUMMARY:Tue Jogging with the Doctor
DESCRIPTION:Pace: All Paces\nDistance: All Distances\nLocation: Tradition Square
URL:https://www.tcrunning.org/event/jogging-with-the-doctor/2026-12-15/
LOCATION:Tradition Square\, Tradition Square\, Port St. Lucie\, FL\, 34987\, United States
CATEGORIES:Weekly Running
END:VEVENT
BEGIN:VEVENT
DTSTART;TZID=America/New_York:20261217T174500
DTEND;TZID=America/New_York:20261217T190000
DTSTAMP:20260423T132235
CREATED:20250511T212831Z
LAST-MODIFIED:20260206T194159Z
UID:10006848-1797529500-1797534000@www.tcrunning.org
SUMMARY:Thr Jogging with the Doctor
DESCRIPTION:Pace: All Paces\nDistance: All Distances\nLocation: Tradition Square \n 
URL:https://www.tcrunning.org/event/jogging-with-the-doctor-2/2026-12-17/
LOCATION:Tradition Square\, Tradition Square\, Port St. Lucie\, FL\, 34987\, United States
CATEGORIES:Weekly Running
END:VEVENT
BEGIN:VEVENT
DTSTART;TZID=America/New_York:20261222T174500
DTEND;TZID=America/New_York:20261222T190000
DTSTAMP:20260423T132235
CREATED:20250503T204616Z
LAST-MODIFIED:20260206T194342Z
UID:10007115-1797961500-1797966000@www.tcrunning.org
SUMMARY:Tue Jogging with the Doctor
DESCRIPTION:Pace: All Paces\nDistance: All Distances\nLocation: Tradition Square
URL:https://www.tcrunning.org/event/jogging-with-the-doctor/2026-12-22/
LOCATION:Tradition Square\, Tradition Square\, Port St. Lucie\, FL\, 34987\, United States
CATEGORIES:Weekly Running
END:VEVENT
BEGIN:VEVENT
DTSTART;TZID=America/New_York:20261224T174500
DTEND;TZID=America/New_York:20261224T190000
DTSTAMP:20260423T132235
CREATED:20250511T212831Z
LAST-MODIFIED:20260206T194159Z
UID:10006849-1798134300-1798138800@www.tcrunning.org
SUMMARY:Thr Jogging with the Doctor
DESCRIPTION:Pace: All Paces\nDistance: All Distances\nLocation: Tradition Square \n 
URL:https://www.tcrunning.org/event/jogging-with-the-doctor-2/2026-12-24/
LOCATION:Tradition Square\, Tradition Square\, Port St. Lucie\, FL\, 34987\, United States
CATEGORIES:Weekly Running
END:VEVENT
BEGIN:VEVENT
DTSTART;TZID=America/New_York:20261229T174500
DTEND;TZID=America/New_York:20261229T190000
DTSTAMP:20260423T132235
CREATED:20250503T204616Z
LAST-MODIFIED:20260206T194342Z
UID:10007116-1798566300-1798570800@www.tcrunning.org
SUMMARY:Tue Jogging with the Doctor
DESCRIPTION:Pace: All Paces\nDistance: All Distances\nLocation: Tradition Square
URL:https://www.tcrunning.org/event/jogging-with-the-doctor/2026-12-29/
LOCATION:Tradition Square\, Tradition Square\, Port St. Lucie\, FL\, 34987\, United States
CATEGORIES:Weekly Running
END:VEVENT
END:VCALENDAR