BEGIN:VCALENDAR
VERSION:2.0
PRODID:-//Treasure Coast Running - ECPv6.15.20//NONSGML v1.0//EN
CALSCALE:GREGORIAN
METHOD:PUBLISH
X-ORIGINAL-URL:https://www.tcrunning.org
X-WR-CALDESC:Events for Treasure Coast Running
REFRESH-INTERVAL;VALUE=DURATION:PT1H
X-Robots-Tag:noindex
X-PUBLISHED-TTL:PT1H
BEGIN:VTIMEZONE
TZID:America/New_York
BEGIN:DAYLIGHT
TZOFFSETFROM:-0500
TZOFFSETTO:-0400
TZNAME:EDT
DTSTART:20250309T070000
END:DAYLIGHT
BEGIN:STANDARD
TZOFFSETFROM:-0400
TZOFFSETTO:-0500
TZNAME:EST
DTSTART:20251102T060000
END:STANDARD
BEGIN:DAYLIGHT
TZOFFSETFROM:-0500
TZOFFSETTO:-0400
TZNAME:EDT
DTSTART:20260308T070000
END:DAYLIGHT
BEGIN:STANDARD
TZOFFSETFROM:-0400
TZOFFSETTO:-0500
TZNAME:EST
DTSTART:20261101T060000
END:STANDARD
BEGIN:DAYLIGHT
TZOFFSETFROM:-0500
TZOFFSETTO:-0400
TZNAME:EDT
DTSTART:20270314T070000
END:DAYLIGHT
BEGIN:STANDARD
TZOFFSETFROM:-0400
TZOFFSETTO:-0500
TZNAME:EST
DTSTART:20271107T060000
END:STANDARD
END:VTIMEZONE
BEGIN:VEVENT
DTSTART;TZID=America/New_York:20260609T174500
DTEND;TZID=America/New_York:20260609T190000
DTSTAMP:20260421T180545
CREATED:20250503T204616Z
LAST-MODIFIED:20260206T194342Z
UID:10007087-1781027100-1781031600@www.tcrunning.org
SUMMARY:Tue Jogging with the Doctor
DESCRIPTION:Pace: All Paces\nDistance: All Distances\nLocation: Tradition Square
URL:https://www.tcrunning.org/event/jogging-with-the-doctor/2026-06-09/
LOCATION:Tradition Square\, Tradition Square\, Port St. Lucie\, FL\, 34987\, United States
CATEGORIES:Weekly Running
END:VEVENT
BEGIN:VEVENT
DTSTART;TZID=America/New_York:20260611T174500
DTEND;TZID=America/New_York:20260611T190000
DTSTAMP:20260421T180545
CREATED:20250511T212831Z
LAST-MODIFIED:20260206T194159Z
UID:10006821-1781199900-1781204400@www.tcrunning.org
SUMMARY:Thr Jogging with the Doctor
DESCRIPTION:Pace: All Paces\nDistance: All Distances\nLocation: Tradition Square \n 
URL:https://www.tcrunning.org/event/jogging-with-the-doctor-2/2026-06-11/
LOCATION:Tradition Square\, Tradition Square\, Port St. Lucie\, FL\, 34987\, United States
CATEGORIES:Weekly Running
END:VEVENT
BEGIN:VEVENT
DTSTART;TZID=America/New_York:20260616T174500
DTEND;TZID=America/New_York:20260616T190000
DTSTAMP:20260421T180545
CREATED:20250503T204616Z
LAST-MODIFIED:20260206T194342Z
UID:10007088-1781631900-1781636400@www.tcrunning.org
SUMMARY:Tue Jogging with the Doctor
DESCRIPTION:Pace: All Paces\nDistance: All Distances\nLocation: Tradition Square
URL:https://www.tcrunning.org/event/jogging-with-the-doctor/2026-06-16/
LOCATION:Tradition Square\, Tradition Square\, Port St. Lucie\, FL\, 34987\, United States
CATEGORIES:Weekly Running
END:VEVENT
BEGIN:VEVENT
DTSTART;TZID=America/New_York:20260618T174500
DTEND;TZID=America/New_York:20260618T190000
DTSTAMP:20260421T180545
CREATED:20250511T212831Z
LAST-MODIFIED:20260206T194159Z
UID:10006822-1781804700-1781809200@www.tcrunning.org
SUMMARY:Thr Jogging with the Doctor
DESCRIPTION:Pace: All Paces\nDistance: All Distances\nLocation: Tradition Square \n 
URL:https://www.tcrunning.org/event/jogging-with-the-doctor-2/2026-06-18/
LOCATION:Tradition Square\, Tradition Square\, Port St. Lucie\, FL\, 34987\, United States
CATEGORIES:Weekly Running
END:VEVENT
BEGIN:VEVENT
DTSTART;TZID=America/New_York:20260623T174500
DTEND;TZID=America/New_York:20260623T190000
DTSTAMP:20260421T180545
CREATED:20250503T204616Z
LAST-MODIFIED:20260206T194342Z
UID:10007089-1782236700-1782241200@www.tcrunning.org
SUMMARY:Tue Jogging with the Doctor
DESCRIPTION:Pace: All Paces\nDistance: All Distances\nLocation: Tradition Square
URL:https://www.tcrunning.org/event/jogging-with-the-doctor/2026-06-23/
LOCATION:Tradition Square\, Tradition Square\, Port St. Lucie\, FL\, 34987\, United States
CATEGORIES:Weekly Running
END:VEVENT
BEGIN:VEVENT
DTSTART;TZID=America/New_York:20260625T174500
DTEND;TZID=America/New_York:20260625T190000
DTSTAMP:20260421T180545
CREATED:20250511T212831Z
LAST-MODIFIED:20260206T194159Z
UID:10006823-1782409500-1782414000@www.tcrunning.org
SUMMARY:Thr Jogging with the Doctor
DESCRIPTION:Pace: All Paces\nDistance: All Distances\nLocation: Tradition Square \n 
URL:https://www.tcrunning.org/event/jogging-with-the-doctor-2/2026-06-25/
LOCATION:Tradition Square\, Tradition Square\, Port St. Lucie\, FL\, 34987\, United States
CATEGORIES:Weekly Running
END:VEVENT
BEGIN:VEVENT
DTSTART;TZID=America/New_York:20260630T174500
DTEND;TZID=America/New_York:20260630T190000
DTSTAMP:20260421T180545
CREATED:20250503T204616Z
LAST-MODIFIED:20260206T194342Z
UID:10007090-1782841500-1782846000@www.tcrunning.org
SUMMARY:Tue Jogging with the Doctor
DESCRIPTION:Pace: All Paces\nDistance: All Distances\nLocation: Tradition Square
URL:https://www.tcrunning.org/event/jogging-with-the-doctor/2026-06-30/
LOCATION:Tradition Square\, Tradition Square\, Port St. Lucie\, FL\, 34987\, United States
CATEGORIES:Weekly Running
END:VEVENT
BEGIN:VEVENT
DTSTART;TZID=America/New_York:20260702T174500
DTEND;TZID=America/New_York:20260702T190000
DTSTAMP:20260421T180545
CREATED:20250511T212831Z
LAST-MODIFIED:20260206T194159Z
UID:10006824-1783014300-1783018800@www.tcrunning.org
SUMMARY:Thr Jogging with the Doctor
DESCRIPTION:Pace: All Paces\nDistance: All Distances\nLocation: Tradition Square \n 
URL:https://www.tcrunning.org/event/jogging-with-the-doctor-2/2026-07-02/
LOCATION:Tradition Square\, Tradition Square\, Port St. Lucie\, FL\, 34987\, United States
CATEGORIES:Weekly Running
END:VEVENT
BEGIN:VEVENT
DTSTART;TZID=America/New_York:20260707T174500
DTEND;TZID=America/New_York:20260707T190000
DTSTAMP:20260421T180545
CREATED:20250503T204616Z
LAST-MODIFIED:20260206T194342Z
UID:10007091-1783446300-1783450800@www.tcrunning.org
SUMMARY:Tue Jogging with the Doctor
DESCRIPTION:Pace: All Paces\nDistance: All Distances\nLocation: Tradition Square
URL:https://www.tcrunning.org/event/jogging-with-the-doctor/2026-07-07/
LOCATION:Tradition Square\, Tradition Square\, Port St. Lucie\, FL\, 34987\, United States
CATEGORIES:Weekly Running
END:VEVENT
BEGIN:VEVENT
DTSTART;TZID=America/New_York:20260709T174500
DTEND;TZID=America/New_York:20260709T190000
DTSTAMP:20260421T180545
CREATED:20250511T212831Z
LAST-MODIFIED:20260206T194159Z
UID:10006825-1783619100-1783623600@www.tcrunning.org
SUMMARY:Thr Jogging with the Doctor
DESCRIPTION:Pace: All Paces\nDistance: All Distances\nLocation: Tradition Square \n 
URL:https://www.tcrunning.org/event/jogging-with-the-doctor-2/2026-07-09/
LOCATION:Tradition Square\, Tradition Square\, Port St. Lucie\, FL\, 34987\, United States
CATEGORIES:Weekly Running
END:VEVENT
BEGIN:VEVENT
DTSTART;TZID=America/New_York:20260714T174500
DTEND;TZID=America/New_York:20260714T190000
DTSTAMP:20260421T180545
CREATED:20250503T204616Z
LAST-MODIFIED:20260206T194342Z
UID:10007092-1784051100-1784055600@www.tcrunning.org
SUMMARY:Tue Jogging with the Doctor
DESCRIPTION:Pace: All Paces\nDistance: All Distances\nLocation: Tradition Square
URL:https://www.tcrunning.org/event/jogging-with-the-doctor/2026-07-14/
LOCATION:Tradition Square\, Tradition Square\, Port St. Lucie\, FL\, 34987\, United States
CATEGORIES:Weekly Running
END:VEVENT
BEGIN:VEVENT
DTSTART;TZID=America/New_York:20260716T174500
DTEND;TZID=America/New_York:20260716T190000
DTSTAMP:20260421T180545
CREATED:20250511T212831Z
LAST-MODIFIED:20260206T194159Z
UID:10006826-1784223900-1784228400@www.tcrunning.org
SUMMARY:Thr Jogging with the Doctor
DESCRIPTION:Pace: All Paces\nDistance: All Distances\nLocation: Tradition Square \n 
URL:https://www.tcrunning.org/event/jogging-with-the-doctor-2/2026-07-16/
LOCATION:Tradition Square\, Tradition Square\, Port St. Lucie\, FL\, 34987\, United States
CATEGORIES:Weekly Running
END:VEVENT
BEGIN:VEVENT
DTSTART;TZID=America/New_York:20260721T174500
DTEND;TZID=America/New_York:20260721T190000
DTSTAMP:20260421T180545
CREATED:20250503T204616Z
LAST-MODIFIED:20260206T194342Z
UID:10007093-1784655900-1784660400@www.tcrunning.org
SUMMARY:Tue Jogging with the Doctor
DESCRIPTION:Pace: All Paces\nDistance: All Distances\nLocation: Tradition Square
URL:https://www.tcrunning.org/event/jogging-with-the-doctor/2026-07-21/
LOCATION:Tradition Square\, Tradition Square\, Port St. Lucie\, FL\, 34987\, United States
CATEGORIES:Weekly Running
END:VEVENT
BEGIN:VEVENT
DTSTART;TZID=America/New_York:20260723T174500
DTEND;TZID=America/New_York:20260723T190000
DTSTAMP:20260421T180545
CREATED:20250511T212831Z
LAST-MODIFIED:20260206T194159Z
UID:10006827-1784828700-1784833200@www.tcrunning.org
SUMMARY:Thr Jogging with the Doctor
DESCRIPTION:Pace: All Paces\nDistance: All Distances\nLocation: Tradition Square \n 
URL:https://www.tcrunning.org/event/jogging-with-the-doctor-2/2026-07-23/
LOCATION:Tradition Square\, Tradition Square\, Port St. Lucie\, FL\, 34987\, United States
CATEGORIES:Weekly Running
END:VEVENT
BEGIN:VEVENT
DTSTART;TZID=America/New_York:20260728T174500
DTEND;TZID=America/New_York:20260728T190000
DTSTAMP:20260421T180545
CREATED:20250503T204616Z
LAST-MODIFIED:20260206T194342Z
UID:10007094-1785260700-1785265200@www.tcrunning.org
SUMMARY:Tue Jogging with the Doctor
DESCRIPTION:Pace: All Paces\nDistance: All Distances\nLocation: Tradition Square
URL:https://www.tcrunning.org/event/jogging-with-the-doctor/2026-07-28/
LOCATION:Tradition Square\, Tradition Square\, Port St. Lucie\, FL\, 34987\, United States
CATEGORIES:Weekly Running
END:VEVENT
BEGIN:VEVENT
DTSTART;TZID=America/New_York:20260730T174500
DTEND;TZID=America/New_York:20260730T190000
DTSTAMP:20260421T180545
CREATED:20250511T212831Z
LAST-MODIFIED:20260206T194159Z
UID:10006828-1785433500-1785438000@www.tcrunning.org
SUMMARY:Thr Jogging with the Doctor
DESCRIPTION:Pace: All Paces\nDistance: All Distances\nLocation: Tradition Square \n 
URL:https://www.tcrunning.org/event/jogging-with-the-doctor-2/2026-07-30/
LOCATION:Tradition Square\, Tradition Square\, Port St. Lucie\, FL\, 34987\, United States
CATEGORIES:Weekly Running
END:VEVENT
BEGIN:VEVENT
DTSTART;TZID=America/New_York:20260804T174500
DTEND;TZID=America/New_York:20260804T190000
DTSTAMP:20260421T180545
CREATED:20250503T204616Z
LAST-MODIFIED:20260206T194342Z
UID:10007095-1785865500-1785870000@www.tcrunning.org
SUMMARY:Tue Jogging with the Doctor
DESCRIPTION:Pace: All Paces\nDistance: All Distances\nLocation: Tradition Square
URL:https://www.tcrunning.org/event/jogging-with-the-doctor/2026-08-04/
LOCATION:Tradition Square\, Tradition Square\, Port St. Lucie\, FL\, 34987\, United States
CATEGORIES:Weekly Running
END:VEVENT
BEGIN:VEVENT
DTSTART;TZID=America/New_York:20260806T174500
DTEND;TZID=America/New_York:20260806T190000
DTSTAMP:20260421T180545
CREATED:20250511T212831Z
LAST-MODIFIED:20260206T194159Z
UID:10006829-1786038300-1786042800@www.tcrunning.org
SUMMARY:Thr Jogging with the Doctor
DESCRIPTION:Pace: All Paces\nDistance: All Distances\nLocation: Tradition Square \n 
URL:https://www.tcrunning.org/event/jogging-with-the-doctor-2/2026-08-06/
LOCATION:Tradition Square\, Tradition Square\, Port St. Lucie\, FL\, 34987\, United States
CATEGORIES:Weekly Running
END:VEVENT
BEGIN:VEVENT
DTSTART;TZID=America/New_York:20260811T174500
DTEND;TZID=America/New_York:20260811T190000
DTSTAMP:20260421T180545
CREATED:20250503T204616Z
LAST-MODIFIED:20260206T194342Z
UID:10007096-1786470300-1786474800@www.tcrunning.org
SUMMARY:Tue Jogging with the Doctor
DESCRIPTION:Pace: All Paces\nDistance: All Distances\nLocation: Tradition Square
URL:https://www.tcrunning.org/event/jogging-with-the-doctor/2026-08-11/
LOCATION:Tradition Square\, Tradition Square\, Port St. Lucie\, FL\, 34987\, United States
CATEGORIES:Weekly Running
END:VEVENT
BEGIN:VEVENT
DTSTART;TZID=America/New_York:20260813T174500
DTEND;TZID=America/New_York:20260813T190000
DTSTAMP:20260421T180545
CREATED:20250511T212831Z
LAST-MODIFIED:20260206T194159Z
UID:10006830-1786643100-1786647600@www.tcrunning.org
SUMMARY:Thr Jogging with the Doctor
DESCRIPTION:Pace: All Paces\nDistance: All Distances\nLocation: Tradition Square \n 
URL:https://www.tcrunning.org/event/jogging-with-the-doctor-2/2026-08-13/
LOCATION:Tradition Square\, Tradition Square\, Port St. Lucie\, FL\, 34987\, United States
CATEGORIES:Weekly Running
END:VEVENT
BEGIN:VEVENT
DTSTART;TZID=America/New_York:20260818T174500
DTEND;TZID=America/New_York:20260818T190000
DTSTAMP:20260421T180545
CREATED:20250503T204616Z
LAST-MODIFIED:20260206T194342Z
UID:10007097-1787075100-1787079600@www.tcrunning.org
SUMMARY:Tue Jogging with the Doctor
DESCRIPTION:Pace: All Paces\nDistance: All Distances\nLocation: Tradition Square
URL:https://www.tcrunning.org/event/jogging-with-the-doctor/2026-08-18/
LOCATION:Tradition Square\, Tradition Square\, Port St. Lucie\, FL\, 34987\, United States
CATEGORIES:Weekly Running
END:VEVENT
BEGIN:VEVENT
DTSTART;TZID=America/New_York:20260820T174500
DTEND;TZID=America/New_York:20260820T190000
DTSTAMP:20260421T180545
CREATED:20250511T212831Z
LAST-MODIFIED:20260206T194159Z
UID:10006831-1787247900-1787252400@www.tcrunning.org
SUMMARY:Thr Jogging with the Doctor
DESCRIPTION:Pace: All Paces\nDistance: All Distances\nLocation: Tradition Square \n 
URL:https://www.tcrunning.org/event/jogging-with-the-doctor-2/2026-08-20/
LOCATION:Tradition Square\, Tradition Square\, Port St. Lucie\, FL\, 34987\, United States
CATEGORIES:Weekly Running
END:VEVENT
BEGIN:VEVENT
DTSTART;TZID=America/New_York:20260825T174500
DTEND;TZID=America/New_York:20260825T190000
DTSTAMP:20260421T180545
CREATED:20250503T204616Z
LAST-MODIFIED:20260206T194342Z
UID:10007098-1787679900-1787684400@www.tcrunning.org
SUMMARY:Tue Jogging with the Doctor
DESCRIPTION:Pace: All Paces\nDistance: All Distances\nLocation: Tradition Square
URL:https://www.tcrunning.org/event/jogging-with-the-doctor/2026-08-25/
LOCATION:Tradition Square\, Tradition Square\, Port St. Lucie\, FL\, 34987\, United States
CATEGORIES:Weekly Running
END:VEVENT
BEGIN:VEVENT
DTSTART;TZID=America/New_York:20260827T174500
DTEND;TZID=America/New_York:20260827T190000
DTSTAMP:20260421T180545
CREATED:20250511T212831Z
LAST-MODIFIED:20260206T194159Z
UID:10006832-1787852700-1787857200@www.tcrunning.org
SUMMARY:Thr Jogging with the Doctor
DESCRIPTION:Pace: All Paces\nDistance: All Distances\nLocation: Tradition Square \n 
URL:https://www.tcrunning.org/event/jogging-with-the-doctor-2/2026-08-27/
LOCATION:Tradition Square\, Tradition Square\, Port St. Lucie\, FL\, 34987\, United States
CATEGORIES:Weekly Running
END:VEVENT
BEGIN:VEVENT
DTSTART;TZID=America/New_York:20260901T174500
DTEND;TZID=America/New_York:20260901T190000
DTSTAMP:20260421T180545
CREATED:20250503T204616Z
LAST-MODIFIED:20260206T194342Z
UID:10007099-1788284700-1788289200@www.tcrunning.org
SUMMARY:Tue Jogging with the Doctor
DESCRIPTION:Pace: All Paces\nDistance: All Distances\nLocation: Tradition Square
URL:https://www.tcrunning.org/event/jogging-with-the-doctor/2026-09-01/
LOCATION:Tradition Square\, Tradition Square\, Port St. Lucie\, FL\, 34987\, United States
CATEGORIES:Weekly Running
END:VEVENT
BEGIN:VEVENT
DTSTART;TZID=America/New_York:20260903T174500
DTEND;TZID=America/New_York:20260903T190000
DTSTAMP:20260421T180545
CREATED:20250511T212831Z
LAST-MODIFIED:20260206T194159Z
UID:10006833-1788457500-1788462000@www.tcrunning.org
SUMMARY:Thr Jogging with the Doctor
DESCRIPTION:Pace: All Paces\nDistance: All Distances\nLocation: Tradition Square \n 
URL:https://www.tcrunning.org/event/jogging-with-the-doctor-2/2026-09-03/
LOCATION:Tradition Square\, Tradition Square\, Port St. Lucie\, FL\, 34987\, United States
CATEGORIES:Weekly Running
END:VEVENT
BEGIN:VEVENT
DTSTART;TZID=America/New_York:20260908T174500
DTEND;TZID=America/New_York:20260908T190000
DTSTAMP:20260421T180545
CREATED:20250503T204616Z
LAST-MODIFIED:20260206T194342Z
UID:10007100-1788889500-1788894000@www.tcrunning.org
SUMMARY:Tue Jogging with the Doctor
DESCRIPTION:Pace: All Paces\nDistance: All Distances\nLocation: Tradition Square
URL:https://www.tcrunning.org/event/jogging-with-the-doctor/2026-09-08/
LOCATION:Tradition Square\, Tradition Square\, Port St. Lucie\, FL\, 34987\, United States
CATEGORIES:Weekly Running
END:VEVENT
BEGIN:VEVENT
DTSTART;TZID=America/New_York:20260910T174500
DTEND;TZID=America/New_York:20260910T190000
DTSTAMP:20260421T180545
CREATED:20250511T212831Z
LAST-MODIFIED:20260206T194159Z
UID:10006834-1789062300-1789066800@www.tcrunning.org
SUMMARY:Thr Jogging with the Doctor
DESCRIPTION:Pace: All Paces\nDistance: All Distances\nLocation: Tradition Square \n 
URL:https://www.tcrunning.org/event/jogging-with-the-doctor-2/2026-09-10/
LOCATION:Tradition Square\, Tradition Square\, Port St. Lucie\, FL\, 34987\, United States
CATEGORIES:Weekly Running
END:VEVENT
BEGIN:VEVENT
DTSTART;TZID=America/New_York:20260915T174500
DTEND;TZID=America/New_York:20260915T190000
DTSTAMP:20260421T180545
CREATED:20250503T204616Z
LAST-MODIFIED:20260206T194342Z
UID:10007101-1789494300-1789498800@www.tcrunning.org
SUMMARY:Tue Jogging with the Doctor
DESCRIPTION:Pace: All Paces\nDistance: All Distances\nLocation: Tradition Square
URL:https://www.tcrunning.org/event/jogging-with-the-doctor/2026-09-15/
LOCATION:Tradition Square\, Tradition Square\, Port St. Lucie\, FL\, 34987\, United States
CATEGORIES:Weekly Running
END:VEVENT
BEGIN:VEVENT
DTSTART;TZID=America/New_York:20260917T174500
DTEND;TZID=America/New_York:20260917T190000
DTSTAMP:20260421T180545
CREATED:20250511T212831Z
LAST-MODIFIED:20260206T194159Z
UID:10006835-1789667100-1789671600@www.tcrunning.org
SUMMARY:Thr Jogging with the Doctor
DESCRIPTION:Pace: All Paces\nDistance: All Distances\nLocation: Tradition Square \n 
URL:https://www.tcrunning.org/event/jogging-with-the-doctor-2/2026-09-17/
LOCATION:Tradition Square\, Tradition Square\, Port St. Lucie\, FL\, 34987\, United States
CATEGORIES:Weekly Running
END:VEVENT
END:VCALENDAR