BEGIN:VCALENDAR
VERSION:2.0
PRODID:-//Treasure Coast Running - ECPv6.15.20//NONSGML v1.0//EN
CALSCALE:GREGORIAN
METHOD:PUBLISH
X-WR-CALNAME:Treasure Coast Running
X-ORIGINAL-URL:https://www.tcrunning.org
X-WR-CALDESC:Events for Treasure Coast Running
REFRESH-INTERVAL;VALUE=DURATION:PT1H
X-Robots-Tag:noindex
X-PUBLISHED-TTL:PT1H
BEGIN:VTIMEZONE
TZID:America/New_York
BEGIN:DAYLIGHT
TZOFFSETFROM:-0500
TZOFFSETTO:-0400
TZNAME:EDT
DTSTART:20240310T070000
END:DAYLIGHT
BEGIN:STANDARD
TZOFFSETFROM:-0400
TZOFFSETTO:-0500
TZNAME:EST
DTSTART:20241103T060000
END:STANDARD
BEGIN:DAYLIGHT
TZOFFSETFROM:-0500
TZOFFSETTO:-0400
TZNAME:EDT
DTSTART:20250309T070000
END:DAYLIGHT
BEGIN:STANDARD
TZOFFSETFROM:-0400
TZOFFSETTO:-0500
TZNAME:EST
DTSTART:20251102T060000
END:STANDARD
BEGIN:DAYLIGHT
TZOFFSETFROM:-0500
TZOFFSETTO:-0400
TZNAME:EDT
DTSTART:20260308T070000
END:DAYLIGHT
BEGIN:STANDARD
TZOFFSETFROM:-0400
TZOFFSETTO:-0500
TZNAME:EST
DTSTART:20261101T060000
END:STANDARD
BEGIN:DAYLIGHT
TZOFFSETFROM:-0500
TZOFFSETTO:-0400
TZNAME:EDT
DTSTART:20270314T070000
END:DAYLIGHT
BEGIN:STANDARD
TZOFFSETFROM:-0400
TZOFFSETTO:-0500
TZNAME:EST
DTSTART:20271107T060000
END:STANDARD
END:VTIMEZONE
BEGIN:VEVENT
DTSTART;TZID=America/New_York:20260104T080000
DTEND;TZID=America/New_York:20260104T100000
DTSTAMP:20260424T063242
CREATED:20250505T070949Z
LAST-MODIFIED:20250511T220106Z
UID:10000988-1767513600-1767520800@www.tcrunning.org
SUMMARY:Sun Crosstown – Port St. Lucie
DESCRIPTION:Pace: Walk/Run\nDistance: All Distances\nLocation: Submarine Veterans Park (Floresta & Crosstown)
URL:https://www.tcrunning.org/event/crosstown-port-st-lucie-2/2026-01-04/
LOCATION:Submarine Veterans Park\, SE Floresta Dr & SE Crosstown Pkwy\, Port St. Lucie\, FL\, 34983\, United States
CATEGORIES:Weekly Running
END:VEVENT
BEGIN:VEVENT
DTSTART;TZID=America/New_York:20251228T080000
DTEND;TZID=America/New_York:20251228T100000
DTSTAMP:20260424T063242
CREATED:20250505T070949Z
LAST-MODIFIED:20250511T220106Z
UID:10000987-1766908800-1766916000@www.tcrunning.org
SUMMARY:Sun Crosstown – Port St. Lucie
DESCRIPTION:Pace: Walk/Run\nDistance: All Distances\nLocation: Submarine Veterans Park (Floresta & Crosstown)
URL:https://www.tcrunning.org/event/crosstown-port-st-lucie-2/2025-12-28/
LOCATION:Submarine Veterans Park\, SE Floresta Dr & SE Crosstown Pkwy\, Port St. Lucie\, FL\, 34983\, United States
CATEGORIES:Weekly Running
END:VEVENT
BEGIN:VEVENT
DTSTART;TZID=America/New_York:20251221T080000
DTEND;TZID=America/New_York:20251221T100000
DTSTAMP:20260424T063242
CREATED:20250505T070949Z
LAST-MODIFIED:20250511T220106Z
UID:10000986-1766304000-1766311200@www.tcrunning.org
SUMMARY:Sun Crosstown – Port St. Lucie
DESCRIPTION:Pace: Walk/Run\nDistance: All Distances\nLocation: Submarine Veterans Park (Floresta & Crosstown)
URL:https://www.tcrunning.org/event/crosstown-port-st-lucie-2/2025-12-21/
LOCATION:Submarine Veterans Park\, SE Floresta Dr & SE Crosstown Pkwy\, Port St. Lucie\, FL\, 34983\, United States
CATEGORIES:Weekly Running
END:VEVENT
BEGIN:VEVENT
DTSTART;TZID=America/New_York:20251214T080000
DTEND;TZID=America/New_York:20251214T100000
DTSTAMP:20260424T063242
CREATED:20250505T070949Z
LAST-MODIFIED:20250511T220106Z
UID:10000985-1765699200-1765706400@www.tcrunning.org
SUMMARY:Sun Crosstown – Port St. Lucie
DESCRIPTION:Pace: Walk/Run\nDistance: All Distances\nLocation: Submarine Veterans Park (Floresta & Crosstown)
URL:https://www.tcrunning.org/event/crosstown-port-st-lucie-2/2025-12-14/
LOCATION:Submarine Veterans Park\, SE Floresta Dr & SE Crosstown Pkwy\, Port St. Lucie\, FL\, 34983\, United States
CATEGORIES:Weekly Running
END:VEVENT
BEGIN:VEVENT
DTSTART;TZID=America/New_York:20251207T080000
DTEND;TZID=America/New_York:20251207T100000
DTSTAMP:20260424T063242
CREATED:20250505T070949Z
LAST-MODIFIED:20250511T220106Z
UID:10000984-1765094400-1765101600@www.tcrunning.org
SUMMARY:Sun Crosstown – Port St. Lucie
DESCRIPTION:Pace: Walk/Run\nDistance: All Distances\nLocation: Submarine Veterans Park (Floresta & Crosstown)
URL:https://www.tcrunning.org/event/crosstown-port-st-lucie-2/2025-12-07/
LOCATION:Submarine Veterans Park\, SE Floresta Dr & SE Crosstown Pkwy\, Port St. Lucie\, FL\, 34983\, United States
CATEGORIES:Weekly Running
END:VEVENT
BEGIN:VEVENT
DTSTART;TZID=America/New_York:20251130T080000
DTEND;TZID=America/New_York:20251130T100000
DTSTAMP:20260424T063242
CREATED:20250505T070949Z
LAST-MODIFIED:20250511T220106Z
UID:10000983-1764489600-1764496800@www.tcrunning.org
SUMMARY:Sun Crosstown – Port St. Lucie
DESCRIPTION:Pace: Walk/Run\nDistance: All Distances\nLocation: Submarine Veterans Park (Floresta & Crosstown)
URL:https://www.tcrunning.org/event/crosstown-port-st-lucie-2/2025-11-30/
LOCATION:Submarine Veterans Park\, SE Floresta Dr & SE Crosstown Pkwy\, Port St. Lucie\, FL\, 34983\, United States
CATEGORIES:Weekly Running
END:VEVENT
BEGIN:VEVENT
DTSTART;TZID=America/New_York:20251123T080000
DTEND;TZID=America/New_York:20251123T100000
DTSTAMP:20260424T063242
CREATED:20250505T070949Z
LAST-MODIFIED:20250511T220106Z
UID:10000982-1763884800-1763892000@www.tcrunning.org
SUMMARY:Sun Crosstown – Port St. Lucie
DESCRIPTION:Pace: Walk/Run\nDistance: All Distances\nLocation: Submarine Veterans Park (Floresta & Crosstown)
URL:https://www.tcrunning.org/event/crosstown-port-st-lucie-2/2025-11-23/
LOCATION:Submarine Veterans Park\, SE Floresta Dr & SE Crosstown Pkwy\, Port St. Lucie\, FL\, 34983\, United States
CATEGORIES:Weekly Running
END:VEVENT
BEGIN:VEVENT
DTSTART;TZID=America/New_York:20251116T080000
DTEND;TZID=America/New_York:20251116T100000
DTSTAMP:20260424T063242
CREATED:20250505T070949Z
LAST-MODIFIED:20250511T220106Z
UID:10000981-1763280000-1763287200@www.tcrunning.org
SUMMARY:Sun Crosstown – Port St. Lucie
DESCRIPTION:Pace: Walk/Run\nDistance: All Distances\nLocation: Submarine Veterans Park (Floresta & Crosstown)
URL:https://www.tcrunning.org/event/crosstown-port-st-lucie-2/2025-11-16/
LOCATION:Submarine Veterans Park\, SE Floresta Dr & SE Crosstown Pkwy\, Port St. Lucie\, FL\, 34983\, United States
CATEGORIES:Weekly Running
END:VEVENT
BEGIN:VEVENT
DTSTART;TZID=America/New_York:20251109T080000
DTEND;TZID=America/New_York:20251109T100000
DTSTAMP:20260424T063242
CREATED:20250505T070949Z
LAST-MODIFIED:20250511T220106Z
UID:10000980-1762675200-1762682400@www.tcrunning.org
SUMMARY:Sun Crosstown – Port St. Lucie
DESCRIPTION:Pace: Walk/Run\nDistance: All Distances\nLocation: Submarine Veterans Park (Floresta & Crosstown)
URL:https://www.tcrunning.org/event/crosstown-port-st-lucie-2/2025-11-09/
LOCATION:Submarine Veterans Park\, SE Floresta Dr & SE Crosstown Pkwy\, Port St. Lucie\, FL\, 34983\, United States
CATEGORIES:Weekly Running
END:VEVENT
BEGIN:VEVENT
DTSTART;TZID=America/New_York:20251102T080000
DTEND;TZID=America/New_York:20251102T100000
DTSTAMP:20260424T063242
CREATED:20250505T070949Z
LAST-MODIFIED:20250511T220106Z
UID:10000979-1762070400-1762077600@www.tcrunning.org
SUMMARY:Sun Crosstown – Port St. Lucie
DESCRIPTION:Pace: Walk/Run\nDistance: All Distances\nLocation: Submarine Veterans Park (Floresta & Crosstown)
URL:https://www.tcrunning.org/event/crosstown-port-st-lucie-2/2025-11-02/
LOCATION:Submarine Veterans Park\, SE Floresta Dr & SE Crosstown Pkwy\, Port St. Lucie\, FL\, 34983\, United States
CATEGORIES:Weekly Running
END:VEVENT
BEGIN:VEVENT
DTSTART;TZID=America/New_York:20251026T080000
DTEND;TZID=America/New_York:20251026T100000
DTSTAMP:20260424T063242
CREATED:20250505T070949Z
LAST-MODIFIED:20250511T220106Z
UID:10000978-1761465600-1761472800@www.tcrunning.org
SUMMARY:Sun Crosstown – Port St. Lucie
DESCRIPTION:Pace: Walk/Run\nDistance: All Distances\nLocation: Submarine Veterans Park (Floresta & Crosstown)
URL:https://www.tcrunning.org/event/crosstown-port-st-lucie-2/2025-10-26/
LOCATION:Submarine Veterans Park\, SE Floresta Dr & SE Crosstown Pkwy\, Port St. Lucie\, FL\, 34983\, United States
CATEGORIES:Weekly Running
END:VEVENT
BEGIN:VEVENT
DTSTART;TZID=America/New_York:20251019T080000
DTEND;TZID=America/New_York:20251019T100000
DTSTAMP:20260424T063242
CREATED:20250505T070949Z
LAST-MODIFIED:20250511T220106Z
UID:10000977-1760860800-1760868000@www.tcrunning.org
SUMMARY:Sun Crosstown – Port St. Lucie
DESCRIPTION:Pace: Walk/Run\nDistance: All Distances\nLocation: Submarine Veterans Park (Floresta & Crosstown)
URL:https://www.tcrunning.org/event/crosstown-port-st-lucie-2/2025-10-19/
LOCATION:Submarine Veterans Park\, SE Floresta Dr & SE Crosstown Pkwy\, Port St. Lucie\, FL\, 34983\, United States
CATEGORIES:Weekly Running
END:VEVENT
BEGIN:VEVENT
DTSTART;TZID=America/New_York:20251012T080000
DTEND;TZID=America/New_York:20251012T100000
DTSTAMP:20260424T063242
CREATED:20250505T070949Z
LAST-MODIFIED:20250511T220106Z
UID:10000976-1760256000-1760263200@www.tcrunning.org
SUMMARY:Sun Crosstown – Port St. Lucie
DESCRIPTION:Pace: Walk/Run\nDistance: All Distances\nLocation: Submarine Veterans Park (Floresta & Crosstown)
URL:https://www.tcrunning.org/event/crosstown-port-st-lucie-2/2025-10-12/
LOCATION:Submarine Veterans Park\, SE Floresta Dr & SE Crosstown Pkwy\, Port St. Lucie\, FL\, 34983\, United States
CATEGORIES:Weekly Running
END:VEVENT
BEGIN:VEVENT
DTSTART;TZID=America/New_York:20251005T080000
DTEND;TZID=America/New_York:20251005T100000
DTSTAMP:20260424T063242
CREATED:20250505T070949Z
LAST-MODIFIED:20250511T220106Z
UID:10000975-1759651200-1759658400@www.tcrunning.org
SUMMARY:Sun Crosstown – Port St. Lucie
DESCRIPTION:Pace: Walk/Run\nDistance: All Distances\nLocation: Submarine Veterans Park (Floresta & Crosstown)
URL:https://www.tcrunning.org/event/crosstown-port-st-lucie-2/2025-10-05/
LOCATION:Submarine Veterans Park\, SE Floresta Dr & SE Crosstown Pkwy\, Port St. Lucie\, FL\, 34983\, United States
CATEGORIES:Weekly Running
END:VEVENT
BEGIN:VEVENT
DTSTART;TZID=America/New_York:20250928T080000
DTEND;TZID=America/New_York:20250928T100000
DTSTAMP:20260424T063242
CREATED:20250505T070949Z
LAST-MODIFIED:20250511T220106Z
UID:10000974-1759046400-1759053600@www.tcrunning.org
SUMMARY:Sun Crosstown – Port St. Lucie
DESCRIPTION:Pace: Walk/Run\nDistance: All Distances\nLocation: Submarine Veterans Park (Floresta & Crosstown)
URL:https://www.tcrunning.org/event/crosstown-port-st-lucie-2/2025-09-28/
LOCATION:Submarine Veterans Park\, SE Floresta Dr & SE Crosstown Pkwy\, Port St. Lucie\, FL\, 34983\, United States
CATEGORIES:Weekly Running
END:VEVENT
BEGIN:VEVENT
DTSTART;TZID=America/New_York:20250921T080000
DTEND;TZID=America/New_York:20250921T100000
DTSTAMP:20260424T063242
CREATED:20250505T070949Z
LAST-MODIFIED:20250511T220106Z
UID:10000973-1758441600-1758448800@www.tcrunning.org
SUMMARY:Sun Crosstown – Port St. Lucie
DESCRIPTION:Pace: Walk/Run\nDistance: All Distances\nLocation: Submarine Veterans Park (Floresta & Crosstown)
URL:https://www.tcrunning.org/event/crosstown-port-st-lucie-2/2025-09-21/
LOCATION:Submarine Veterans Park\, SE Floresta Dr & SE Crosstown Pkwy\, Port St. Lucie\, FL\, 34983\, United States
CATEGORIES:Weekly Running
END:VEVENT
BEGIN:VEVENT
DTSTART;TZID=America/New_York:20250914T080000
DTEND;TZID=America/New_York:20250914T100000
DTSTAMP:20260424T063242
CREATED:20250505T070949Z
LAST-MODIFIED:20250511T220106Z
UID:10000972-1757836800-1757844000@www.tcrunning.org
SUMMARY:Sun Crosstown – Port St. Lucie
DESCRIPTION:Pace: Walk/Run\nDistance: All Distances\nLocation: Submarine Veterans Park (Floresta & Crosstown)
URL:https://www.tcrunning.org/event/crosstown-port-st-lucie-2/2025-09-14/
LOCATION:Submarine Veterans Park\, SE Floresta Dr & SE Crosstown Pkwy\, Port St. Lucie\, FL\, 34983\, United States
CATEGORIES:Weekly Running
END:VEVENT
BEGIN:VEVENT
DTSTART;TZID=America/New_York:20250907T080000
DTEND;TZID=America/New_York:20250907T100000
DTSTAMP:20260424T063242
CREATED:20250505T070949Z
LAST-MODIFIED:20250511T220106Z
UID:10000971-1757232000-1757239200@www.tcrunning.org
SUMMARY:Sun Crosstown – Port St. Lucie
DESCRIPTION:Pace: Walk/Run\nDistance: All Distances\nLocation: Submarine Veterans Park (Floresta & Crosstown)
URL:https://www.tcrunning.org/event/crosstown-port-st-lucie-2/2025-09-07/
LOCATION:Submarine Veterans Park\, SE Floresta Dr & SE Crosstown Pkwy\, Port St. Lucie\, FL\, 34983\, United States
CATEGORIES:Weekly Running
END:VEVENT
BEGIN:VEVENT
DTSTART;TZID=America/New_York:20250831T080000
DTEND;TZID=America/New_York:20250831T100000
DTSTAMP:20260424T063242
CREATED:20250505T070949Z
LAST-MODIFIED:20250511T220106Z
UID:10000970-1756627200-1756634400@www.tcrunning.org
SUMMARY:Sun Crosstown – Port St. Lucie
DESCRIPTION:Pace: Walk/Run\nDistance: All Distances\nLocation: Submarine Veterans Park (Floresta & Crosstown)
URL:https://www.tcrunning.org/event/crosstown-port-st-lucie-2/2025-08-31/
LOCATION:Submarine Veterans Park\, SE Floresta Dr & SE Crosstown Pkwy\, Port St. Lucie\, FL\, 34983\, United States
CATEGORIES:Weekly Running
END:VEVENT
BEGIN:VEVENT
DTSTART;TZID=America/New_York:20250824T080000
DTEND;TZID=America/New_York:20250824T100000
DTSTAMP:20260424T063242
CREATED:20250505T070949Z
LAST-MODIFIED:20250511T220106Z
UID:10000969-1756022400-1756029600@www.tcrunning.org
SUMMARY:Sun Crosstown – Port St. Lucie
DESCRIPTION:Pace: Walk/Run\nDistance: All Distances\nLocation: Submarine Veterans Park (Floresta & Crosstown)
URL:https://www.tcrunning.org/event/crosstown-port-st-lucie-2/2025-08-24/
LOCATION:Submarine Veterans Park\, SE Floresta Dr & SE Crosstown Pkwy\, Port St. Lucie\, FL\, 34983\, United States
CATEGORIES:Weekly Running
END:VEVENT
BEGIN:VEVENT
DTSTART;TZID=America/New_York:20250817T080000
DTEND;TZID=America/New_York:20250817T100000
DTSTAMP:20260424T063242
CREATED:20250505T070949Z
LAST-MODIFIED:20250511T220106Z
UID:10000968-1755417600-1755424800@www.tcrunning.org
SUMMARY:Sun Crosstown – Port St. Lucie
DESCRIPTION:Pace: Walk/Run\nDistance: All Distances\nLocation: Submarine Veterans Park (Floresta & Crosstown)
URL:https://www.tcrunning.org/event/crosstown-port-st-lucie-2/2025-08-17/
LOCATION:Submarine Veterans Park\, SE Floresta Dr & SE Crosstown Pkwy\, Port St. Lucie\, FL\, 34983\, United States
CATEGORIES:Weekly Running
END:VEVENT
BEGIN:VEVENT
DTSTART;TZID=America/New_York:20250810T080000
DTEND;TZID=America/New_York:20250810T100000
DTSTAMP:20260424T063242
CREATED:20250505T070949Z
LAST-MODIFIED:20250511T220106Z
UID:10000967-1754812800-1754820000@www.tcrunning.org
SUMMARY:Sun Crosstown – Port St. Lucie
DESCRIPTION:Pace: Walk/Run\nDistance: All Distances\nLocation: Submarine Veterans Park (Floresta & Crosstown)
URL:https://www.tcrunning.org/event/crosstown-port-st-lucie-2/2025-08-10/
LOCATION:Submarine Veterans Park\, SE Floresta Dr & SE Crosstown Pkwy\, Port St. Lucie\, FL\, 34983\, United States
CATEGORIES:Weekly Running
END:VEVENT
BEGIN:VEVENT
DTSTART;TZID=America/New_York:20250803T080000
DTEND;TZID=America/New_York:20250803T100000
DTSTAMP:20260424T063242
CREATED:20250505T070949Z
LAST-MODIFIED:20250511T220106Z
UID:10000966-1754208000-1754215200@www.tcrunning.org
SUMMARY:Sun Crosstown – Port St. Lucie
DESCRIPTION:Pace: Walk/Run\nDistance: All Distances\nLocation: Submarine Veterans Park (Floresta & Crosstown)
URL:https://www.tcrunning.org/event/crosstown-port-st-lucie-2/2025-08-03/
LOCATION:Submarine Veterans Park\, SE Floresta Dr & SE Crosstown Pkwy\, Port St. Lucie\, FL\, 34983\, United States
CATEGORIES:Weekly Running
END:VEVENT
BEGIN:VEVENT
DTSTART;TZID=America/New_York:20250727T080000
DTEND;TZID=America/New_York:20250727T100000
DTSTAMP:20260424T063242
CREATED:20250505T070949Z
LAST-MODIFIED:20250511T220106Z
UID:10000965-1753603200-1753610400@www.tcrunning.org
SUMMARY:Sun Crosstown – Port St. Lucie
DESCRIPTION:Pace: Walk/Run\nDistance: All Distances\nLocation: Submarine Veterans Park (Floresta & Crosstown)
URL:https://www.tcrunning.org/event/crosstown-port-st-lucie-2/2025-07-27/
LOCATION:Submarine Veterans Park\, SE Floresta Dr & SE Crosstown Pkwy\, Port St. Lucie\, FL\, 34983\, United States
CATEGORIES:Weekly Running
END:VEVENT
BEGIN:VEVENT
DTSTART;TZID=America/New_York:20250720T080000
DTEND;TZID=America/New_York:20250720T100000
DTSTAMP:20260424T063242
CREATED:20250505T070949Z
LAST-MODIFIED:20250511T220106Z
UID:10000964-1752998400-1753005600@www.tcrunning.org
SUMMARY:Sun Crosstown – Port St. Lucie
DESCRIPTION:Pace: Walk/Run\nDistance: All Distances\nLocation: Submarine Veterans Park (Floresta & Crosstown)
URL:https://www.tcrunning.org/event/crosstown-port-st-lucie-2/2025-07-20/
LOCATION:Submarine Veterans Park\, SE Floresta Dr & SE Crosstown Pkwy\, Port St. Lucie\, FL\, 34983\, United States
CATEGORIES:Weekly Running
END:VEVENT
BEGIN:VEVENT
DTSTART;TZID=America/New_York:20250713T080000
DTEND;TZID=America/New_York:20250713T100000
DTSTAMP:20260424T063242
CREATED:20250505T070949Z
LAST-MODIFIED:20250511T220106Z
UID:10000963-1752393600-1752400800@www.tcrunning.org
SUMMARY:Sun Crosstown – Port St. Lucie
DESCRIPTION:Pace: Walk/Run\nDistance: All Distances\nLocation: Submarine Veterans Park (Floresta & Crosstown)
URL:https://www.tcrunning.org/event/crosstown-port-st-lucie-2/2025-07-13/
LOCATION:Submarine Veterans Park\, SE Floresta Dr & SE Crosstown Pkwy\, Port St. Lucie\, FL\, 34983\, United States
CATEGORIES:Weekly Running
END:VEVENT
BEGIN:VEVENT
DTSTART;TZID=America/New_York:20250706T080000
DTEND;TZID=America/New_York:20250706T100000
DTSTAMP:20260424T063242
CREATED:20250505T070949Z
LAST-MODIFIED:20250511T220106Z
UID:10000962-1751788800-1751796000@www.tcrunning.org
SUMMARY:Sun Crosstown – Port St. Lucie
DESCRIPTION:Pace: Walk/Run\nDistance: All Distances\nLocation: Submarine Veterans Park (Floresta & Crosstown)
URL:https://www.tcrunning.org/event/crosstown-port-st-lucie-2/2025-07-06/
LOCATION:Submarine Veterans Park\, SE Floresta Dr & SE Crosstown Pkwy\, Port St. Lucie\, FL\, 34983\, United States
CATEGORIES:Weekly Running
END:VEVENT
BEGIN:VEVENT
DTSTART;TZID=America/New_York:20250629T080000
DTEND;TZID=America/New_York:20250629T100000
DTSTAMP:20260424T063242
CREATED:20250505T070949Z
LAST-MODIFIED:20250511T220106Z
UID:10000961-1751184000-1751191200@www.tcrunning.org
SUMMARY:Sun Crosstown – Port St. Lucie
DESCRIPTION:Pace: Walk/Run\nDistance: All Distances\nLocation: Submarine Veterans Park (Floresta & Crosstown)
URL:https://www.tcrunning.org/event/crosstown-port-st-lucie-2/2025-06-29/
LOCATION:Submarine Veterans Park\, SE Floresta Dr & SE Crosstown Pkwy\, Port St. Lucie\, FL\, 34983\, United States
CATEGORIES:Weekly Running
END:VEVENT
BEGIN:VEVENT
DTSTART;TZID=America/New_York:20250622T080000
DTEND;TZID=America/New_York:20250622T100000
DTSTAMP:20260424T063242
CREATED:20250505T070949Z
LAST-MODIFIED:20250511T220106Z
UID:10000960-1750579200-1750586400@www.tcrunning.org
SUMMARY:Sun Crosstown – Port St. Lucie
DESCRIPTION:Pace: Walk/Run\nDistance: All Distances\nLocation: Submarine Veterans Park (Floresta & Crosstown)
URL:https://www.tcrunning.org/event/crosstown-port-st-lucie-2/2025-06-22/
LOCATION:Submarine Veterans Park\, SE Floresta Dr & SE Crosstown Pkwy\, Port St. Lucie\, FL\, 34983\, United States
CATEGORIES:Weekly Running
END:VEVENT
BEGIN:VEVENT
DTSTART;TZID=America/New_York:20250615T080000
DTEND;TZID=America/New_York:20250615T100000
DTSTAMP:20260424T063242
CREATED:20250505T070949Z
LAST-MODIFIED:20250511T220106Z
UID:10000959-1749974400-1749981600@www.tcrunning.org
SUMMARY:Sun Crosstown – Port St. Lucie
DESCRIPTION:Pace: Walk/Run\nDistance: All Distances\nLocation: Submarine Veterans Park (Floresta & Crosstown)
URL:https://www.tcrunning.org/event/crosstown-port-st-lucie-2/2025-06-15/
LOCATION:Submarine Veterans Park\, SE Floresta Dr & SE Crosstown Pkwy\, Port St. Lucie\, FL\, 34983\, United States
CATEGORIES:Weekly Running
END:VEVENT
END:VCALENDAR