BEGIN:VCALENDAR
VERSION:2.0
PRODID:-//Treasure Coast Running - ECPv6.15.20//NONSGML v1.0//EN
CALSCALE:GREGORIAN
METHOD:PUBLISH
X-WR-CALNAME:Treasure Coast Running
X-ORIGINAL-URL:https://www.tcrunning.org
X-WR-CALDESC:Events for Treasure Coast Running
REFRESH-INTERVAL;VALUE=DURATION:PT1H
X-Robots-Tag:noindex
X-PUBLISHED-TTL:PT1H
BEGIN:VTIMEZONE
TZID:America/New_York
BEGIN:DAYLIGHT
TZOFFSETFROM:-0500
TZOFFSETTO:-0400
TZNAME:EDT
DTSTART:20240310T070000
END:DAYLIGHT
BEGIN:STANDARD
TZOFFSETFROM:-0400
TZOFFSETTO:-0500
TZNAME:EST
DTSTART:20241103T060000
END:STANDARD
BEGIN:DAYLIGHT
TZOFFSETFROM:-0500
TZOFFSETTO:-0400
TZNAME:EDT
DTSTART:20250309T070000
END:DAYLIGHT
BEGIN:STANDARD
TZOFFSETFROM:-0400
TZOFFSETTO:-0500
TZNAME:EST
DTSTART:20251102T060000
END:STANDARD
BEGIN:DAYLIGHT
TZOFFSETFROM:-0500
TZOFFSETTO:-0400
TZNAME:EDT
DTSTART:20260308T070000
END:DAYLIGHT
BEGIN:STANDARD
TZOFFSETFROM:-0400
TZOFFSETTO:-0500
TZNAME:EST
DTSTART:20261101T060000
END:STANDARD
END:VTIMEZONE
BEGIN:VEVENT
DTSTART;TZID=America/New_York:20251127T074500
DTEND;TZID=America/New_York:20251127T100000
DTSTAMP:20260423T161202
CREATED:20250707T130343Z
LAST-MODIFIED:20250707T130346Z
UID:10003255-1764229500-1764237600@www.tcrunning.org
SUMMARY:Pelican Yacht Club Turkey Trot 5K
DESCRIPTION:The 3rd Annual Pelican Yacht Club Turkey Trot 5K will take place on Thanksgiving morning\, 2025! Pelican Yacht Club is once again opening its doors to the public in this event to support Jaycee Park and our running community. Take this opportunity to  start your morning off right\, with a trot and toast (drinks and snacks to be provided) at the Pelican Yacht Club. During the race\, runners will experience the beauty of South Hutchinson Island as they trot through eclectic neighborhoods before getting to Ocean Boulevard. Runners will jog the jetty before heading back to the Pelican Yacht Club where the race will wrap up in plenty of time to get ready for Thanksgiving dinner! The Pelican Turkey Trot will not only rev up your appetite for Thanksgiving\, but will also provide support for our community’s beloved Jaycee Park! \n\n\n\n\n\nhttps://runsignup.com/Race/FL/FortPierce/PelicanYachtClubTurkeyTrot?fbclid=IwY2xjawLYo9JleHRuA2FlbQIxMQBicmlkETE1NmJDS3llNjc0SlVxQ1Z0AR4oPils4r98Y7Bt-0bHfKYEh3QqVWsem8YssSDGL6_gFALCjK4UKWJjQKZqNA_aem_iMng8ccB7EwP5Nyl5c-WkA\n\n\n\n\n\nAdditional race information can be found at https://gameonraceevents.com/.
URL:https://www.tcrunning.org/event/pelican-yacht-club-turkey-trot-5k/
LOCATION:Pelican Yacht Club\, 1120 Seaway Drive\, Fort Perce\, FL
CATEGORIES:Non Race Series Races
ATTACH;FMTTYPE=image/png:https://www.tcrunning.org/wp-content/uploads/2025/07/TurkeyTrot.png
END:VEVENT
END:VCALENDAR