BEGIN:VCALENDAR
VERSION:2.0
PRODID:-//Treasure Coast Running - ECPv6.15.20//NONSGML v1.0//EN
CALSCALE:GREGORIAN
METHOD:PUBLISH
X-ORIGINAL-URL:https://www.tcrunning.org
X-WR-CALDESC:Events for Treasure Coast Running
REFRESH-INTERVAL;VALUE=DURATION:PT1H
X-Robots-Tag:noindex
X-PUBLISHED-TTL:PT1H
BEGIN:VTIMEZONE
TZID:America/New_York
BEGIN:DAYLIGHT
TZOFFSETFROM:-0500
TZOFFSETTO:-0400
TZNAME:EDT
DTSTART:20290311T070000
END:DAYLIGHT
BEGIN:STANDARD
TZOFFSETFROM:-0400
TZOFFSETTO:-0500
TZNAME:EST
DTSTART:20291104T060000
END:STANDARD
BEGIN:DAYLIGHT
TZOFFSETFROM:-0500
TZOFFSETTO:-0400
TZNAME:EDT
DTSTART:20300310T070000
END:DAYLIGHT
BEGIN:STANDARD
TZOFFSETFROM:-0400
TZOFFSETTO:-0500
TZNAME:EST
DTSTART:20301103T060000
END:STANDARD
BEGIN:DAYLIGHT
TZOFFSETFROM:-0500
TZOFFSETTO:-0400
TZNAME:EDT
DTSTART:20310309T070000
END:DAYLIGHT
BEGIN:STANDARD
TZOFFSETFROM:-0400
TZOFFSETTO:-0500
TZNAME:EST
DTSTART:20311102T060000
END:STANDARD
BEGIN:DAYLIGHT
TZOFFSETFROM:-0500
TZOFFSETTO:-0400
TZNAME:EDT
DTSTART:20320314T070000
END:DAYLIGHT
BEGIN:STANDARD
TZOFFSETFROM:-0400
TZOFFSETTO:-0500
TZNAME:EST
DTSTART:20321107T060000
END:STANDARD
END:VTIMEZONE
BEGIN:VEVENT
DTSTART;TZID=America/New_York:20301119T183000
DTEND;TZID=America/New_York:20301119T203000
DTSTAMP:20260422T083830
CREATED:20260120T215749Z
LAST-MODIFIED:20260120T220324Z
UID:10004870-1921343400-1921350600@www.tcrunning.org
SUMMARY:Tues Sapp's Elite Run Club - PSL
DESCRIPTION:New Port St Lucie Run Group \nSapp’s Elite Run Club \nTuesdays at 6:30pm at Midflorida Event Center \n9221 SE Event Center\nPort St Lucie\, FL 34952
URL:https://www.tcrunning.org/event/tues-sapps-elite-run-club/2030-11-19/
LOCATION:Midflorida Event Center\, 9221 SE Event Center\, Port St Lucie\, FL
CATEGORIES:Weekly Running
END:VEVENT
BEGIN:VEVENT
DTSTART;TZID=America/New_York:20301126T183000
DTEND;TZID=America/New_York:20301126T203000
DTSTAMP:20260422T083830
CREATED:20260120T215749Z
LAST-MODIFIED:20260120T220324Z
UID:10004871-1921948200-1921955400@www.tcrunning.org
SUMMARY:Tues Sapp's Elite Run Club - PSL
DESCRIPTION:New Port St Lucie Run Group \nSapp’s Elite Run Club \nTuesdays at 6:30pm at Midflorida Event Center \n9221 SE Event Center\nPort St Lucie\, FL 34952
URL:https://www.tcrunning.org/event/tues-sapps-elite-run-club/2030-11-26/
LOCATION:Midflorida Event Center\, 9221 SE Event Center\, Port St Lucie\, FL
CATEGORIES:Weekly Running
END:VEVENT
BEGIN:VEVENT
DTSTART;TZID=America/New_York:20301203T183000
DTEND;TZID=America/New_York:20301203T203000
DTSTAMP:20260422T083830
CREATED:20260120T215749Z
LAST-MODIFIED:20260120T220324Z
UID:10004872-1922553000-1922560200@www.tcrunning.org
SUMMARY:Tues Sapp's Elite Run Club - PSL
DESCRIPTION:New Port St Lucie Run Group \nSapp’s Elite Run Club \nTuesdays at 6:30pm at Midflorida Event Center \n9221 SE Event Center\nPort St Lucie\, FL 34952
URL:https://www.tcrunning.org/event/tues-sapps-elite-run-club/2030-12-03/
LOCATION:Midflorida Event Center\, 9221 SE Event Center\, Port St Lucie\, FL
CATEGORIES:Weekly Running
END:VEVENT
BEGIN:VEVENT
DTSTART;TZID=America/New_York:20301210T183000
DTEND;TZID=America/New_York:20301210T203000
DTSTAMP:20260422T083830
CREATED:20260120T215749Z
LAST-MODIFIED:20260120T220324Z
UID:10004873-1923157800-1923165000@www.tcrunning.org
SUMMARY:Tues Sapp's Elite Run Club - PSL
DESCRIPTION:New Port St Lucie Run Group \nSapp’s Elite Run Club \nTuesdays at 6:30pm at Midflorida Event Center \n9221 SE Event Center\nPort St Lucie\, FL 34952
URL:https://www.tcrunning.org/event/tues-sapps-elite-run-club/2030-12-10/
LOCATION:Midflorida Event Center\, 9221 SE Event Center\, Port St Lucie\, FL
CATEGORIES:Weekly Running
END:VEVENT
BEGIN:VEVENT
DTSTART;TZID=America/New_York:20301217T183000
DTEND;TZID=America/New_York:20301217T203000
DTSTAMP:20260422T083830
CREATED:20260120T215749Z
LAST-MODIFIED:20260120T220324Z
UID:10004874-1923762600-1923769800@www.tcrunning.org
SUMMARY:Tues Sapp's Elite Run Club - PSL
DESCRIPTION:New Port St Lucie Run Group \nSapp’s Elite Run Club \nTuesdays at 6:30pm at Midflorida Event Center \n9221 SE Event Center\nPort St Lucie\, FL 34952
URL:https://www.tcrunning.org/event/tues-sapps-elite-run-club/2030-12-17/
LOCATION:Midflorida Event Center\, 9221 SE Event Center\, Port St Lucie\, FL
CATEGORIES:Weekly Running
END:VEVENT
BEGIN:VEVENT
DTSTART;TZID=America/New_York:20301224T183000
DTEND;TZID=America/New_York:20301224T203000
DTSTAMP:20260422T083830
CREATED:20260120T215749Z
LAST-MODIFIED:20260120T220324Z
UID:10004875-1924367400-1924374600@www.tcrunning.org
SUMMARY:Tues Sapp's Elite Run Club - PSL
DESCRIPTION:New Port St Lucie Run Group \nSapp’s Elite Run Club \nTuesdays at 6:30pm at Midflorida Event Center \n9221 SE Event Center\nPort St Lucie\, FL 34952
URL:https://www.tcrunning.org/event/tues-sapps-elite-run-club/2030-12-24/
LOCATION:Midflorida Event Center\, 9221 SE Event Center\, Port St Lucie\, FL
CATEGORIES:Weekly Running
END:VEVENT
BEGIN:VEVENT
DTSTART;TZID=America/New_York:20301231T183000
DTEND;TZID=America/New_York:20301231T203000
DTSTAMP:20260422T083830
CREATED:20260120T215749Z
LAST-MODIFIED:20260120T220324Z
UID:10004876-1924972200-1924979400@www.tcrunning.org
SUMMARY:Tues Sapp's Elite Run Club - PSL
DESCRIPTION:New Port St Lucie Run Group \nSapp’s Elite Run Club \nTuesdays at 6:30pm at Midflorida Event Center \n9221 SE Event Center\nPort St Lucie\, FL 34952
URL:https://www.tcrunning.org/event/tues-sapps-elite-run-club/2030-12-31/
LOCATION:Midflorida Event Center\, 9221 SE Event Center\, Port St Lucie\, FL
CATEGORIES:Weekly Running
END:VEVENT
BEGIN:VEVENT
DTSTART;TZID=America/New_York:20310107T183000
DTEND;TZID=America/New_York:20310107T203000
DTSTAMP:20260422T083830
CREATED:20260120T215749Z
LAST-MODIFIED:20260120T220324Z
UID:10004877-1925577000-1925584200@www.tcrunning.org
SUMMARY:Tues Sapp's Elite Run Club - PSL
DESCRIPTION:New Port St Lucie Run Group \nSapp’s Elite Run Club \nTuesdays at 6:30pm at Midflorida Event Center \n9221 SE Event Center\nPort St Lucie\, FL 34952
URL:https://www.tcrunning.org/event/tues-sapps-elite-run-club/2031-01-07/
LOCATION:Midflorida Event Center\, 9221 SE Event Center\, Port St Lucie\, FL
CATEGORIES:Weekly Running
END:VEVENT
BEGIN:VEVENT
DTSTART;TZID=America/New_York:20310114T183000
DTEND;TZID=America/New_York:20310114T203000
DTSTAMP:20260422T083830
CREATED:20260120T215749Z
LAST-MODIFIED:20260120T220324Z
UID:10004878-1926181800-1926189000@www.tcrunning.org
SUMMARY:Tues Sapp's Elite Run Club - PSL
DESCRIPTION:New Port St Lucie Run Group \nSapp’s Elite Run Club \nTuesdays at 6:30pm at Midflorida Event Center \n9221 SE Event Center\nPort St Lucie\, FL 34952
URL:https://www.tcrunning.org/event/tues-sapps-elite-run-club/2031-01-14/
LOCATION:Midflorida Event Center\, 9221 SE Event Center\, Port St Lucie\, FL
CATEGORIES:Weekly Running
END:VEVENT
END:VCALENDAR