BEGIN:VCALENDAR
VERSION:2.0
PRODID:-//Treasure Coast Running - ECPv6.15.20//NONSGML v1.0//EN
CALSCALE:GREGORIAN
METHOD:PUBLISH
X-WR-CALNAME:Treasure Coast Running
X-ORIGINAL-URL:https://www.tcrunning.org
X-WR-CALDESC:Events for Treasure Coast Running
REFRESH-INTERVAL;VALUE=DURATION:PT1H
X-Robots-Tag:noindex
X-PUBLISHED-TTL:PT1H
BEGIN:VTIMEZONE
TZID:America/New_York
BEGIN:DAYLIGHT
TZOFFSETFROM:-0500
TZOFFSETTO:-0400
TZNAME:EDT
DTSTART:20290311T070000
END:DAYLIGHT
BEGIN:STANDARD
TZOFFSETFROM:-0400
TZOFFSETTO:-0500
TZNAME:EST
DTSTART:20291104T060000
END:STANDARD
BEGIN:DAYLIGHT
TZOFFSETFROM:-0500
TZOFFSETTO:-0400
TZNAME:EDT
DTSTART:20300310T070000
END:DAYLIGHT
BEGIN:STANDARD
TZOFFSETFROM:-0400
TZOFFSETTO:-0500
TZNAME:EST
DTSTART:20301103T060000
END:STANDARD
BEGIN:DAYLIGHT
TZOFFSETFROM:-0500
TZOFFSETTO:-0400
TZNAME:EDT
DTSTART:20310309T070000
END:DAYLIGHT
BEGIN:STANDARD
TZOFFSETFROM:-0400
TZOFFSETTO:-0500
TZNAME:EST
DTSTART:20311102T060000
END:STANDARD
END:VTIMEZONE
BEGIN:VEVENT
DTSTART;TZID=America/New_York:20300430T183000
DTEND;TZID=America/New_York:20300430T203000
DTSTAMP:20260420T092124
CREATED:20260120T215749Z
LAST-MODIFIED:20260120T220324Z
UID:10004841-1903804200-1903811400@www.tcrunning.org
SUMMARY:Tues Sapp's Elite Run Club - PSL
DESCRIPTION:New Port St Lucie Run Group \nSapp’s Elite Run Club \nTuesdays at 6:30pm at Midflorida Event Center \n9221 SE Event Center\nPort St Lucie\, FL 34952
URL:https://www.tcrunning.org/event/tues-sapps-elite-run-club/2030-04-30/
LOCATION:Midflorida Event Center\, 9221 SE Event Center\, Port St Lucie\, FL
CATEGORIES:Weekly Running
END:VEVENT
BEGIN:VEVENT
DTSTART;TZID=America/New_York:20300507T183000
DTEND;TZID=America/New_York:20300507T203000
DTSTAMP:20260420T092124
CREATED:20260120T215749Z
LAST-MODIFIED:20260120T220324Z
UID:10004842-1904409000-1904416200@www.tcrunning.org
SUMMARY:Tues Sapp's Elite Run Club - PSL
DESCRIPTION:New Port St Lucie Run Group \nSapp’s Elite Run Club \nTuesdays at 6:30pm at Midflorida Event Center \n9221 SE Event Center\nPort St Lucie\, FL 34952
URL:https://www.tcrunning.org/event/tues-sapps-elite-run-club/2030-05-07/
LOCATION:Midflorida Event Center\, 9221 SE Event Center\, Port St Lucie\, FL
CATEGORIES:Weekly Running
END:VEVENT
BEGIN:VEVENT
DTSTART;TZID=America/New_York:20300514T183000
DTEND;TZID=America/New_York:20300514T203000
DTSTAMP:20260420T092124
CREATED:20260120T215749Z
LAST-MODIFIED:20260120T220324Z
UID:10004843-1905013800-1905021000@www.tcrunning.org
SUMMARY:Tues Sapp's Elite Run Club - PSL
DESCRIPTION:New Port St Lucie Run Group \nSapp’s Elite Run Club \nTuesdays at 6:30pm at Midflorida Event Center \n9221 SE Event Center\nPort St Lucie\, FL 34952
URL:https://www.tcrunning.org/event/tues-sapps-elite-run-club/2030-05-14/
LOCATION:Midflorida Event Center\, 9221 SE Event Center\, Port St Lucie\, FL
CATEGORIES:Weekly Running
END:VEVENT
BEGIN:VEVENT
DTSTART;TZID=America/New_York:20300521T183000
DTEND;TZID=America/New_York:20300521T203000
DTSTAMP:20260420T092124
CREATED:20260120T215749Z
LAST-MODIFIED:20260120T220324Z
UID:10004844-1905618600-1905625800@www.tcrunning.org
SUMMARY:Tues Sapp's Elite Run Club - PSL
DESCRIPTION:New Port St Lucie Run Group \nSapp’s Elite Run Club \nTuesdays at 6:30pm at Midflorida Event Center \n9221 SE Event Center\nPort St Lucie\, FL 34952
URL:https://www.tcrunning.org/event/tues-sapps-elite-run-club/2030-05-21/
LOCATION:Midflorida Event Center\, 9221 SE Event Center\, Port St Lucie\, FL
CATEGORIES:Weekly Running
END:VEVENT
BEGIN:VEVENT
DTSTART;TZID=America/New_York:20300528T183000
DTEND;TZID=America/New_York:20300528T203000
DTSTAMP:20260420T092124
CREATED:20260120T215749Z
LAST-MODIFIED:20260120T220324Z
UID:10004845-1906223400-1906230600@www.tcrunning.org
SUMMARY:Tues Sapp's Elite Run Club - PSL
DESCRIPTION:New Port St Lucie Run Group \nSapp’s Elite Run Club \nTuesdays at 6:30pm at Midflorida Event Center \n9221 SE Event Center\nPort St Lucie\, FL 34952
URL:https://www.tcrunning.org/event/tues-sapps-elite-run-club/2030-05-28/
LOCATION:Midflorida Event Center\, 9221 SE Event Center\, Port St Lucie\, FL
CATEGORIES:Weekly Running
END:VEVENT
BEGIN:VEVENT
DTSTART;TZID=America/New_York:20300604T183000
DTEND;TZID=America/New_York:20300604T203000
DTSTAMP:20260420T092124
CREATED:20260120T215749Z
LAST-MODIFIED:20260120T220324Z
UID:10004846-1906828200-1906835400@www.tcrunning.org
SUMMARY:Tues Sapp's Elite Run Club - PSL
DESCRIPTION:New Port St Lucie Run Group \nSapp’s Elite Run Club \nTuesdays at 6:30pm at Midflorida Event Center \n9221 SE Event Center\nPort St Lucie\, FL 34952
URL:https://www.tcrunning.org/event/tues-sapps-elite-run-club/2030-06-04/
LOCATION:Midflorida Event Center\, 9221 SE Event Center\, Port St Lucie\, FL
CATEGORIES:Weekly Running
END:VEVENT
BEGIN:VEVENT
DTSTART;TZID=America/New_York:20300611T183000
DTEND;TZID=America/New_York:20300611T203000
DTSTAMP:20260420T092124
CREATED:20260120T215749Z
LAST-MODIFIED:20260120T220324Z
UID:10004847-1907433000-1907440200@www.tcrunning.org
SUMMARY:Tues Sapp's Elite Run Club - PSL
DESCRIPTION:New Port St Lucie Run Group \nSapp’s Elite Run Club \nTuesdays at 6:30pm at Midflorida Event Center \n9221 SE Event Center\nPort St Lucie\, FL 34952
URL:https://www.tcrunning.org/event/tues-sapps-elite-run-club/2030-06-11/
LOCATION:Midflorida Event Center\, 9221 SE Event Center\, Port St Lucie\, FL
CATEGORIES:Weekly Running
END:VEVENT
BEGIN:VEVENT
DTSTART;TZID=America/New_York:20300618T183000
DTEND;TZID=America/New_York:20300618T203000
DTSTAMP:20260420T092124
CREATED:20260120T215749Z
LAST-MODIFIED:20260120T220324Z
UID:10004848-1908037800-1908045000@www.tcrunning.org
SUMMARY:Tues Sapp's Elite Run Club - PSL
DESCRIPTION:New Port St Lucie Run Group \nSapp’s Elite Run Club \nTuesdays at 6:30pm at Midflorida Event Center \n9221 SE Event Center\nPort St Lucie\, FL 34952
URL:https://www.tcrunning.org/event/tues-sapps-elite-run-club/2030-06-18/
LOCATION:Midflorida Event Center\, 9221 SE Event Center\, Port St Lucie\, FL
CATEGORIES:Weekly Running
END:VEVENT
BEGIN:VEVENT
DTSTART;TZID=America/New_York:20300625T183000
DTEND;TZID=America/New_York:20300625T203000
DTSTAMP:20260420T092124
CREATED:20260120T215749Z
LAST-MODIFIED:20260120T220324Z
UID:10004849-1908642600-1908649800@www.tcrunning.org
SUMMARY:Tues Sapp's Elite Run Club - PSL
DESCRIPTION:New Port St Lucie Run Group \nSapp’s Elite Run Club \nTuesdays at 6:30pm at Midflorida Event Center \n9221 SE Event Center\nPort St Lucie\, FL 34952
URL:https://www.tcrunning.org/event/tues-sapps-elite-run-club/2030-06-25/
LOCATION:Midflorida Event Center\, 9221 SE Event Center\, Port St Lucie\, FL
CATEGORIES:Weekly Running
END:VEVENT
BEGIN:VEVENT
DTSTART;TZID=America/New_York:20300702T183000
DTEND;TZID=America/New_York:20300702T203000
DTSTAMP:20260420T092124
CREATED:20260120T215749Z
LAST-MODIFIED:20260120T220324Z
UID:10004850-1909247400-1909254600@www.tcrunning.org
SUMMARY:Tues Sapp's Elite Run Club - PSL
DESCRIPTION:New Port St Lucie Run Group \nSapp’s Elite Run Club \nTuesdays at 6:30pm at Midflorida Event Center \n9221 SE Event Center\nPort St Lucie\, FL 34952
URL:https://www.tcrunning.org/event/tues-sapps-elite-run-club/2030-07-02/
LOCATION:Midflorida Event Center\, 9221 SE Event Center\, Port St Lucie\, FL
CATEGORIES:Weekly Running
END:VEVENT
BEGIN:VEVENT
DTSTART;TZID=America/New_York:20300709T183000
DTEND;TZID=America/New_York:20300709T203000
DTSTAMP:20260420T092124
CREATED:20260120T215749Z
LAST-MODIFIED:20260120T220324Z
UID:10004851-1909852200-1909859400@www.tcrunning.org
SUMMARY:Tues Sapp's Elite Run Club - PSL
DESCRIPTION:New Port St Lucie Run Group \nSapp’s Elite Run Club \nTuesdays at 6:30pm at Midflorida Event Center \n9221 SE Event Center\nPort St Lucie\, FL 34952
URL:https://www.tcrunning.org/event/tues-sapps-elite-run-club/2030-07-09/
LOCATION:Midflorida Event Center\, 9221 SE Event Center\, Port St Lucie\, FL
CATEGORIES:Weekly Running
END:VEVENT
BEGIN:VEVENT
DTSTART;TZID=America/New_York:20300716T183000
DTEND;TZID=America/New_York:20300716T203000
DTSTAMP:20260420T092124
CREATED:20260120T215749Z
LAST-MODIFIED:20260120T220324Z
UID:10004852-1910457000-1910464200@www.tcrunning.org
SUMMARY:Tues Sapp's Elite Run Club - PSL
DESCRIPTION:New Port St Lucie Run Group \nSapp’s Elite Run Club \nTuesdays at 6:30pm at Midflorida Event Center \n9221 SE Event Center\nPort St Lucie\, FL 34952
URL:https://www.tcrunning.org/event/tues-sapps-elite-run-club/2030-07-16/
LOCATION:Midflorida Event Center\, 9221 SE Event Center\, Port St Lucie\, FL
CATEGORIES:Weekly Running
END:VEVENT
BEGIN:VEVENT
DTSTART;TZID=America/New_York:20300723T183000
DTEND;TZID=America/New_York:20300723T203000
DTSTAMP:20260420T092124
CREATED:20260120T215749Z
LAST-MODIFIED:20260120T220324Z
UID:10004853-1911061800-1911069000@www.tcrunning.org
SUMMARY:Tues Sapp's Elite Run Club - PSL
DESCRIPTION:New Port St Lucie Run Group \nSapp’s Elite Run Club \nTuesdays at 6:30pm at Midflorida Event Center \n9221 SE Event Center\nPort St Lucie\, FL 34952
URL:https://www.tcrunning.org/event/tues-sapps-elite-run-club/2030-07-23/
LOCATION:Midflorida Event Center\, 9221 SE Event Center\, Port St Lucie\, FL
CATEGORIES:Weekly Running
END:VEVENT
BEGIN:VEVENT
DTSTART;TZID=America/New_York:20300730T183000
DTEND;TZID=America/New_York:20300730T203000
DTSTAMP:20260420T092124
CREATED:20260120T215749Z
LAST-MODIFIED:20260120T220324Z
UID:10004854-1911666600-1911673800@www.tcrunning.org
SUMMARY:Tues Sapp's Elite Run Club - PSL
DESCRIPTION:New Port St Lucie Run Group \nSapp’s Elite Run Club \nTuesdays at 6:30pm at Midflorida Event Center \n9221 SE Event Center\nPort St Lucie\, FL 34952
URL:https://www.tcrunning.org/event/tues-sapps-elite-run-club/2030-07-30/
LOCATION:Midflorida Event Center\, 9221 SE Event Center\, Port St Lucie\, FL
CATEGORIES:Weekly Running
END:VEVENT
BEGIN:VEVENT
DTSTART;TZID=America/New_York:20300806T183000
DTEND;TZID=America/New_York:20300806T203000
DTSTAMP:20260420T092124
CREATED:20260120T215749Z
LAST-MODIFIED:20260120T220324Z
UID:10004855-1912271400-1912278600@www.tcrunning.org
SUMMARY:Tues Sapp's Elite Run Club - PSL
DESCRIPTION:New Port St Lucie Run Group \nSapp’s Elite Run Club \nTuesdays at 6:30pm at Midflorida Event Center \n9221 SE Event Center\nPort St Lucie\, FL 34952
URL:https://www.tcrunning.org/event/tues-sapps-elite-run-club/2030-08-06/
LOCATION:Midflorida Event Center\, 9221 SE Event Center\, Port St Lucie\, FL
CATEGORIES:Weekly Running
END:VEVENT
BEGIN:VEVENT
DTSTART;TZID=America/New_York:20300813T183000
DTEND;TZID=America/New_York:20300813T203000
DTSTAMP:20260420T092124
CREATED:20260120T215749Z
LAST-MODIFIED:20260120T220324Z
UID:10004856-1912876200-1912883400@www.tcrunning.org
SUMMARY:Tues Sapp's Elite Run Club - PSL
DESCRIPTION:New Port St Lucie Run Group \nSapp’s Elite Run Club \nTuesdays at 6:30pm at Midflorida Event Center \n9221 SE Event Center\nPort St Lucie\, FL 34952
URL:https://www.tcrunning.org/event/tues-sapps-elite-run-club/2030-08-13/
LOCATION:Midflorida Event Center\, 9221 SE Event Center\, Port St Lucie\, FL
CATEGORIES:Weekly Running
END:VEVENT
BEGIN:VEVENT
DTSTART;TZID=America/New_York:20300820T183000
DTEND;TZID=America/New_York:20300820T203000
DTSTAMP:20260420T092124
CREATED:20260120T215749Z
LAST-MODIFIED:20260120T220324Z
UID:10004857-1913481000-1913488200@www.tcrunning.org
SUMMARY:Tues Sapp's Elite Run Club - PSL
DESCRIPTION:New Port St Lucie Run Group \nSapp’s Elite Run Club \nTuesdays at 6:30pm at Midflorida Event Center \n9221 SE Event Center\nPort St Lucie\, FL 34952
URL:https://www.tcrunning.org/event/tues-sapps-elite-run-club/2030-08-20/
LOCATION:Midflorida Event Center\, 9221 SE Event Center\, Port St Lucie\, FL
CATEGORIES:Weekly Running
END:VEVENT
BEGIN:VEVENT
DTSTART;TZID=America/New_York:20300827T183000
DTEND;TZID=America/New_York:20300827T203000
DTSTAMP:20260420T092124
CREATED:20260120T215749Z
LAST-MODIFIED:20260120T220324Z
UID:10004858-1914085800-1914093000@www.tcrunning.org
SUMMARY:Tues Sapp's Elite Run Club - PSL
DESCRIPTION:New Port St Lucie Run Group \nSapp’s Elite Run Club \nTuesdays at 6:30pm at Midflorida Event Center \n9221 SE Event Center\nPort St Lucie\, FL 34952
URL:https://www.tcrunning.org/event/tues-sapps-elite-run-club/2030-08-27/
LOCATION:Midflorida Event Center\, 9221 SE Event Center\, Port St Lucie\, FL
CATEGORIES:Weekly Running
END:VEVENT
BEGIN:VEVENT
DTSTART;TZID=America/New_York:20300903T183000
DTEND;TZID=America/New_York:20300903T203000
DTSTAMP:20260420T092124
CREATED:20260120T215749Z
LAST-MODIFIED:20260120T220324Z
UID:10004859-1914690600-1914697800@www.tcrunning.org
SUMMARY:Tues Sapp's Elite Run Club - PSL
DESCRIPTION:New Port St Lucie Run Group \nSapp’s Elite Run Club \nTuesdays at 6:30pm at Midflorida Event Center \n9221 SE Event Center\nPort St Lucie\, FL 34952
URL:https://www.tcrunning.org/event/tues-sapps-elite-run-club/2030-09-03/
LOCATION:Midflorida Event Center\, 9221 SE Event Center\, Port St Lucie\, FL
CATEGORIES:Weekly Running
END:VEVENT
BEGIN:VEVENT
DTSTART;TZID=America/New_York:20300910T183000
DTEND;TZID=America/New_York:20300910T203000
DTSTAMP:20260420T092124
CREATED:20260120T215749Z
LAST-MODIFIED:20260120T220324Z
UID:10004860-1915295400-1915302600@www.tcrunning.org
SUMMARY:Tues Sapp's Elite Run Club - PSL
DESCRIPTION:New Port St Lucie Run Group \nSapp’s Elite Run Club \nTuesdays at 6:30pm at Midflorida Event Center \n9221 SE Event Center\nPort St Lucie\, FL 34952
URL:https://www.tcrunning.org/event/tues-sapps-elite-run-club/2030-09-10/
LOCATION:Midflorida Event Center\, 9221 SE Event Center\, Port St Lucie\, FL
CATEGORIES:Weekly Running
END:VEVENT
BEGIN:VEVENT
DTSTART;TZID=America/New_York:20300917T183000
DTEND;TZID=America/New_York:20300917T203000
DTSTAMP:20260420T092124
CREATED:20260120T215749Z
LAST-MODIFIED:20260120T220324Z
UID:10004861-1915900200-1915907400@www.tcrunning.org
SUMMARY:Tues Sapp's Elite Run Club - PSL
DESCRIPTION:New Port St Lucie Run Group \nSapp’s Elite Run Club \nTuesdays at 6:30pm at Midflorida Event Center \n9221 SE Event Center\nPort St Lucie\, FL 34952
URL:https://www.tcrunning.org/event/tues-sapps-elite-run-club/2030-09-17/
LOCATION:Midflorida Event Center\, 9221 SE Event Center\, Port St Lucie\, FL
CATEGORIES:Weekly Running
END:VEVENT
BEGIN:VEVENT
DTSTART;TZID=America/New_York:20300924T183000
DTEND;TZID=America/New_York:20300924T203000
DTSTAMP:20260420T092124
CREATED:20260120T215749Z
LAST-MODIFIED:20260120T220324Z
UID:10004862-1916505000-1916512200@www.tcrunning.org
SUMMARY:Tues Sapp's Elite Run Club - PSL
DESCRIPTION:New Port St Lucie Run Group \nSapp’s Elite Run Club \nTuesdays at 6:30pm at Midflorida Event Center \n9221 SE Event Center\nPort St Lucie\, FL 34952
URL:https://www.tcrunning.org/event/tues-sapps-elite-run-club/2030-09-24/
LOCATION:Midflorida Event Center\, 9221 SE Event Center\, Port St Lucie\, FL
CATEGORIES:Weekly Running
END:VEVENT
BEGIN:VEVENT
DTSTART;TZID=America/New_York:20301001T183000
DTEND;TZID=America/New_York:20301001T203000
DTSTAMP:20260420T092124
CREATED:20260120T215749Z
LAST-MODIFIED:20260120T220324Z
UID:10004863-1917109800-1917117000@www.tcrunning.org
SUMMARY:Tues Sapp's Elite Run Club - PSL
DESCRIPTION:New Port St Lucie Run Group \nSapp’s Elite Run Club \nTuesdays at 6:30pm at Midflorida Event Center \n9221 SE Event Center\nPort St Lucie\, FL 34952
URL:https://www.tcrunning.org/event/tues-sapps-elite-run-club/2030-10-01/
LOCATION:Midflorida Event Center\, 9221 SE Event Center\, Port St Lucie\, FL
CATEGORIES:Weekly Running
END:VEVENT
BEGIN:VEVENT
DTSTART;TZID=America/New_York:20301008T183000
DTEND;TZID=America/New_York:20301008T203000
DTSTAMP:20260420T092124
CREATED:20260120T215749Z
LAST-MODIFIED:20260120T220324Z
UID:10004864-1917714600-1917721800@www.tcrunning.org
SUMMARY:Tues Sapp's Elite Run Club - PSL
DESCRIPTION:New Port St Lucie Run Group \nSapp’s Elite Run Club \nTuesdays at 6:30pm at Midflorida Event Center \n9221 SE Event Center\nPort St Lucie\, FL 34952
URL:https://www.tcrunning.org/event/tues-sapps-elite-run-club/2030-10-08/
LOCATION:Midflorida Event Center\, 9221 SE Event Center\, Port St Lucie\, FL
CATEGORIES:Weekly Running
END:VEVENT
BEGIN:VEVENT
DTSTART;TZID=America/New_York:20301015T183000
DTEND;TZID=America/New_York:20301015T203000
DTSTAMP:20260420T092124
CREATED:20260120T215749Z
LAST-MODIFIED:20260120T220324Z
UID:10004865-1918319400-1918326600@www.tcrunning.org
SUMMARY:Tues Sapp's Elite Run Club - PSL
DESCRIPTION:New Port St Lucie Run Group \nSapp’s Elite Run Club \nTuesdays at 6:30pm at Midflorida Event Center \n9221 SE Event Center\nPort St Lucie\, FL 34952
URL:https://www.tcrunning.org/event/tues-sapps-elite-run-club/2030-10-15/
LOCATION:Midflorida Event Center\, 9221 SE Event Center\, Port St Lucie\, FL
CATEGORIES:Weekly Running
END:VEVENT
BEGIN:VEVENT
DTSTART;TZID=America/New_York:20301022T183000
DTEND;TZID=America/New_York:20301022T203000
DTSTAMP:20260420T092124
CREATED:20260120T215749Z
LAST-MODIFIED:20260120T220324Z
UID:10004866-1918924200-1918931400@www.tcrunning.org
SUMMARY:Tues Sapp's Elite Run Club - PSL
DESCRIPTION:New Port St Lucie Run Group \nSapp’s Elite Run Club \nTuesdays at 6:30pm at Midflorida Event Center \n9221 SE Event Center\nPort St Lucie\, FL 34952
URL:https://www.tcrunning.org/event/tues-sapps-elite-run-club/2030-10-22/
LOCATION:Midflorida Event Center\, 9221 SE Event Center\, Port St Lucie\, FL
CATEGORIES:Weekly Running
END:VEVENT
BEGIN:VEVENT
DTSTART;TZID=America/New_York:20301029T183000
DTEND;TZID=America/New_York:20301029T203000
DTSTAMP:20260420T092124
CREATED:20260120T215749Z
LAST-MODIFIED:20260120T220324Z
UID:10004867-1919529000-1919536200@www.tcrunning.org
SUMMARY:Tues Sapp's Elite Run Club - PSL
DESCRIPTION:New Port St Lucie Run Group \nSapp’s Elite Run Club \nTuesdays at 6:30pm at Midflorida Event Center \n9221 SE Event Center\nPort St Lucie\, FL 34952
URL:https://www.tcrunning.org/event/tues-sapps-elite-run-club/2030-10-29/
LOCATION:Midflorida Event Center\, 9221 SE Event Center\, Port St Lucie\, FL
CATEGORIES:Weekly Running
END:VEVENT
BEGIN:VEVENT
DTSTART;TZID=America/New_York:20301105T183000
DTEND;TZID=America/New_York:20301105T203000
DTSTAMP:20260420T092124
CREATED:20260120T215749Z
LAST-MODIFIED:20260120T220324Z
UID:10004868-1920133800-1920141000@www.tcrunning.org
SUMMARY:Tues Sapp's Elite Run Club - PSL
DESCRIPTION:New Port St Lucie Run Group \nSapp’s Elite Run Club \nTuesdays at 6:30pm at Midflorida Event Center \n9221 SE Event Center\nPort St Lucie\, FL 34952
URL:https://www.tcrunning.org/event/tues-sapps-elite-run-club/2030-11-05/
LOCATION:Midflorida Event Center\, 9221 SE Event Center\, Port St Lucie\, FL
CATEGORIES:Weekly Running
END:VEVENT
BEGIN:VEVENT
DTSTART;TZID=America/New_York:20301112T183000
DTEND;TZID=America/New_York:20301112T203000
DTSTAMP:20260420T092124
CREATED:20260120T215749Z
LAST-MODIFIED:20260120T220324Z
UID:10004869-1920738600-1920745800@www.tcrunning.org
SUMMARY:Tues Sapp's Elite Run Club - PSL
DESCRIPTION:New Port St Lucie Run Group \nSapp’s Elite Run Club \nTuesdays at 6:30pm at Midflorida Event Center \n9221 SE Event Center\nPort St Lucie\, FL 34952
URL:https://www.tcrunning.org/event/tues-sapps-elite-run-club/2030-11-12/
LOCATION:Midflorida Event Center\, 9221 SE Event Center\, Port St Lucie\, FL
CATEGORIES:Weekly Running
END:VEVENT
BEGIN:VEVENT
DTSTART;TZID=America/New_York:20301119T183000
DTEND;TZID=America/New_York:20301119T203000
DTSTAMP:20260420T092124
CREATED:20260120T215749Z
LAST-MODIFIED:20260120T220324Z
UID:10004870-1921343400-1921350600@www.tcrunning.org
SUMMARY:Tues Sapp's Elite Run Club - PSL
DESCRIPTION:New Port St Lucie Run Group \nSapp’s Elite Run Club \nTuesdays at 6:30pm at Midflorida Event Center \n9221 SE Event Center\nPort St Lucie\, FL 34952
URL:https://www.tcrunning.org/event/tues-sapps-elite-run-club/2030-11-19/
LOCATION:Midflorida Event Center\, 9221 SE Event Center\, Port St Lucie\, FL
CATEGORIES:Weekly Running
END:VEVENT
END:VCALENDAR