BEGIN:VCALENDAR
VERSION:2.0
PRODID:-//Treasure Coast Running - ECPv6.15.20//NONSGML v1.0//EN
CALSCALE:GREGORIAN
METHOD:PUBLISH
X-WR-CALNAME:Treasure Coast Running
X-ORIGINAL-URL:https://www.tcrunning.org
X-WR-CALDESC:Events for Treasure Coast Running
REFRESH-INTERVAL;VALUE=DURATION:PT1H
X-Robots-Tag:noindex
X-PUBLISHED-TTL:PT1H
BEGIN:VTIMEZONE
TZID:America/New_York
BEGIN:DAYLIGHT
TZOFFSETFROM:-0500
TZOFFSETTO:-0400
TZNAME:EDT
DTSTART:20280312T070000
END:DAYLIGHT
BEGIN:STANDARD
TZOFFSETFROM:-0400
TZOFFSETTO:-0500
TZNAME:EST
DTSTART:20281105T060000
END:STANDARD
BEGIN:DAYLIGHT
TZOFFSETFROM:-0500
TZOFFSETTO:-0400
TZNAME:EDT
DTSTART:20290311T070000
END:DAYLIGHT
BEGIN:STANDARD
TZOFFSETFROM:-0400
TZOFFSETTO:-0500
TZNAME:EST
DTSTART:20291104T060000
END:STANDARD
BEGIN:DAYLIGHT
TZOFFSETFROM:-0500
TZOFFSETTO:-0400
TZNAME:EDT
DTSTART:20300310T070000
END:DAYLIGHT
BEGIN:STANDARD
TZOFFSETFROM:-0400
TZOFFSETTO:-0500
TZNAME:EST
DTSTART:20301103T060000
END:STANDARD
BEGIN:DAYLIGHT
TZOFFSETFROM:-0500
TZOFFSETTO:-0400
TZNAME:EDT
DTSTART:20310309T070000
END:DAYLIGHT
BEGIN:STANDARD
TZOFFSETFROM:-0400
TZOFFSETTO:-0500
TZNAME:EST
DTSTART:20311102T060000
END:STANDARD
END:VTIMEZONE
BEGIN:VEVENT
DTSTART;TZID=America/New_York:20291016T183000
DTEND;TZID=America/New_York:20291016T203000
DTSTAMP:20260420T053709
CREATED:20260120T215749Z
LAST-MODIFIED:20260120T220324Z
UID:10004813-1886869800-1886877000@www.tcrunning.org
SUMMARY:Tues Sapp's Elite Run Club - PSL
DESCRIPTION:New Port St Lucie Run Group \nSapp’s Elite Run Club \nTuesdays at 6:30pm at Midflorida Event Center \n9221 SE Event Center\nPort St Lucie\, FL 34952
URL:https://www.tcrunning.org/event/tues-sapps-elite-run-club/2029-10-16/
LOCATION:Midflorida Event Center\, 9221 SE Event Center\, Port St Lucie\, FL
CATEGORIES:Weekly Running
END:VEVENT
BEGIN:VEVENT
DTSTART;TZID=America/New_York:20291023T183000
DTEND;TZID=America/New_York:20291023T203000
DTSTAMP:20260420T053709
CREATED:20260120T215749Z
LAST-MODIFIED:20260120T220324Z
UID:10004814-1887474600-1887481800@www.tcrunning.org
SUMMARY:Tues Sapp's Elite Run Club - PSL
DESCRIPTION:New Port St Lucie Run Group \nSapp’s Elite Run Club \nTuesdays at 6:30pm at Midflorida Event Center \n9221 SE Event Center\nPort St Lucie\, FL 34952
URL:https://www.tcrunning.org/event/tues-sapps-elite-run-club/2029-10-23/
LOCATION:Midflorida Event Center\, 9221 SE Event Center\, Port St Lucie\, FL
CATEGORIES:Weekly Running
END:VEVENT
BEGIN:VEVENT
DTSTART;TZID=America/New_York:20291030T183000
DTEND;TZID=America/New_York:20291030T203000
DTSTAMP:20260420T053709
CREATED:20260120T215749Z
LAST-MODIFIED:20260120T220324Z
UID:10004815-1888079400-1888086600@www.tcrunning.org
SUMMARY:Tues Sapp's Elite Run Club - PSL
DESCRIPTION:New Port St Lucie Run Group \nSapp’s Elite Run Club \nTuesdays at 6:30pm at Midflorida Event Center \n9221 SE Event Center\nPort St Lucie\, FL 34952
URL:https://www.tcrunning.org/event/tues-sapps-elite-run-club/2029-10-30/
LOCATION:Midflorida Event Center\, 9221 SE Event Center\, Port St Lucie\, FL
CATEGORIES:Weekly Running
END:VEVENT
BEGIN:VEVENT
DTSTART;TZID=America/New_York:20291106T183000
DTEND;TZID=America/New_York:20291106T203000
DTSTAMP:20260420T053709
CREATED:20260120T215749Z
LAST-MODIFIED:20260120T220324Z
UID:10004816-1888684200-1888691400@www.tcrunning.org
SUMMARY:Tues Sapp's Elite Run Club - PSL
DESCRIPTION:New Port St Lucie Run Group \nSapp’s Elite Run Club \nTuesdays at 6:30pm at Midflorida Event Center \n9221 SE Event Center\nPort St Lucie\, FL 34952
URL:https://www.tcrunning.org/event/tues-sapps-elite-run-club/2029-11-06/
LOCATION:Midflorida Event Center\, 9221 SE Event Center\, Port St Lucie\, FL
CATEGORIES:Weekly Running
END:VEVENT
BEGIN:VEVENT
DTSTART;TZID=America/New_York:20291113T183000
DTEND;TZID=America/New_York:20291113T203000
DTSTAMP:20260420T053709
CREATED:20260120T215749Z
LAST-MODIFIED:20260120T220324Z
UID:10004817-1889289000-1889296200@www.tcrunning.org
SUMMARY:Tues Sapp's Elite Run Club - PSL
DESCRIPTION:New Port St Lucie Run Group \nSapp’s Elite Run Club \nTuesdays at 6:30pm at Midflorida Event Center \n9221 SE Event Center\nPort St Lucie\, FL 34952
URL:https://www.tcrunning.org/event/tues-sapps-elite-run-club/2029-11-13/
LOCATION:Midflorida Event Center\, 9221 SE Event Center\, Port St Lucie\, FL
CATEGORIES:Weekly Running
END:VEVENT
BEGIN:VEVENT
DTSTART;TZID=America/New_York:20291120T183000
DTEND;TZID=America/New_York:20291120T203000
DTSTAMP:20260420T053709
CREATED:20260120T215749Z
LAST-MODIFIED:20260120T220324Z
UID:10004818-1889893800-1889901000@www.tcrunning.org
SUMMARY:Tues Sapp's Elite Run Club - PSL
DESCRIPTION:New Port St Lucie Run Group \nSapp’s Elite Run Club \nTuesdays at 6:30pm at Midflorida Event Center \n9221 SE Event Center\nPort St Lucie\, FL 34952
URL:https://www.tcrunning.org/event/tues-sapps-elite-run-club/2029-11-20/
LOCATION:Midflorida Event Center\, 9221 SE Event Center\, Port St Lucie\, FL
CATEGORIES:Weekly Running
END:VEVENT
BEGIN:VEVENT
DTSTART;TZID=America/New_York:20291127T183000
DTEND;TZID=America/New_York:20291127T203000
DTSTAMP:20260420T053709
CREATED:20260120T215749Z
LAST-MODIFIED:20260120T220324Z
UID:10004819-1890498600-1890505800@www.tcrunning.org
SUMMARY:Tues Sapp's Elite Run Club - PSL
DESCRIPTION:New Port St Lucie Run Group \nSapp’s Elite Run Club \nTuesdays at 6:30pm at Midflorida Event Center \n9221 SE Event Center\nPort St Lucie\, FL 34952
URL:https://www.tcrunning.org/event/tues-sapps-elite-run-club/2029-11-27/
LOCATION:Midflorida Event Center\, 9221 SE Event Center\, Port St Lucie\, FL
CATEGORIES:Weekly Running
END:VEVENT
BEGIN:VEVENT
DTSTART;TZID=America/New_York:20291204T183000
DTEND;TZID=America/New_York:20291204T203000
DTSTAMP:20260420T053709
CREATED:20260120T215749Z
LAST-MODIFIED:20260120T220324Z
UID:10004820-1891103400-1891110600@www.tcrunning.org
SUMMARY:Tues Sapp's Elite Run Club - PSL
DESCRIPTION:New Port St Lucie Run Group \nSapp’s Elite Run Club \nTuesdays at 6:30pm at Midflorida Event Center \n9221 SE Event Center\nPort St Lucie\, FL 34952
URL:https://www.tcrunning.org/event/tues-sapps-elite-run-club/2029-12-04/
LOCATION:Midflorida Event Center\, 9221 SE Event Center\, Port St Lucie\, FL
CATEGORIES:Weekly Running
END:VEVENT
BEGIN:VEVENT
DTSTART;TZID=America/New_York:20291211T183000
DTEND;TZID=America/New_York:20291211T203000
DTSTAMP:20260420T053709
CREATED:20260120T215749Z
LAST-MODIFIED:20260120T220324Z
UID:10004821-1891708200-1891715400@www.tcrunning.org
SUMMARY:Tues Sapp's Elite Run Club - PSL
DESCRIPTION:New Port St Lucie Run Group \nSapp’s Elite Run Club \nTuesdays at 6:30pm at Midflorida Event Center \n9221 SE Event Center\nPort St Lucie\, FL 34952
URL:https://www.tcrunning.org/event/tues-sapps-elite-run-club/2029-12-11/
LOCATION:Midflorida Event Center\, 9221 SE Event Center\, Port St Lucie\, FL
CATEGORIES:Weekly Running
END:VEVENT
BEGIN:VEVENT
DTSTART;TZID=America/New_York:20291218T183000
DTEND;TZID=America/New_York:20291218T203000
DTSTAMP:20260420T053709
CREATED:20260120T215749Z
LAST-MODIFIED:20260120T220324Z
UID:10004822-1892313000-1892320200@www.tcrunning.org
SUMMARY:Tues Sapp's Elite Run Club - PSL
DESCRIPTION:New Port St Lucie Run Group \nSapp’s Elite Run Club \nTuesdays at 6:30pm at Midflorida Event Center \n9221 SE Event Center\nPort St Lucie\, FL 34952
URL:https://www.tcrunning.org/event/tues-sapps-elite-run-club/2029-12-18/
LOCATION:Midflorida Event Center\, 9221 SE Event Center\, Port St Lucie\, FL
CATEGORIES:Weekly Running
END:VEVENT
BEGIN:VEVENT
DTSTART;TZID=America/New_York:20291225T183000
DTEND;TZID=America/New_York:20291225T203000
DTSTAMP:20260420T053709
CREATED:20260120T215749Z
LAST-MODIFIED:20260120T220324Z
UID:10004823-1892917800-1892925000@www.tcrunning.org
SUMMARY:Tues Sapp's Elite Run Club - PSL
DESCRIPTION:New Port St Lucie Run Group \nSapp’s Elite Run Club \nTuesdays at 6:30pm at Midflorida Event Center \n9221 SE Event Center\nPort St Lucie\, FL 34952
URL:https://www.tcrunning.org/event/tues-sapps-elite-run-club/2029-12-25/
LOCATION:Midflorida Event Center\, 9221 SE Event Center\, Port St Lucie\, FL
CATEGORIES:Weekly Running
END:VEVENT
BEGIN:VEVENT
DTSTART;TZID=America/New_York:20300101T183000
DTEND;TZID=America/New_York:20300101T203000
DTSTAMP:20260420T053709
CREATED:20260120T215749Z
LAST-MODIFIED:20260120T220324Z
UID:10004824-1893522600-1893529800@www.tcrunning.org
SUMMARY:Tues Sapp's Elite Run Club - PSL
DESCRIPTION:New Port St Lucie Run Group \nSapp’s Elite Run Club \nTuesdays at 6:30pm at Midflorida Event Center \n9221 SE Event Center\nPort St Lucie\, FL 34952
URL:https://www.tcrunning.org/event/tues-sapps-elite-run-club/2030-01-01/
LOCATION:Midflorida Event Center\, 9221 SE Event Center\, Port St Lucie\, FL
CATEGORIES:Weekly Running
END:VEVENT
BEGIN:VEVENT
DTSTART;TZID=America/New_York:20300108T183000
DTEND;TZID=America/New_York:20300108T203000
DTSTAMP:20260420T053709
CREATED:20260120T215749Z
LAST-MODIFIED:20260120T220324Z
UID:10004825-1894127400-1894134600@www.tcrunning.org
SUMMARY:Tues Sapp's Elite Run Club - PSL
DESCRIPTION:New Port St Lucie Run Group \nSapp’s Elite Run Club \nTuesdays at 6:30pm at Midflorida Event Center \n9221 SE Event Center\nPort St Lucie\, FL 34952
URL:https://www.tcrunning.org/event/tues-sapps-elite-run-club/2030-01-08/
LOCATION:Midflorida Event Center\, 9221 SE Event Center\, Port St Lucie\, FL
CATEGORIES:Weekly Running
END:VEVENT
BEGIN:VEVENT
DTSTART;TZID=America/New_York:20300115T183000
DTEND;TZID=America/New_York:20300115T203000
DTSTAMP:20260420T053709
CREATED:20260120T215749Z
LAST-MODIFIED:20260120T220324Z
UID:10004826-1894732200-1894739400@www.tcrunning.org
SUMMARY:Tues Sapp's Elite Run Club - PSL
DESCRIPTION:New Port St Lucie Run Group \nSapp’s Elite Run Club \nTuesdays at 6:30pm at Midflorida Event Center \n9221 SE Event Center\nPort St Lucie\, FL 34952
URL:https://www.tcrunning.org/event/tues-sapps-elite-run-club/2030-01-15/
LOCATION:Midflorida Event Center\, 9221 SE Event Center\, Port St Lucie\, FL
CATEGORIES:Weekly Running
END:VEVENT
BEGIN:VEVENT
DTSTART;TZID=America/New_York:20300122T183000
DTEND;TZID=America/New_York:20300122T203000
DTSTAMP:20260420T053709
CREATED:20260120T215749Z
LAST-MODIFIED:20260120T220324Z
UID:10004827-1895337000-1895344200@www.tcrunning.org
SUMMARY:Tues Sapp's Elite Run Club - PSL
DESCRIPTION:New Port St Lucie Run Group \nSapp’s Elite Run Club \nTuesdays at 6:30pm at Midflorida Event Center \n9221 SE Event Center\nPort St Lucie\, FL 34952
URL:https://www.tcrunning.org/event/tues-sapps-elite-run-club/2030-01-22/
LOCATION:Midflorida Event Center\, 9221 SE Event Center\, Port St Lucie\, FL
CATEGORIES:Weekly Running
END:VEVENT
BEGIN:VEVENT
DTSTART;TZID=America/New_York:20300129T183000
DTEND;TZID=America/New_York:20300129T203000
DTSTAMP:20260420T053709
CREATED:20260120T215749Z
LAST-MODIFIED:20260120T220324Z
UID:10004828-1895941800-1895949000@www.tcrunning.org
SUMMARY:Tues Sapp's Elite Run Club - PSL
DESCRIPTION:New Port St Lucie Run Group \nSapp’s Elite Run Club \nTuesdays at 6:30pm at Midflorida Event Center \n9221 SE Event Center\nPort St Lucie\, FL 34952
URL:https://www.tcrunning.org/event/tues-sapps-elite-run-club/2030-01-29/
LOCATION:Midflorida Event Center\, 9221 SE Event Center\, Port St Lucie\, FL
CATEGORIES:Weekly Running
END:VEVENT
BEGIN:VEVENT
DTSTART;TZID=America/New_York:20300205T183000
DTEND;TZID=America/New_York:20300205T203000
DTSTAMP:20260420T053709
CREATED:20260120T215749Z
LAST-MODIFIED:20260120T220324Z
UID:10004829-1896546600-1896553800@www.tcrunning.org
SUMMARY:Tues Sapp's Elite Run Club - PSL
DESCRIPTION:New Port St Lucie Run Group \nSapp’s Elite Run Club \nTuesdays at 6:30pm at Midflorida Event Center \n9221 SE Event Center\nPort St Lucie\, FL 34952
URL:https://www.tcrunning.org/event/tues-sapps-elite-run-club/2030-02-05/
LOCATION:Midflorida Event Center\, 9221 SE Event Center\, Port St Lucie\, FL
CATEGORIES:Weekly Running
END:VEVENT
BEGIN:VEVENT
DTSTART;TZID=America/New_York:20300212T183000
DTEND;TZID=America/New_York:20300212T203000
DTSTAMP:20260420T053709
CREATED:20260120T215749Z
LAST-MODIFIED:20260120T220324Z
UID:10004830-1897151400-1897158600@www.tcrunning.org
SUMMARY:Tues Sapp's Elite Run Club - PSL
DESCRIPTION:New Port St Lucie Run Group \nSapp’s Elite Run Club \nTuesdays at 6:30pm at Midflorida Event Center \n9221 SE Event Center\nPort St Lucie\, FL 34952
URL:https://www.tcrunning.org/event/tues-sapps-elite-run-club/2030-02-12/
LOCATION:Midflorida Event Center\, 9221 SE Event Center\, Port St Lucie\, FL
CATEGORIES:Weekly Running
END:VEVENT
BEGIN:VEVENT
DTSTART;TZID=America/New_York:20300219T183000
DTEND;TZID=America/New_York:20300219T203000
DTSTAMP:20260420T053709
CREATED:20260120T215749Z
LAST-MODIFIED:20260120T220324Z
UID:10004831-1897756200-1897763400@www.tcrunning.org
SUMMARY:Tues Sapp's Elite Run Club - PSL
DESCRIPTION:New Port St Lucie Run Group \nSapp’s Elite Run Club \nTuesdays at 6:30pm at Midflorida Event Center \n9221 SE Event Center\nPort St Lucie\, FL 34952
URL:https://www.tcrunning.org/event/tues-sapps-elite-run-club/2030-02-19/
LOCATION:Midflorida Event Center\, 9221 SE Event Center\, Port St Lucie\, FL
CATEGORIES:Weekly Running
END:VEVENT
BEGIN:VEVENT
DTSTART;TZID=America/New_York:20300226T183000
DTEND;TZID=America/New_York:20300226T203000
DTSTAMP:20260420T053709
CREATED:20260120T215749Z
LAST-MODIFIED:20260120T220324Z
UID:10004832-1898361000-1898368200@www.tcrunning.org
SUMMARY:Tues Sapp's Elite Run Club - PSL
DESCRIPTION:New Port St Lucie Run Group \nSapp’s Elite Run Club \nTuesdays at 6:30pm at Midflorida Event Center \n9221 SE Event Center\nPort St Lucie\, FL 34952
URL:https://www.tcrunning.org/event/tues-sapps-elite-run-club/2030-02-26/
LOCATION:Midflorida Event Center\, 9221 SE Event Center\, Port St Lucie\, FL
CATEGORIES:Weekly Running
END:VEVENT
BEGIN:VEVENT
DTSTART;TZID=America/New_York:20300305T183000
DTEND;TZID=America/New_York:20300305T203000
DTSTAMP:20260420T053709
CREATED:20260120T215749Z
LAST-MODIFIED:20260120T220324Z
UID:10004833-1898965800-1898973000@www.tcrunning.org
SUMMARY:Tues Sapp's Elite Run Club - PSL
DESCRIPTION:New Port St Lucie Run Group \nSapp’s Elite Run Club \nTuesdays at 6:30pm at Midflorida Event Center \n9221 SE Event Center\nPort St Lucie\, FL 34952
URL:https://www.tcrunning.org/event/tues-sapps-elite-run-club/2030-03-05/
LOCATION:Midflorida Event Center\, 9221 SE Event Center\, Port St Lucie\, FL
CATEGORIES:Weekly Running
END:VEVENT
BEGIN:VEVENT
DTSTART;TZID=America/New_York:20300312T183000
DTEND;TZID=America/New_York:20300312T203000
DTSTAMP:20260420T053709
CREATED:20260120T215749Z
LAST-MODIFIED:20260120T220324Z
UID:10004834-1899570600-1899577800@www.tcrunning.org
SUMMARY:Tues Sapp's Elite Run Club - PSL
DESCRIPTION:New Port St Lucie Run Group \nSapp’s Elite Run Club \nTuesdays at 6:30pm at Midflorida Event Center \n9221 SE Event Center\nPort St Lucie\, FL 34952
URL:https://www.tcrunning.org/event/tues-sapps-elite-run-club/2030-03-12/
LOCATION:Midflorida Event Center\, 9221 SE Event Center\, Port St Lucie\, FL
CATEGORIES:Weekly Running
END:VEVENT
BEGIN:VEVENT
DTSTART;TZID=America/New_York:20300319T183000
DTEND;TZID=America/New_York:20300319T203000
DTSTAMP:20260420T053709
CREATED:20260120T215749Z
LAST-MODIFIED:20260120T220324Z
UID:10004835-1900175400-1900182600@www.tcrunning.org
SUMMARY:Tues Sapp's Elite Run Club - PSL
DESCRIPTION:New Port St Lucie Run Group \nSapp’s Elite Run Club \nTuesdays at 6:30pm at Midflorida Event Center \n9221 SE Event Center\nPort St Lucie\, FL 34952
URL:https://www.tcrunning.org/event/tues-sapps-elite-run-club/2030-03-19/
LOCATION:Midflorida Event Center\, 9221 SE Event Center\, Port St Lucie\, FL
CATEGORIES:Weekly Running
END:VEVENT
BEGIN:VEVENT
DTSTART;TZID=America/New_York:20300326T183000
DTEND;TZID=America/New_York:20300326T203000
DTSTAMP:20260420T053709
CREATED:20260120T215749Z
LAST-MODIFIED:20260120T220324Z
UID:10004836-1900780200-1900787400@www.tcrunning.org
SUMMARY:Tues Sapp's Elite Run Club - PSL
DESCRIPTION:New Port St Lucie Run Group \nSapp’s Elite Run Club \nTuesdays at 6:30pm at Midflorida Event Center \n9221 SE Event Center\nPort St Lucie\, FL 34952
URL:https://www.tcrunning.org/event/tues-sapps-elite-run-club/2030-03-26/
LOCATION:Midflorida Event Center\, 9221 SE Event Center\, Port St Lucie\, FL
CATEGORIES:Weekly Running
END:VEVENT
BEGIN:VEVENT
DTSTART;TZID=America/New_York:20300402T183000
DTEND;TZID=America/New_York:20300402T203000
DTSTAMP:20260420T053709
CREATED:20260120T215749Z
LAST-MODIFIED:20260120T220324Z
UID:10004837-1901385000-1901392200@www.tcrunning.org
SUMMARY:Tues Sapp's Elite Run Club - PSL
DESCRIPTION:New Port St Lucie Run Group \nSapp’s Elite Run Club \nTuesdays at 6:30pm at Midflorida Event Center \n9221 SE Event Center\nPort St Lucie\, FL 34952
URL:https://www.tcrunning.org/event/tues-sapps-elite-run-club/2030-04-02/
LOCATION:Midflorida Event Center\, 9221 SE Event Center\, Port St Lucie\, FL
CATEGORIES:Weekly Running
END:VEVENT
BEGIN:VEVENT
DTSTART;TZID=America/New_York:20300409T183000
DTEND;TZID=America/New_York:20300409T203000
DTSTAMP:20260420T053709
CREATED:20260120T215749Z
LAST-MODIFIED:20260120T220324Z
UID:10004838-1901989800-1901997000@www.tcrunning.org
SUMMARY:Tues Sapp's Elite Run Club - PSL
DESCRIPTION:New Port St Lucie Run Group \nSapp’s Elite Run Club \nTuesdays at 6:30pm at Midflorida Event Center \n9221 SE Event Center\nPort St Lucie\, FL 34952
URL:https://www.tcrunning.org/event/tues-sapps-elite-run-club/2030-04-09/
LOCATION:Midflorida Event Center\, 9221 SE Event Center\, Port St Lucie\, FL
CATEGORIES:Weekly Running
END:VEVENT
BEGIN:VEVENT
DTSTART;TZID=America/New_York:20300416T183000
DTEND;TZID=America/New_York:20300416T203000
DTSTAMP:20260420T053709
CREATED:20260120T215749Z
LAST-MODIFIED:20260120T220324Z
UID:10004839-1902594600-1902601800@www.tcrunning.org
SUMMARY:Tues Sapp's Elite Run Club - PSL
DESCRIPTION:New Port St Lucie Run Group \nSapp’s Elite Run Club \nTuesdays at 6:30pm at Midflorida Event Center \n9221 SE Event Center\nPort St Lucie\, FL 34952
URL:https://www.tcrunning.org/event/tues-sapps-elite-run-club/2030-04-16/
LOCATION:Midflorida Event Center\, 9221 SE Event Center\, Port St Lucie\, FL
CATEGORIES:Weekly Running
END:VEVENT
BEGIN:VEVENT
DTSTART;TZID=America/New_York:20300423T183000
DTEND;TZID=America/New_York:20300423T203000
DTSTAMP:20260420T053709
CREATED:20260120T215749Z
LAST-MODIFIED:20260120T220324Z
UID:10004840-1903199400-1903206600@www.tcrunning.org
SUMMARY:Tues Sapp's Elite Run Club - PSL
DESCRIPTION:New Port St Lucie Run Group \nSapp’s Elite Run Club \nTuesdays at 6:30pm at Midflorida Event Center \n9221 SE Event Center\nPort St Lucie\, FL 34952
URL:https://www.tcrunning.org/event/tues-sapps-elite-run-club/2030-04-23/
LOCATION:Midflorida Event Center\, 9221 SE Event Center\, Port St Lucie\, FL
CATEGORIES:Weekly Running
END:VEVENT
BEGIN:VEVENT
DTSTART;TZID=America/New_York:20300430T183000
DTEND;TZID=America/New_York:20300430T203000
DTSTAMP:20260420T053709
CREATED:20260120T215749Z
LAST-MODIFIED:20260120T220324Z
UID:10004841-1903804200-1903811400@www.tcrunning.org
SUMMARY:Tues Sapp's Elite Run Club - PSL
DESCRIPTION:New Port St Lucie Run Group \nSapp’s Elite Run Club \nTuesdays at 6:30pm at Midflorida Event Center \n9221 SE Event Center\nPort St Lucie\, FL 34952
URL:https://www.tcrunning.org/event/tues-sapps-elite-run-club/2030-04-30/
LOCATION:Midflorida Event Center\, 9221 SE Event Center\, Port St Lucie\, FL
CATEGORIES:Weekly Running
END:VEVENT
BEGIN:VEVENT
DTSTART;TZID=America/New_York:20300507T183000
DTEND;TZID=America/New_York:20300507T203000
DTSTAMP:20260420T053709
CREATED:20260120T215749Z
LAST-MODIFIED:20260120T220324Z
UID:10004842-1904409000-1904416200@www.tcrunning.org
SUMMARY:Tues Sapp's Elite Run Club - PSL
DESCRIPTION:New Port St Lucie Run Group \nSapp’s Elite Run Club \nTuesdays at 6:30pm at Midflorida Event Center \n9221 SE Event Center\nPort St Lucie\, FL 34952
URL:https://www.tcrunning.org/event/tues-sapps-elite-run-club/2030-05-07/
LOCATION:Midflorida Event Center\, 9221 SE Event Center\, Port St Lucie\, FL
CATEGORIES:Weekly Running
END:VEVENT
END:VCALENDAR