BEGIN:VCALENDAR
VERSION:2.0
PRODID:-//Treasure Coast Running - ECPv6.15.20//NONSGML v1.0//EN
CALSCALE:GREGORIAN
METHOD:PUBLISH
X-WR-CALNAME:Treasure Coast Running
X-ORIGINAL-URL:https://www.tcrunning.org
X-WR-CALDESC:Events for Treasure Coast Running
REFRESH-INTERVAL;VALUE=DURATION:PT1H
X-Robots-Tag:noindex
X-PUBLISHED-TTL:PT1H
BEGIN:VTIMEZONE
TZID:America/New_York
BEGIN:DAYLIGHT
TZOFFSETFROM:-0500
TZOFFSETTO:-0400
TZNAME:EDT
DTSTART:20250309T070000
END:DAYLIGHT
BEGIN:STANDARD
TZOFFSETFROM:-0400
TZOFFSETTO:-0500
TZNAME:EST
DTSTART:20251102T060000
END:STANDARD
BEGIN:DAYLIGHT
TZOFFSETFROM:-0500
TZOFFSETTO:-0400
TZNAME:EDT
DTSTART:20260308T070000
END:DAYLIGHT
BEGIN:STANDARD
TZOFFSETFROM:-0400
TZOFFSETTO:-0500
TZNAME:EST
DTSTART:20261101T060000
END:STANDARD
BEGIN:DAYLIGHT
TZOFFSETFROM:-0500
TZOFFSETTO:-0400
TZNAME:EDT
DTSTART:20270314T070000
END:DAYLIGHT
BEGIN:STANDARD
TZOFFSETFROM:-0400
TZOFFSETTO:-0500
TZNAME:EST
DTSTART:20271107T060000
END:STANDARD
END:VTIMEZONE
BEGIN:VEVENT
DTSTART;TZID=America/New_York:20260419T054500
DTEND;TZID=America/New_York:20260419T070000
DTSTAMP:20260424T003926
CREATED:20260122T180028Z
LAST-MODIFIED:20260206T194604Z
UID:10007343-1776577500-1776582000@www.tcrunning.org
SUMMARY:Sun Googan Running Club Long Run
DESCRIPTION:Googan Running Club \nSunday long run at the The Googan Coffee Shop downtown Stuart location. We start 6AM and have a beautiful 10ish mile route to Stuart Beach and Back. \n5:45am Meet\n\n6AM – Start\n\nThe Googan Coffee Shop – Downtown\n55 SW Flagler Ave\, Stuart\, FL 34994
URL:https://www.tcrunning.org/event/sun-googan-running-club-long-run/2026-04-19/
LOCATION:Googan Coffee Shop Downtown\, 55 SW Flagler Ave\, Stuart\, FL
CATEGORIES:Weekly Running
END:VEVENT
BEGIN:VEVENT
DTSTART;TZID=America/New_York:20260412T054500
DTEND;TZID=America/New_York:20260412T070000
DTSTAMP:20260424T003926
CREATED:20260122T180028Z
LAST-MODIFIED:20260206T194604Z
UID:10007342-1775972700-1775977200@www.tcrunning.org
SUMMARY:Sun Googan Running Club Long Run
DESCRIPTION:Googan Running Club \nSunday long run at the The Googan Coffee Shop downtown Stuart location. We start 6AM and have a beautiful 10ish mile route to Stuart Beach and Back. \n5:45am Meet\n\n6AM – Start\n\nThe Googan Coffee Shop – Downtown\n55 SW Flagler Ave\, Stuart\, FL 34994
URL:https://www.tcrunning.org/event/sun-googan-running-club-long-run/2026-04-12/
LOCATION:Googan Coffee Shop Downtown\, 55 SW Flagler Ave\, Stuart\, FL
CATEGORIES:Weekly Running
END:VEVENT
BEGIN:VEVENT
DTSTART;TZID=America/New_York:20260405T054500
DTEND;TZID=America/New_York:20260405T070000
DTSTAMP:20260424T003926
CREATED:20260122T180028Z
LAST-MODIFIED:20260206T194604Z
UID:10007341-1775367900-1775372400@www.tcrunning.org
SUMMARY:Sun Googan Running Club Long Run
DESCRIPTION:Googan Running Club \nSunday long run at the The Googan Coffee Shop downtown Stuart location. We start 6AM and have a beautiful 10ish mile route to Stuart Beach and Back. \n5:45am Meet\n\n6AM – Start\n\nThe Googan Coffee Shop – Downtown\n55 SW Flagler Ave\, Stuart\, FL 34994
URL:https://www.tcrunning.org/event/sun-googan-running-club-long-run/2026-04-05/
LOCATION:Googan Coffee Shop Downtown\, 55 SW Flagler Ave\, Stuart\, FL
CATEGORIES:Weekly Running
END:VEVENT
BEGIN:VEVENT
DTSTART;TZID=America/New_York:20260329T054500
DTEND;TZID=America/New_York:20260329T070000
DTSTAMP:20260424T003926
CREATED:20260122T180028Z
LAST-MODIFIED:20260206T194604Z
UID:10007340-1774763100-1774767600@www.tcrunning.org
SUMMARY:Sun Googan Running Club Long Run
DESCRIPTION:Googan Running Club \nSunday long run at the The Googan Coffee Shop downtown Stuart location. We start 6AM and have a beautiful 10ish mile route to Stuart Beach and Back. \n5:45am Meet\n\n6AM – Start\n\nThe Googan Coffee Shop – Downtown\n55 SW Flagler Ave\, Stuart\, FL 34994
URL:https://www.tcrunning.org/event/sun-googan-running-club-long-run/2026-03-29/
LOCATION:Googan Coffee Shop Downtown\, 55 SW Flagler Ave\, Stuart\, FL
CATEGORIES:Weekly Running
END:VEVENT
BEGIN:VEVENT
DTSTART;TZID=America/New_York:20260322T054500
DTEND;TZID=America/New_York:20260322T070000
DTSTAMP:20260424T003926
CREATED:20260122T180028Z
LAST-MODIFIED:20260206T194604Z
UID:10007339-1774158300-1774162800@www.tcrunning.org
SUMMARY:Sun Googan Running Club Long Run
DESCRIPTION:Googan Running Club \nSunday long run at the The Googan Coffee Shop downtown Stuart location. We start 6AM and have a beautiful 10ish mile route to Stuart Beach and Back. \n5:45am Meet\n\n6AM – Start\n\nThe Googan Coffee Shop – Downtown\n55 SW Flagler Ave\, Stuart\, FL 34994
URL:https://www.tcrunning.org/event/sun-googan-running-club-long-run/2026-03-22/
LOCATION:Googan Coffee Shop Downtown\, 55 SW Flagler Ave\, Stuart\, FL
CATEGORIES:Weekly Running
END:VEVENT
BEGIN:VEVENT
DTSTART;TZID=America/New_York:20260315T054500
DTEND;TZID=America/New_York:20260315T070000
DTSTAMP:20260424T003926
CREATED:20260122T180028Z
LAST-MODIFIED:20260206T194604Z
UID:10007338-1773553500-1773558000@www.tcrunning.org
SUMMARY:Sun Googan Running Club Long Run
DESCRIPTION:Googan Running Club \nSunday long run at the The Googan Coffee Shop downtown Stuart location. We start 6AM and have a beautiful 10ish mile route to Stuart Beach and Back. \n5:45am Meet\n\n6AM – Start\n\nThe Googan Coffee Shop – Downtown\n55 SW Flagler Ave\, Stuart\, FL 34994
URL:https://www.tcrunning.org/event/sun-googan-running-club-long-run/2026-03-15/
LOCATION:Googan Coffee Shop Downtown\, 55 SW Flagler Ave\, Stuart\, FL
CATEGORIES:Weekly Running
END:VEVENT
BEGIN:VEVENT
DTSTART;TZID=America/New_York:20260308T054500
DTEND;TZID=America/New_York:20260308T070000
DTSTAMP:20260424T003926
CREATED:20260122T180028Z
LAST-MODIFIED:20260206T194604Z
UID:10007337-1772948700-1772953200@www.tcrunning.org
SUMMARY:Sun Googan Running Club Long Run
DESCRIPTION:Googan Running Club \nSunday long run at the The Googan Coffee Shop downtown Stuart location. We start 6AM and have a beautiful 10ish mile route to Stuart Beach and Back. \n5:45am Meet\n\n6AM – Start\n\nThe Googan Coffee Shop – Downtown\n55 SW Flagler Ave\, Stuart\, FL 34994
URL:https://www.tcrunning.org/event/sun-googan-running-club-long-run/2026-03-08/
LOCATION:Googan Coffee Shop Downtown\, 55 SW Flagler Ave\, Stuart\, FL
CATEGORIES:Weekly Running
END:VEVENT
BEGIN:VEVENT
DTSTART;TZID=America/New_York:20260301T054500
DTEND;TZID=America/New_York:20260301T070000
DTSTAMP:20260424T003926
CREATED:20260122T180028Z
LAST-MODIFIED:20260206T194604Z
UID:10007336-1772343900-1772348400@www.tcrunning.org
SUMMARY:Sun Googan Running Club Long Run
DESCRIPTION:Googan Running Club \nSunday long run at the The Googan Coffee Shop downtown Stuart location. We start 6AM and have a beautiful 10ish mile route to Stuart Beach and Back. \n5:45am Meet\n\n6AM – Start\n\nThe Googan Coffee Shop – Downtown\n55 SW Flagler Ave\, Stuart\, FL 34994
URL:https://www.tcrunning.org/event/sun-googan-running-club-long-run/2026-03-01/
LOCATION:Googan Coffee Shop Downtown\, 55 SW Flagler Ave\, Stuart\, FL
CATEGORIES:Weekly Running
END:VEVENT
BEGIN:VEVENT
DTSTART;TZID=America/New_York:20260222T054500
DTEND;TZID=America/New_York:20260222T070000
DTSTAMP:20260424T003926
CREATED:20260122T180028Z
LAST-MODIFIED:20260206T194604Z
UID:10007335-1771739100-1771743600@www.tcrunning.org
SUMMARY:Sun Googan Running Club Long Run
DESCRIPTION:Googan Running Club \nSunday long run at the The Googan Coffee Shop downtown Stuart location. We start 6AM and have a beautiful 10ish mile route to Stuart Beach and Back. \n5:45am Meet\n\n6AM – Start\n\nThe Googan Coffee Shop – Downtown\n55 SW Flagler Ave\, Stuart\, FL 34994
URL:https://www.tcrunning.org/event/sun-googan-running-club-long-run/2026-02-22/
LOCATION:Googan Coffee Shop Downtown\, 55 SW Flagler Ave\, Stuart\, FL
CATEGORIES:Weekly Running
END:VEVENT
BEGIN:VEVENT
DTSTART;TZID=America/New_York:20260215T054500
DTEND;TZID=America/New_York:20260215T070000
DTSTAMP:20260424T003926
CREATED:20260122T180028Z
LAST-MODIFIED:20260206T194604Z
UID:10007334-1771134300-1771138800@www.tcrunning.org
SUMMARY:Sun Googan Running Club Long Run
DESCRIPTION:Googan Running Club \nSunday long run at the The Googan Coffee Shop downtown Stuart location. We start 6AM and have a beautiful 10ish mile route to Stuart Beach and Back. \n5:45am Meet\n\n6AM – Start\n\nThe Googan Coffee Shop – Downtown\n55 SW Flagler Ave\, Stuart\, FL 34994
URL:https://www.tcrunning.org/event/sun-googan-running-club-long-run/2026-02-15/
LOCATION:Googan Coffee Shop Downtown\, 55 SW Flagler Ave\, Stuart\, FL
CATEGORIES:Weekly Running
END:VEVENT
BEGIN:VEVENT
DTSTART;TZID=America/New_York:20260208T054500
DTEND;TZID=America/New_York:20260208T070000
DTSTAMP:20260424T003926
CREATED:20260122T180028Z
LAST-MODIFIED:20260206T194604Z
UID:10007333-1770529500-1770534000@www.tcrunning.org
SUMMARY:Sun Googan Running Club Long Run
DESCRIPTION:Googan Running Club \nSunday long run at the The Googan Coffee Shop downtown Stuart location. We start 6AM and have a beautiful 10ish mile route to Stuart Beach and Back. \n5:45am Meet\n\n6AM – Start\n\nThe Googan Coffee Shop – Downtown\n55 SW Flagler Ave\, Stuart\, FL 34994
URL:https://www.tcrunning.org/event/sun-googan-running-club-long-run/2026-02-08/
LOCATION:Googan Coffee Shop Downtown\, 55 SW Flagler Ave\, Stuart\, FL
CATEGORIES:Weekly Running
END:VEVENT
BEGIN:VEVENT
DTSTART;TZID=America/New_York:20260201T054500
DTEND;TZID=America/New_York:20260201T070000
DTSTAMP:20260424T003926
CREATED:20260122T180028Z
LAST-MODIFIED:20260206T194604Z
UID:10007332-1769924700-1769929200@www.tcrunning.org
SUMMARY:Sun Googan Running Club Long Run
DESCRIPTION:Googan Running Club \nSunday long run at the The Googan Coffee Shop downtown Stuart location. We start 6AM and have a beautiful 10ish mile route to Stuart Beach and Back. \n5:45am Meet\n\n6AM – Start\n\nThe Googan Coffee Shop – Downtown\n55 SW Flagler Ave\, Stuart\, FL 34994
URL:https://www.tcrunning.org/event/sun-googan-running-club-long-run/2026-02-01/
LOCATION:Googan Coffee Shop Downtown\, 55 SW Flagler Ave\, Stuart\, FL
CATEGORIES:Weekly Running
END:VEVENT
BEGIN:VEVENT
DTSTART;TZID=America/New_York:20260125T054500
DTEND;TZID=America/New_York:20260125T070000
DTSTAMP:20260424T003926
CREATED:20260122T180028Z
LAST-MODIFIED:20260206T194604Z
UID:10007331-1769319900-1769324400@www.tcrunning.org
SUMMARY:Sun Googan Running Club Long Run
DESCRIPTION:Googan Running Club \nSunday long run at the The Googan Coffee Shop downtown Stuart location. We start 6AM and have a beautiful 10ish mile route to Stuart Beach and Back. \n5:45am Meet\n\n6AM – Start\n\nThe Googan Coffee Shop – Downtown\n55 SW Flagler Ave\, Stuart\, FL 34994
URL:https://www.tcrunning.org/event/sun-googan-running-club-long-run/2026-01-25/
LOCATION:Googan Coffee Shop Downtown\, 55 SW Flagler Ave\, Stuart\, FL
CATEGORIES:Weekly Running
END:VEVENT
END:VCALENDAR