BEGIN:VCALENDAR
VERSION:2.0
PRODID:-//Treasure Coast Running - ECPv6.15.20//NONSGML v1.0//EN
CALSCALE:GREGORIAN
METHOD:PUBLISH
X-ORIGINAL-URL:https://www.tcrunning.org
X-WR-CALDESC:Events for Treasure Coast Running
REFRESH-INTERVAL;VALUE=DURATION:PT1H
X-Robots-Tag:noindex
X-PUBLISHED-TTL:PT1H
BEGIN:VTIMEZONE
TZID:America/New_York
BEGIN:DAYLIGHT
TZOFFSETFROM:-0500
TZOFFSETTO:-0400
TZNAME:EDT
DTSTART:20240310T070000
END:DAYLIGHT
BEGIN:STANDARD
TZOFFSETFROM:-0400
TZOFFSETTO:-0500
TZNAME:EST
DTSTART:20241103T060000
END:STANDARD
BEGIN:DAYLIGHT
TZOFFSETFROM:-0500
TZOFFSETTO:-0400
TZNAME:EDT
DTSTART:20250309T070000
END:DAYLIGHT
BEGIN:STANDARD
TZOFFSETFROM:-0400
TZOFFSETTO:-0500
TZNAME:EST
DTSTART:20251102T060000
END:STANDARD
BEGIN:DAYLIGHT
TZOFFSETFROM:-0500
TZOFFSETTO:-0400
TZNAME:EDT
DTSTART:20260308T070000
END:DAYLIGHT
BEGIN:STANDARD
TZOFFSETFROM:-0400
TZOFFSETTO:-0500
TZNAME:EST
DTSTART:20261101T060000
END:STANDARD
END:VTIMEZONE
BEGIN:VEVENT
DTSTART;TZID=America/New_York:20250809T070000
DTEND;TZID=America/New_York:20250809T100000
DTSTAMP:20260424T163528
CREATED:20250706T155129Z
LAST-MODIFIED:20250706T155412Z
UID:10003249-1754722800-1754733600@www.tcrunning.org
SUMMARY:Furnace 5K
DESCRIPTION:The HOTTEST Race in town!\n3.1 Mile Run/Walk through North River Shores! It’s Florida! It’s Summer! It’s August!\nJoin Fleet Feet Stuart on Saturday\, August 12\, 2023.  Race starts at 7:00 a.m.\nTime to have some fun and show the rest of them that just because it’s HOT… We still love to RUN! \nThe course starts and ends right in front of Fleet Feet Stuart!  Packet Pick Up \nThursday\, August 10  10am – 6pm at Fleet Feet Stuart \nFriday\, August 11  10am-6pm at Fleet Feet Stuart \nSaturday\, August 12 (Race Day) starting at 6am – 6:50am \nCome EARN your Fleet Feet Furnace black race hoodie and Finisher Medal.  Artwork designed by Adam’s Artworks \n   \n 
URL:https://www.tcrunning.org/event/furnace-5k/
LOCATION:fleet feet stuart\, 2440 NW Federal Hwy\, Stuart\, FL
CATEGORIES:Non Race Series Races
ATTACH;FMTTYPE=image/png:https://www.tcrunning.org/wp-content/uploads/2025/07/Furnace5k-logo-1.png
END:VEVENT
END:VCALENDAR