BEGIN:VCALENDAR
VERSION:2.0
PRODID:-//Treasure Coast Running - ECPv6.15.20//NONSGML v1.0//EN
CALSCALE:GREGORIAN
METHOD:PUBLISH
X-ORIGINAL-URL:https://www.tcrunning.org
X-WR-CALDESC:Events for Treasure Coast Running
REFRESH-INTERVAL;VALUE=DURATION:PT1H
X-Robots-Tag:noindex
X-PUBLISHED-TTL:PT1H
BEGIN:VTIMEZONE
TZID:America/New_York
BEGIN:DAYLIGHT
TZOFFSETFROM:-0500
TZOFFSETTO:-0400
TZNAME:EDT
DTSTART:20240310T070000
END:DAYLIGHT
BEGIN:STANDARD
TZOFFSETFROM:-0400
TZOFFSETTO:-0500
TZNAME:EST
DTSTART:20241103T060000
END:STANDARD
BEGIN:DAYLIGHT
TZOFFSETFROM:-0500
TZOFFSETTO:-0400
TZNAME:EDT
DTSTART:20250309T070000
END:DAYLIGHT
BEGIN:STANDARD
TZOFFSETFROM:-0400
TZOFFSETTO:-0500
TZNAME:EST
DTSTART:20251102T060000
END:STANDARD
BEGIN:DAYLIGHT
TZOFFSETFROM:-0500
TZOFFSETTO:-0400
TZNAME:EDT
DTSTART:20260308T070000
END:DAYLIGHT
BEGIN:STANDARD
TZOFFSETFROM:-0400
TZOFFSETTO:-0500
TZNAME:EST
DTSTART:20261101T060000
END:STANDARD
END:VTIMEZONE
BEGIN:VEVENT
DTSTART;TZID=America/New_York:20251228T054500
DTEND;TZID=America/New_York:20251228T083000
DTSTAMP:20260424T002414
CREATED:20250511T220807Z
LAST-MODIFIED:20250512T115935Z
UID:10001937-1766900700-1766910600@www.tcrunning.org
SUMMARY:Sun Googan Long Run
DESCRIPTION:Pace: Walk/Run\nDistance: Any
URL:https://www.tcrunning.org/event/sun-googan-long-run/2025-12-28/
LOCATION:Downtown Stuart\, 47 SW Osceola\, Stuart\, FL\, United States
CATEGORIES:Weekly Running
END:VEVENT
BEGIN:VEVENT
DTSTART;TZID=America/New_York:20251221T054500
DTEND;TZID=America/New_York:20251221T083000
DTSTAMP:20260424T002414
CREATED:20250511T220807Z
LAST-MODIFIED:20250512T115935Z
UID:10001936-1766295900-1766305800@www.tcrunning.org
SUMMARY:Sun Googan Long Run
DESCRIPTION:Pace: Walk/Run\nDistance: Any
URL:https://www.tcrunning.org/event/sun-googan-long-run/2025-12-21/
LOCATION:Downtown Stuart\, 47 SW Osceola\, Stuart\, FL\, United States
CATEGORIES:Weekly Running
END:VEVENT
BEGIN:VEVENT
DTSTART;TZID=America/New_York:20251214T054500
DTEND;TZID=America/New_York:20251214T083000
DTSTAMP:20260424T002414
CREATED:20250511T220807Z
LAST-MODIFIED:20250512T115935Z
UID:10001935-1765691100-1765701000@www.tcrunning.org
SUMMARY:Sun Googan Long Run
DESCRIPTION:Pace: Walk/Run\nDistance: Any
URL:https://www.tcrunning.org/event/sun-googan-long-run/2025-12-14/
LOCATION:Downtown Stuart\, 47 SW Osceola\, Stuart\, FL\, United States
CATEGORIES:Weekly Running
END:VEVENT
BEGIN:VEVENT
DTSTART;TZID=America/New_York:20251207T054500
DTEND;TZID=America/New_York:20251207T083000
DTSTAMP:20260424T002414
CREATED:20250511T220807Z
LAST-MODIFIED:20250512T115935Z
UID:10001934-1765086300-1765096200@www.tcrunning.org
SUMMARY:Sun Googan Long Run
DESCRIPTION:Pace: Walk/Run\nDistance: Any
URL:https://www.tcrunning.org/event/sun-googan-long-run/2025-12-07/
LOCATION:Downtown Stuart\, 47 SW Osceola\, Stuart\, FL\, United States
CATEGORIES:Weekly Running
END:VEVENT
BEGIN:VEVENT
DTSTART;TZID=America/New_York:20251130T054500
DTEND;TZID=America/New_York:20251130T083000
DTSTAMP:20260424T002414
CREATED:20250511T220807Z
LAST-MODIFIED:20250512T115935Z
UID:10001933-1764481500-1764491400@www.tcrunning.org
SUMMARY:Sun Googan Long Run
DESCRIPTION:Pace: Walk/Run\nDistance: Any
URL:https://www.tcrunning.org/event/sun-googan-long-run/2025-11-30/
LOCATION:Downtown Stuart\, 47 SW Osceola\, Stuart\, FL\, United States
CATEGORIES:Weekly Running
END:VEVENT
BEGIN:VEVENT
DTSTART;TZID=America/New_York:20251123T054500
DTEND;TZID=America/New_York:20251123T083000
DTSTAMP:20260424T002414
CREATED:20250511T220807Z
LAST-MODIFIED:20250512T115935Z
UID:10001932-1763876700-1763886600@www.tcrunning.org
SUMMARY:Sun Googan Long Run
DESCRIPTION:Pace: Walk/Run\nDistance: Any
URL:https://www.tcrunning.org/event/sun-googan-long-run/2025-11-23/
LOCATION:Downtown Stuart\, 47 SW Osceola\, Stuart\, FL\, United States
CATEGORIES:Weekly Running
END:VEVENT
BEGIN:VEVENT
DTSTART;TZID=America/New_York:20251116T054500
DTEND;TZID=America/New_York:20251116T083000
DTSTAMP:20260424T002414
CREATED:20250511T220807Z
LAST-MODIFIED:20250512T115935Z
UID:10001931-1763271900-1763281800@www.tcrunning.org
SUMMARY:Sun Googan Long Run
DESCRIPTION:Pace: Walk/Run\nDistance: Any
URL:https://www.tcrunning.org/event/sun-googan-long-run/2025-11-16/
LOCATION:Downtown Stuart\, 47 SW Osceola\, Stuart\, FL\, United States
CATEGORIES:Weekly Running
END:VEVENT
BEGIN:VEVENT
DTSTART;TZID=America/New_York:20251109T054500
DTEND;TZID=America/New_York:20251109T083000
DTSTAMP:20260424T002414
CREATED:20250511T220807Z
LAST-MODIFIED:20250512T115935Z
UID:10001930-1762667100-1762677000@www.tcrunning.org
SUMMARY:Sun Googan Long Run
DESCRIPTION:Pace: Walk/Run\nDistance: Any
URL:https://www.tcrunning.org/event/sun-googan-long-run/2025-11-09/
LOCATION:Downtown Stuart\, 47 SW Osceola\, Stuart\, FL\, United States
CATEGORIES:Weekly Running
END:VEVENT
BEGIN:VEVENT
DTSTART;TZID=America/New_York:20251102T054500
DTEND;TZID=America/New_York:20251102T083000
DTSTAMP:20260424T002414
CREATED:20250511T220807Z
LAST-MODIFIED:20250512T115935Z
UID:10001929-1762062300-1762072200@www.tcrunning.org
SUMMARY:Sun Googan Long Run
DESCRIPTION:Pace: Walk/Run\nDistance: Any
URL:https://www.tcrunning.org/event/sun-googan-long-run/2025-11-02/
LOCATION:Downtown Stuart\, 47 SW Osceola\, Stuart\, FL\, United States
CATEGORIES:Weekly Running
END:VEVENT
BEGIN:VEVENT
DTSTART;TZID=America/New_York:20251026T054500
DTEND;TZID=America/New_York:20251026T083000
DTSTAMP:20260424T002414
CREATED:20250511T220807Z
LAST-MODIFIED:20250512T115935Z
UID:10001928-1761457500-1761467400@www.tcrunning.org
SUMMARY:Sun Googan Long Run
DESCRIPTION:Pace: Walk/Run\nDistance: Any
URL:https://www.tcrunning.org/event/sun-googan-long-run/2025-10-26/
LOCATION:Downtown Stuart\, 47 SW Osceola\, Stuart\, FL\, United States
CATEGORIES:Weekly Running
END:VEVENT
BEGIN:VEVENT
DTSTART;TZID=America/New_York:20251019T054500
DTEND;TZID=America/New_York:20251019T083000
DTSTAMP:20260424T002414
CREATED:20250511T220807Z
LAST-MODIFIED:20250512T115935Z
UID:10001927-1760852700-1760862600@www.tcrunning.org
SUMMARY:Sun Googan Long Run
DESCRIPTION:Pace: Walk/Run\nDistance: Any
URL:https://www.tcrunning.org/event/sun-googan-long-run/2025-10-19/
LOCATION:Downtown Stuart\, 47 SW Osceola\, Stuart\, FL\, United States
CATEGORIES:Weekly Running
END:VEVENT
BEGIN:VEVENT
DTSTART;TZID=America/New_York:20251012T054500
DTEND;TZID=America/New_York:20251012T083000
DTSTAMP:20260424T002414
CREATED:20250511T220807Z
LAST-MODIFIED:20250512T115935Z
UID:10001926-1760247900-1760257800@www.tcrunning.org
SUMMARY:Sun Googan Long Run
DESCRIPTION:Pace: Walk/Run\nDistance: Any
URL:https://www.tcrunning.org/event/sun-googan-long-run/2025-10-12/
LOCATION:Downtown Stuart\, 47 SW Osceola\, Stuart\, FL\, United States
CATEGORIES:Weekly Running
END:VEVENT
BEGIN:VEVENT
DTSTART;TZID=America/New_York:20251005T054500
DTEND;TZID=America/New_York:20251005T083000
DTSTAMP:20260424T002414
CREATED:20250511T220807Z
LAST-MODIFIED:20250512T115935Z
UID:10001925-1759643100-1759653000@www.tcrunning.org
SUMMARY:Sun Googan Long Run
DESCRIPTION:Pace: Walk/Run\nDistance: Any
URL:https://www.tcrunning.org/event/sun-googan-long-run/2025-10-05/
LOCATION:Downtown Stuart\, 47 SW Osceola\, Stuart\, FL\, United States
CATEGORIES:Weekly Running
END:VEVENT
BEGIN:VEVENT
DTSTART;TZID=America/New_York:20250928T054500
DTEND;TZID=America/New_York:20250928T083000
DTSTAMP:20260424T002414
CREATED:20250511T220807Z
LAST-MODIFIED:20250512T115935Z
UID:10001924-1759038300-1759048200@www.tcrunning.org
SUMMARY:Sun Googan Long Run
DESCRIPTION:Pace: Walk/Run\nDistance: Any
URL:https://www.tcrunning.org/event/sun-googan-long-run/2025-09-28/
LOCATION:Downtown Stuart\, 47 SW Osceola\, Stuart\, FL\, United States
CATEGORIES:Weekly Running
END:VEVENT
BEGIN:VEVENT
DTSTART;TZID=America/New_York:20250921T054500
DTEND;TZID=America/New_York:20250921T083000
DTSTAMP:20260424T002414
CREATED:20250511T220807Z
LAST-MODIFIED:20250512T115935Z
UID:10001923-1758433500-1758443400@www.tcrunning.org
SUMMARY:Sun Googan Long Run
DESCRIPTION:Pace: Walk/Run\nDistance: Any
URL:https://www.tcrunning.org/event/sun-googan-long-run/2025-09-21/
LOCATION:Downtown Stuart\, 47 SW Osceola\, Stuart\, FL\, United States
CATEGORIES:Weekly Running
END:VEVENT
BEGIN:VEVENT
DTSTART;TZID=America/New_York:20250914T054500
DTEND;TZID=America/New_York:20250914T083000
DTSTAMP:20260424T002414
CREATED:20250511T220807Z
LAST-MODIFIED:20250512T115935Z
UID:10001922-1757828700-1757838600@www.tcrunning.org
SUMMARY:Sun Googan Long Run
DESCRIPTION:Pace: Walk/Run\nDistance: Any
URL:https://www.tcrunning.org/event/sun-googan-long-run/2025-09-14/
LOCATION:Downtown Stuart\, 47 SW Osceola\, Stuart\, FL\, United States
CATEGORIES:Weekly Running
END:VEVENT
BEGIN:VEVENT
DTSTART;TZID=America/New_York:20250907T054500
DTEND;TZID=America/New_York:20250907T083000
DTSTAMP:20260424T002414
CREATED:20250511T220807Z
LAST-MODIFIED:20250512T115935Z
UID:10001921-1757223900-1757233800@www.tcrunning.org
SUMMARY:Sun Googan Long Run
DESCRIPTION:Pace: Walk/Run\nDistance: Any
URL:https://www.tcrunning.org/event/sun-googan-long-run/2025-09-07/
LOCATION:Downtown Stuart\, 47 SW Osceola\, Stuart\, FL\, United States
CATEGORIES:Weekly Running
END:VEVENT
BEGIN:VEVENT
DTSTART;TZID=America/New_York:20250831T054500
DTEND;TZID=America/New_York:20250831T083000
DTSTAMP:20260424T002414
CREATED:20250511T220807Z
LAST-MODIFIED:20250512T115935Z
UID:10001920-1756619100-1756629000@www.tcrunning.org
SUMMARY:Sun Googan Long Run
DESCRIPTION:Pace: Walk/Run\nDistance: Any
URL:https://www.tcrunning.org/event/sun-googan-long-run/2025-08-31/
LOCATION:Downtown Stuart\, 47 SW Osceola\, Stuart\, FL\, United States
CATEGORIES:Weekly Running
END:VEVENT
BEGIN:VEVENT
DTSTART;TZID=America/New_York:20250824T054500
DTEND;TZID=America/New_York:20250824T083000
DTSTAMP:20260424T002414
CREATED:20250511T220807Z
LAST-MODIFIED:20250512T115935Z
UID:10001919-1756014300-1756024200@www.tcrunning.org
SUMMARY:Sun Googan Long Run
DESCRIPTION:Pace: Walk/Run\nDistance: Any
URL:https://www.tcrunning.org/event/sun-googan-long-run/2025-08-24/
LOCATION:Downtown Stuart\, 47 SW Osceola\, Stuart\, FL\, United States
CATEGORIES:Weekly Running
END:VEVENT
BEGIN:VEVENT
DTSTART;TZID=America/New_York:20250817T054500
DTEND;TZID=America/New_York:20250817T083000
DTSTAMP:20260424T002414
CREATED:20250511T220807Z
LAST-MODIFIED:20250512T115935Z
UID:10001918-1755409500-1755419400@www.tcrunning.org
SUMMARY:Sun Googan Long Run
DESCRIPTION:Pace: Walk/Run\nDistance: Any
URL:https://www.tcrunning.org/event/sun-googan-long-run/2025-08-17/
LOCATION:Downtown Stuart\, 47 SW Osceola\, Stuart\, FL\, United States
CATEGORIES:Weekly Running
END:VEVENT
BEGIN:VEVENT
DTSTART;TZID=America/New_York:20250810T054500
DTEND;TZID=America/New_York:20250810T083000
DTSTAMP:20260424T002414
CREATED:20250511T220807Z
LAST-MODIFIED:20250512T115935Z
UID:10001917-1754804700-1754814600@www.tcrunning.org
SUMMARY:Sun Googan Long Run
DESCRIPTION:Pace: Walk/Run\nDistance: Any
URL:https://www.tcrunning.org/event/sun-googan-long-run/2025-08-10/
LOCATION:Downtown Stuart\, 47 SW Osceola\, Stuart\, FL\, United States
CATEGORIES:Weekly Running
END:VEVENT
BEGIN:VEVENT
DTSTART;TZID=America/New_York:20250803T054500
DTEND;TZID=America/New_York:20250803T083000
DTSTAMP:20260424T002414
CREATED:20250511T220807Z
LAST-MODIFIED:20250512T115935Z
UID:10001916-1754199900-1754209800@www.tcrunning.org
SUMMARY:Sun Googan Long Run
DESCRIPTION:Pace: Walk/Run\nDistance: Any
URL:https://www.tcrunning.org/event/sun-googan-long-run/2025-08-03/
LOCATION:Downtown Stuart\, 47 SW Osceola\, Stuart\, FL\, United States
CATEGORIES:Weekly Running
END:VEVENT
BEGIN:VEVENT
DTSTART;TZID=America/New_York:20250727T054500
DTEND;TZID=America/New_York:20250727T083000
DTSTAMP:20260424T002414
CREATED:20250511T220807Z
LAST-MODIFIED:20250512T115935Z
UID:10001915-1753595100-1753605000@www.tcrunning.org
SUMMARY:Sun Googan Long Run
DESCRIPTION:Pace: Walk/Run\nDistance: Any
URL:https://www.tcrunning.org/event/sun-googan-long-run/2025-07-27/
LOCATION:Downtown Stuart\, 47 SW Osceola\, Stuart\, FL\, United States
CATEGORIES:Weekly Running
END:VEVENT
BEGIN:VEVENT
DTSTART;TZID=America/New_York:20250720T054500
DTEND;TZID=America/New_York:20250720T083000
DTSTAMP:20260424T002414
CREATED:20250511T220807Z
LAST-MODIFIED:20250512T115935Z
UID:10001914-1752990300-1753000200@www.tcrunning.org
SUMMARY:Sun Googan Long Run
DESCRIPTION:Pace: Walk/Run\nDistance: Any
URL:https://www.tcrunning.org/event/sun-googan-long-run/2025-07-20/
LOCATION:Downtown Stuart\, 47 SW Osceola\, Stuart\, FL\, United States
CATEGORIES:Weekly Running
END:VEVENT
BEGIN:VEVENT
DTSTART;TZID=America/New_York:20250713T054500
DTEND;TZID=America/New_York:20250713T083000
DTSTAMP:20260424T002414
CREATED:20250511T220807Z
LAST-MODIFIED:20250512T115935Z
UID:10001913-1752385500-1752395400@www.tcrunning.org
SUMMARY:Sun Googan Long Run
DESCRIPTION:Pace: Walk/Run\nDistance: Any
URL:https://www.tcrunning.org/event/sun-googan-long-run/2025-07-13/
LOCATION:Downtown Stuart\, 47 SW Osceola\, Stuart\, FL\, United States
CATEGORIES:Weekly Running
END:VEVENT
BEGIN:VEVENT
DTSTART;TZID=America/New_York:20250706T054500
DTEND;TZID=America/New_York:20250706T083000
DTSTAMP:20260424T002414
CREATED:20250511T220807Z
LAST-MODIFIED:20250512T115935Z
UID:10001912-1751780700-1751790600@www.tcrunning.org
SUMMARY:Sun Googan Long Run
DESCRIPTION:Pace: Walk/Run\nDistance: Any
URL:https://www.tcrunning.org/event/sun-googan-long-run/2025-07-06/
LOCATION:Downtown Stuart\, 47 SW Osceola\, Stuart\, FL\, United States
CATEGORIES:Weekly Running
END:VEVENT
BEGIN:VEVENT
DTSTART;TZID=America/New_York:20250629T054500
DTEND;TZID=America/New_York:20250629T083000
DTSTAMP:20260424T002414
CREATED:20250511T220807Z
LAST-MODIFIED:20250512T115935Z
UID:10001911-1751175900-1751185800@www.tcrunning.org
SUMMARY:Sun Googan Long Run
DESCRIPTION:Pace: Walk/Run\nDistance: Any
URL:https://www.tcrunning.org/event/sun-googan-long-run/2025-06-29/
LOCATION:Downtown Stuart\, 47 SW Osceola\, Stuart\, FL\, United States
CATEGORIES:Weekly Running
END:VEVENT
BEGIN:VEVENT
DTSTART;TZID=America/New_York:20250622T054500
DTEND;TZID=America/New_York:20250622T083000
DTSTAMP:20260424T002414
CREATED:20250511T220807Z
LAST-MODIFIED:20250512T115935Z
UID:10001910-1750571100-1750581000@www.tcrunning.org
SUMMARY:Sun Googan Long Run
DESCRIPTION:Pace: Walk/Run\nDistance: Any
URL:https://www.tcrunning.org/event/sun-googan-long-run/2025-06-22/
LOCATION:Downtown Stuart\, 47 SW Osceola\, Stuart\, FL\, United States
CATEGORIES:Weekly Running
END:VEVENT
BEGIN:VEVENT
DTSTART;TZID=America/New_York:20250615T054500
DTEND;TZID=America/New_York:20250615T083000
DTSTAMP:20260424T002414
CREATED:20250511T220807Z
LAST-MODIFIED:20250512T115935Z
UID:10001909-1749966300-1749976200@www.tcrunning.org
SUMMARY:Sun Googan Long Run
DESCRIPTION:Pace: Walk/Run\nDistance: Any
URL:https://www.tcrunning.org/event/sun-googan-long-run/2025-06-15/
LOCATION:Downtown Stuart\, 47 SW Osceola\, Stuart\, FL\, United States
CATEGORIES:Weekly Running
END:VEVENT
BEGIN:VEVENT
DTSTART;TZID=America/New_York:20250608T054500
DTEND;TZID=America/New_York:20250608T083000
DTSTAMP:20260424T002414
CREATED:20250511T220807Z
LAST-MODIFIED:20250512T115935Z
UID:10001908-1749361500-1749371400@www.tcrunning.org
SUMMARY:Sun Googan Long Run
DESCRIPTION:Pace: Walk/Run\nDistance: Any
URL:https://www.tcrunning.org/event/sun-googan-long-run/2025-06-08/
LOCATION:Downtown Stuart\, 47 SW Osceola\, Stuart\, FL\, United States
CATEGORIES:Weekly Running
END:VEVENT
END:VCALENDAR