BEGIN:VCALENDAR
VERSION:2.0
PRODID:-//Treasure Coast Running - ECPv6.15.20//NONSGML v1.0//EN
CALSCALE:GREGORIAN
METHOD:PUBLISH
X-WR-CALNAME:Treasure Coast Running
X-ORIGINAL-URL:https://www.tcrunning.org
X-WR-CALDESC:Events for Treasure Coast Running
REFRESH-INTERVAL;VALUE=DURATION:PT1H
X-Robots-Tag:noindex
X-PUBLISHED-TTL:PT1H
BEGIN:VTIMEZONE
TZID:America/New_York
BEGIN:DAYLIGHT
TZOFFSETFROM:-0500
TZOFFSETTO:-0400
TZNAME:EDT
DTSTART:20240310T070000
END:DAYLIGHT
BEGIN:STANDARD
TZOFFSETFROM:-0400
TZOFFSETTO:-0500
TZNAME:EST
DTSTART:20241103T060000
END:STANDARD
BEGIN:DAYLIGHT
TZOFFSETFROM:-0500
TZOFFSETTO:-0400
TZNAME:EDT
DTSTART:20250309T070000
END:DAYLIGHT
BEGIN:STANDARD
TZOFFSETFROM:-0400
TZOFFSETTO:-0500
TZNAME:EST
DTSTART:20251102T060000
END:STANDARD
BEGIN:DAYLIGHT
TZOFFSETFROM:-0500
TZOFFSETTO:-0400
TZNAME:EDT
DTSTART:20260308T070000
END:DAYLIGHT
BEGIN:STANDARD
TZOFFSETFROM:-0400
TZOFFSETTO:-0500
TZNAME:EST
DTSTART:20261101T060000
END:STANDARD
END:VTIMEZONE
BEGIN:VEVENT
DTSTART;TZID=America/New_York:20251102T070000
DTEND;TZID=America/New_York:20251102T110000
DTSTAMP:20260421T131255
CREATED:20251006T123744Z
LAST-MODIFIED:20251006T123825Z
UID:10003535-1762066800-1762081200@www.tcrunning.org
SUMMARY:15th Annual Zoe Loren 'Make A Difference' Foundation 5K Run/Walk
DESCRIPTION:15th Annual Zoe Loren ‘Make A Difference’ Foundation 5K Run/Walk\nCarlin Park\, Jupiter\, Florida | Sunday\, November 2\, 2025 \nThis is a USATF certified course which starts in Carlin Park\, runs south on beautiful A1A and ends back in Carlin Park. \nRunners are chip-timed by Accuchip USA\, Inc. There will be music\, face painting and delicious refreshments. Silent Auction with great gift certificates to restaurants\, spas\, and much more. \nThree races: 5K run/walk (timed)\, 1-mile Fun Run for kids 12 and under (timed)\, 100-yard Kids Dash (not timed) \n\nCarlin Park\nJupiter\, FL US 33458\n\n  \nRACE DAY SCHEDULE \nRace Day Registration: 6:00 a.m. – 7:00 a.m.\nRoad Closures Begin: Before 7:00 a.m.\n100 Yard Dash (7 and under): 7:00 a.m.\nKids 1 Mile Fun Run (12 and under): 7:10 a.m.\n5K Run/Walk: 7:30 a.m.\nWe strongly suggest you arrive before 6:45 a.m. to account for road closures. \nFINISHER MEDALS | RACE SHIRTS | AGE GROUP AWARDS | CHIP TIMING \n——————————— \n  \nIn honor and memory of Zoe Loren\, all proceeds from this event will be used for educational scholarships and to provide opportunities for growth and enrichment to under-served children in Palm Beach County. Please visit www.zoeloren.org to learn more about our non-profit foundation.
URL:https://www.tcrunning.org/event/15th-annual-zoe-loren-make-a-difference-foundation-5k-run-walk/
LOCATION:carlin park\, Jupiter\, FL
CATEGORIES:Non Race Series Races
ATTACH;FMTTYPE=image/jpeg:https://www.tcrunning.org/wp-content/uploads/2025/10/Zoe.jpg
END:VEVENT
END:VCALENDAR