BEGIN:VCALENDAR
VERSION:2.0
PRODID:-//Treasure Coast Running - ECPv6.15.20//NONSGML v1.0//EN
CALSCALE:GREGORIAN
METHOD:PUBLISH
X-WR-CALNAME:Treasure Coast Running
X-ORIGINAL-URL:https://www.tcrunning.org
X-WR-CALDESC:Events for Treasure Coast Running
REFRESH-INTERVAL;VALUE=DURATION:PT1H
X-Robots-Tag:noindex
X-PUBLISHED-TTL:PT1H
BEGIN:VTIMEZONE
TZID:America/New_York
BEGIN:DAYLIGHT
TZOFFSETFROM:-0500
TZOFFSETTO:-0400
TZNAME:EDT
DTSTART:20240310T070000
END:DAYLIGHT
BEGIN:STANDARD
TZOFFSETFROM:-0400
TZOFFSETTO:-0500
TZNAME:EST
DTSTART:20241103T060000
END:STANDARD
BEGIN:DAYLIGHT
TZOFFSETFROM:-0500
TZOFFSETTO:-0400
TZNAME:EDT
DTSTART:20250309T070000
END:DAYLIGHT
BEGIN:STANDARD
TZOFFSETFROM:-0400
TZOFFSETTO:-0500
TZNAME:EST
DTSTART:20251102T060000
END:STANDARD
BEGIN:DAYLIGHT
TZOFFSETFROM:-0500
TZOFFSETTO:-0400
TZNAME:EDT
DTSTART:20260308T070000
END:DAYLIGHT
BEGIN:STANDARD
TZOFFSETFROM:-0400
TZOFFSETTO:-0500
TZNAME:EST
DTSTART:20261101T060000
END:STANDARD
END:VTIMEZONE
BEGIN:VEVENT
DTSTART;TZID=America/New_York:20251101T070000
DTEND;TZID=America/New_York:20251101T100000
DTSTAMP:20260421T143031
CREATED:20250706T154220Z
LAST-MODIFIED:20250706T154629Z
UID:10003248-1761980400-1761991200@www.tcrunning.org
SUMMARY:United We Run 5K
DESCRIPTION:Welcome to our inaugural 5k! Our mission is to create opportunities and a safe space for children to play team sports. We teach the children the fundamentals of soccer and encourage core values that will transcend beyond the playing field. \nThis event will benefit Martin United Soccer Club a 501 (c)(3) nonprofit organization so that it can continue providing participation in a team sport for lower-income athletes. Proceeds will cover scholarships\, uniforms\, and equipment needed. \nCome run or walk with us\, we look forward to you becoming part of the “United We Run” family.
URL:https://www.tcrunning.org/event/united-we-run-5k/
LOCATION:1955 NE Indian River Drive Jensen Beach\, FL US 34957\, 1955 NE Indian River Drive\, Jensen Beach\, FL
CATEGORIES:Non Race Series Races
ATTACH;FMTTYPE=image/jpeg:https://www.tcrunning.org/wp-content/uploads/2025/07/UnitedWeRun.jpg
END:VEVENT
END:VCALENDAR