BEGIN:VCALENDAR
VERSION:2.0
PRODID:-//Treasure Coast Running - ECPv6.15.20//NONSGML v1.0//EN
CALSCALE:GREGORIAN
METHOD:PUBLISH
X-WR-CALNAME:Treasure Coast Running
X-ORIGINAL-URL:https://www.tcrunning.org
X-WR-CALDESC:Events for Treasure Coast Running
REFRESH-INTERVAL;VALUE=DURATION:PT1H
X-Robots-Tag:noindex
X-PUBLISHED-TTL:PT1H
BEGIN:VTIMEZONE
TZID:America/New_York
BEGIN:DAYLIGHT
TZOFFSETFROM:-0500
TZOFFSETTO:-0400
TZNAME:EDT
DTSTART:20240310T070000
END:DAYLIGHT
BEGIN:STANDARD
TZOFFSETFROM:-0400
TZOFFSETTO:-0500
TZNAME:EST
DTSTART:20241103T060000
END:STANDARD
BEGIN:DAYLIGHT
TZOFFSETFROM:-0500
TZOFFSETTO:-0400
TZNAME:EDT
DTSTART:20250309T070000
END:DAYLIGHT
BEGIN:STANDARD
TZOFFSETFROM:-0400
TZOFFSETTO:-0500
TZNAME:EST
DTSTART:20251102T060000
END:STANDARD
BEGIN:DAYLIGHT
TZOFFSETFROM:-0500
TZOFFSETTO:-0400
TZNAME:EDT
DTSTART:20260308T070000
END:DAYLIGHT
BEGIN:STANDARD
TZOFFSETFROM:-0400
TZOFFSETTO:-0500
TZNAME:EST
DTSTART:20261101T060000
END:STANDARD
END:VTIMEZONE
BEGIN:VEVENT
DTSTART;TZID=America/New_York:20251122T080000
DTEND;TZID=America/New_York:20251122T100000
DTSTAMP:20260421T143045
CREATED:20251114T165820Z
LAST-MODIFIED:20251114T170136Z
UID:10003548-1763798400-1763805600@www.tcrunning.org
SUMMARY:KC Trails Kids/Parents Nature Walk
DESCRIPTION:Enjoy a Free Kids/Parents Nature Run on Saturday\, November 22nd at 8:00 AM at the beautiful KC Trails at Newfield. This family-friendly event invites kids and parents to get outdoors\, enjoy the fresh air\, and explore Palm City’s scenic trails together. It’s the perfect way to start your Saturday with some movement and nature.
URL:https://www.tcrunning.org/event/kc-trails-kids-parents-nature-walk/
LOCATION:100 SW Newfield Parkway Palm City FL
CATEGORIES:Non Race Series Races
ATTACH;FMTTYPE=image/png:https://www.tcrunning.org/wp-content/uploads/2025/11/KClogo.png
END:VEVENT
END:VCALENDAR