BEGIN:VCALENDAR
VERSION:2.0
PRODID:-//Treasure Coast Running - ECPv6.15.20//NONSGML v1.0//EN
CALSCALE:GREGORIAN
METHOD:PUBLISH
X-WR-CALNAME:Treasure Coast Running
X-ORIGINAL-URL:https://www.tcrunning.org
X-WR-CALDESC:Events for Treasure Coast Running
REFRESH-INTERVAL;VALUE=DURATION:PT1H
X-Robots-Tag:noindex
X-PUBLISHED-TTL:PT1H
BEGIN:VTIMEZONE
TZID:America/New_York
BEGIN:DAYLIGHT
TZOFFSETFROM:-0500
TZOFFSETTO:-0400
TZNAME:EDT
DTSTART:20250309T070000
END:DAYLIGHT
BEGIN:STANDARD
TZOFFSETFROM:-0400
TZOFFSETTO:-0500
TZNAME:EST
DTSTART:20251102T060000
END:STANDARD
BEGIN:DAYLIGHT
TZOFFSETFROM:-0500
TZOFFSETTO:-0400
TZNAME:EDT
DTSTART:20260308T070000
END:DAYLIGHT
BEGIN:STANDARD
TZOFFSETFROM:-0400
TZOFFSETTO:-0500
TZNAME:EST
DTSTART:20261101T060000
END:STANDARD
BEGIN:DAYLIGHT
TZOFFSETFROM:-0500
TZOFFSETTO:-0400
TZNAME:EDT
DTSTART:20270314T070000
END:DAYLIGHT
BEGIN:STANDARD
TZOFFSETFROM:-0400
TZOFFSETTO:-0500
TZNAME:EST
DTSTART:20271107T060000
END:STANDARD
END:VTIMEZONE
BEGIN:VEVENT
DTSTART;TZID=America/New_York:20260427T183000
DTEND;TZID=America/New_York:20260427T203000
DTSTAMP:20260424T173525
CREATED:20250503T200834Z
LAST-MODIFIED:20260206T195127Z
UID:10008142-1777314600-1777321800@www.tcrunning.org
SUMMARY:Mon Old Skool Run Group – Stuart
DESCRIPTION:Pace: Mid to low 7’s
URL:https://www.tcrunning.org/event/old-skool-group-stuart/2026-04-27/
LOCATION:Pete Weiler’s Office\, 515 SW Camden Ave\, Stuart\, FL\, 34994\, United States
CATEGORIES:Weekly Running
ORGANIZER;CN="Mike Melton":MAILTO:mcmelton57@gmail.com
END:VEVENT
BEGIN:VEVENT
DTSTART;TZID=America/New_York:20260504T183000
DTEND;TZID=America/New_York:20260504T203000
DTSTAMP:20260424T173525
CREATED:20250503T200834Z
LAST-MODIFIED:20260206T195127Z
UID:10008143-1777919400-1777926600@www.tcrunning.org
SUMMARY:Mon Old Skool Run Group – Stuart
DESCRIPTION:Pace: Mid to low 7’s
URL:https://www.tcrunning.org/event/old-skool-group-stuart/2026-05-04/
LOCATION:Pete Weiler’s Office\, 515 SW Camden Ave\, Stuart\, FL\, 34994\, United States
CATEGORIES:Weekly Running
ORGANIZER;CN="Mike Melton":MAILTO:mcmelton57@gmail.com
END:VEVENT
BEGIN:VEVENT
DTSTART;TZID=America/New_York:20260511T183000
DTEND;TZID=America/New_York:20260511T203000
DTSTAMP:20260424T173525
CREATED:20250503T200834Z
LAST-MODIFIED:20260206T195127Z
UID:10008144-1778524200-1778531400@www.tcrunning.org
SUMMARY:Mon Old Skool Run Group – Stuart
DESCRIPTION:Pace: Mid to low 7’s
URL:https://www.tcrunning.org/event/old-skool-group-stuart/2026-05-11/
LOCATION:Pete Weiler’s Office\, 515 SW Camden Ave\, Stuart\, FL\, 34994\, United States
CATEGORIES:Weekly Running
ORGANIZER;CN="Mike Melton":MAILTO:mcmelton57@gmail.com
END:VEVENT
BEGIN:VEVENT
DTSTART;TZID=America/New_York:20260518T183000
DTEND;TZID=America/New_York:20260518T203000
DTSTAMP:20260424T173525
CREATED:20250503T200834Z
LAST-MODIFIED:20260206T195127Z
UID:10008145-1779129000-1779136200@www.tcrunning.org
SUMMARY:Mon Old Skool Run Group – Stuart
DESCRIPTION:Pace: Mid to low 7’s
URL:https://www.tcrunning.org/event/old-skool-group-stuart/2026-05-18/
LOCATION:Pete Weiler’s Office\, 515 SW Camden Ave\, Stuart\, FL\, 34994\, United States
CATEGORIES:Weekly Running
ORGANIZER;CN="Mike Melton":MAILTO:mcmelton57@gmail.com
END:VEVENT
BEGIN:VEVENT
DTSTART;TZID=America/New_York:20260525T183000
DTEND;TZID=America/New_York:20260525T203000
DTSTAMP:20260424T173525
CREATED:20250503T200834Z
LAST-MODIFIED:20260206T195127Z
UID:10008146-1779733800-1779741000@www.tcrunning.org
SUMMARY:Mon Old Skool Run Group – Stuart
DESCRIPTION:Pace: Mid to low 7’s
URL:https://www.tcrunning.org/event/old-skool-group-stuart/2026-05-25/
LOCATION:Pete Weiler’s Office\, 515 SW Camden Ave\, Stuart\, FL\, 34994\, United States
CATEGORIES:Weekly Running
ORGANIZER;CN="Mike Melton":MAILTO:mcmelton57@gmail.com
END:VEVENT
BEGIN:VEVENT
DTSTART;TZID=America/New_York:20260601T183000
DTEND;TZID=America/New_York:20260601T203000
DTSTAMP:20260424T173525
CREATED:20250503T200834Z
LAST-MODIFIED:20260206T195127Z
UID:10008147-1780338600-1780345800@www.tcrunning.org
SUMMARY:Mon Old Skool Run Group – Stuart
DESCRIPTION:Pace: Mid to low 7’s
URL:https://www.tcrunning.org/event/old-skool-group-stuart/2026-06-01/
LOCATION:Pete Weiler’s Office\, 515 SW Camden Ave\, Stuart\, FL\, 34994\, United States
CATEGORIES:Weekly Running
ORGANIZER;CN="Mike Melton":MAILTO:mcmelton57@gmail.com
END:VEVENT
BEGIN:VEVENT
DTSTART;TZID=America/New_York:20260608T183000
DTEND;TZID=America/New_York:20260608T203000
DTSTAMP:20260424T173525
CREATED:20250503T200834Z
LAST-MODIFIED:20260206T195127Z
UID:10008148-1780943400-1780950600@www.tcrunning.org
SUMMARY:Mon Old Skool Run Group – Stuart
DESCRIPTION:Pace: Mid to low 7’s
URL:https://www.tcrunning.org/event/old-skool-group-stuart/2026-06-08/
LOCATION:Pete Weiler’s Office\, 515 SW Camden Ave\, Stuart\, FL\, 34994\, United States
CATEGORIES:Weekly Running
ORGANIZER;CN="Mike Melton":MAILTO:mcmelton57@gmail.com
END:VEVENT
BEGIN:VEVENT
DTSTART;TZID=America/New_York:20260615T183000
DTEND;TZID=America/New_York:20260615T203000
DTSTAMP:20260424T173525
CREATED:20250503T200834Z
LAST-MODIFIED:20260206T195127Z
UID:10008149-1781548200-1781555400@www.tcrunning.org
SUMMARY:Mon Old Skool Run Group – Stuart
DESCRIPTION:Pace: Mid to low 7’s
URL:https://www.tcrunning.org/event/old-skool-group-stuart/2026-06-15/
LOCATION:Pete Weiler’s Office\, 515 SW Camden Ave\, Stuart\, FL\, 34994\, United States
CATEGORIES:Weekly Running
ORGANIZER;CN="Mike Melton":MAILTO:mcmelton57@gmail.com
END:VEVENT
BEGIN:VEVENT
DTSTART;TZID=America/New_York:20260622T183000
DTEND;TZID=America/New_York:20260622T203000
DTSTAMP:20260424T173525
CREATED:20250503T200834Z
LAST-MODIFIED:20260206T195127Z
UID:10008150-1782153000-1782160200@www.tcrunning.org
SUMMARY:Mon Old Skool Run Group – Stuart
DESCRIPTION:Pace: Mid to low 7’s
URL:https://www.tcrunning.org/event/old-skool-group-stuart/2026-06-22/
LOCATION:Pete Weiler’s Office\, 515 SW Camden Ave\, Stuart\, FL\, 34994\, United States
CATEGORIES:Weekly Running
ORGANIZER;CN="Mike Melton":MAILTO:mcmelton57@gmail.com
END:VEVENT
BEGIN:VEVENT
DTSTART;TZID=America/New_York:20260629T183000
DTEND;TZID=America/New_York:20260629T203000
DTSTAMP:20260424T173525
CREATED:20250503T200834Z
LAST-MODIFIED:20260206T195127Z
UID:10008151-1782757800-1782765000@www.tcrunning.org
SUMMARY:Mon Old Skool Run Group – Stuart
DESCRIPTION:Pace: Mid to low 7’s
URL:https://www.tcrunning.org/event/old-skool-group-stuart/2026-06-29/
LOCATION:Pete Weiler’s Office\, 515 SW Camden Ave\, Stuart\, FL\, 34994\, United States
CATEGORIES:Weekly Running
ORGANIZER;CN="Mike Melton":MAILTO:mcmelton57@gmail.com
END:VEVENT
BEGIN:VEVENT
DTSTART;TZID=America/New_York:20260706T183000
DTEND;TZID=America/New_York:20260706T203000
DTSTAMP:20260424T173525
CREATED:20250503T200834Z
LAST-MODIFIED:20260206T195127Z
UID:10008152-1783362600-1783369800@www.tcrunning.org
SUMMARY:Mon Old Skool Run Group – Stuart
DESCRIPTION:Pace: Mid to low 7’s
URL:https://www.tcrunning.org/event/old-skool-group-stuart/2026-07-06/
LOCATION:Pete Weiler’s Office\, 515 SW Camden Ave\, Stuart\, FL\, 34994\, United States
CATEGORIES:Weekly Running
ORGANIZER;CN="Mike Melton":MAILTO:mcmelton57@gmail.com
END:VEVENT
BEGIN:VEVENT
DTSTART;TZID=America/New_York:20260713T183000
DTEND;TZID=America/New_York:20260713T203000
DTSTAMP:20260424T173525
CREATED:20250503T200834Z
LAST-MODIFIED:20260206T195127Z
UID:10008153-1783967400-1783974600@www.tcrunning.org
SUMMARY:Mon Old Skool Run Group – Stuart
DESCRIPTION:Pace: Mid to low 7’s
URL:https://www.tcrunning.org/event/old-skool-group-stuart/2026-07-13/
LOCATION:Pete Weiler’s Office\, 515 SW Camden Ave\, Stuart\, FL\, 34994\, United States
CATEGORIES:Weekly Running
ORGANIZER;CN="Mike Melton":MAILTO:mcmelton57@gmail.com
END:VEVENT
BEGIN:VEVENT
DTSTART;TZID=America/New_York:20260720T183000
DTEND;TZID=America/New_York:20260720T203000
DTSTAMP:20260424T173525
CREATED:20250503T200834Z
LAST-MODIFIED:20260206T195127Z
UID:10008154-1784572200-1784579400@www.tcrunning.org
SUMMARY:Mon Old Skool Run Group – Stuart
DESCRIPTION:Pace: Mid to low 7’s
URL:https://www.tcrunning.org/event/old-skool-group-stuart/2026-07-20/
LOCATION:Pete Weiler’s Office\, 515 SW Camden Ave\, Stuart\, FL\, 34994\, United States
CATEGORIES:Weekly Running
ORGANIZER;CN="Mike Melton":MAILTO:mcmelton57@gmail.com
END:VEVENT
BEGIN:VEVENT
DTSTART;TZID=America/New_York:20260727T183000
DTEND;TZID=America/New_York:20260727T203000
DTSTAMP:20260424T173525
CREATED:20250503T200834Z
LAST-MODIFIED:20260206T195127Z
UID:10008155-1785177000-1785184200@www.tcrunning.org
SUMMARY:Mon Old Skool Run Group – Stuart
DESCRIPTION:Pace: Mid to low 7’s
URL:https://www.tcrunning.org/event/old-skool-group-stuart/2026-07-27/
LOCATION:Pete Weiler’s Office\, 515 SW Camden Ave\, Stuart\, FL\, 34994\, United States
CATEGORIES:Weekly Running
ORGANIZER;CN="Mike Melton":MAILTO:mcmelton57@gmail.com
END:VEVENT
BEGIN:VEVENT
DTSTART;TZID=America/New_York:20260803T183000
DTEND;TZID=America/New_York:20260803T203000
DTSTAMP:20260424T173525
CREATED:20250503T200834Z
LAST-MODIFIED:20260206T195127Z
UID:10008156-1785781800-1785789000@www.tcrunning.org
SUMMARY:Mon Old Skool Run Group – Stuart
DESCRIPTION:Pace: Mid to low 7’s
URL:https://www.tcrunning.org/event/old-skool-group-stuart/2026-08-03/
LOCATION:Pete Weiler’s Office\, 515 SW Camden Ave\, Stuart\, FL\, 34994\, United States
CATEGORIES:Weekly Running
ORGANIZER;CN="Mike Melton":MAILTO:mcmelton57@gmail.com
END:VEVENT
BEGIN:VEVENT
DTSTART;TZID=America/New_York:20260810T183000
DTEND;TZID=America/New_York:20260810T203000
DTSTAMP:20260424T173525
CREATED:20250503T200834Z
LAST-MODIFIED:20260206T195127Z
UID:10008157-1786386600-1786393800@www.tcrunning.org
SUMMARY:Mon Old Skool Run Group – Stuart
DESCRIPTION:Pace: Mid to low 7’s
URL:https://www.tcrunning.org/event/old-skool-group-stuart/2026-08-10/
LOCATION:Pete Weiler’s Office\, 515 SW Camden Ave\, Stuart\, FL\, 34994\, United States
CATEGORIES:Weekly Running
ORGANIZER;CN="Mike Melton":MAILTO:mcmelton57@gmail.com
END:VEVENT
BEGIN:VEVENT
DTSTART;TZID=America/New_York:20260817T183000
DTEND;TZID=America/New_York:20260817T203000
DTSTAMP:20260424T173525
CREATED:20250503T200834Z
LAST-MODIFIED:20260206T195127Z
UID:10008158-1786991400-1786998600@www.tcrunning.org
SUMMARY:Mon Old Skool Run Group – Stuart
DESCRIPTION:Pace: Mid to low 7’s
URL:https://www.tcrunning.org/event/old-skool-group-stuart/2026-08-17/
LOCATION:Pete Weiler’s Office\, 515 SW Camden Ave\, Stuart\, FL\, 34994\, United States
CATEGORIES:Weekly Running
ORGANIZER;CN="Mike Melton":MAILTO:mcmelton57@gmail.com
END:VEVENT
BEGIN:VEVENT
DTSTART;TZID=America/New_York:20260824T183000
DTEND;TZID=America/New_York:20260824T203000
DTSTAMP:20260424T173525
CREATED:20250503T200834Z
LAST-MODIFIED:20260206T195127Z
UID:10008159-1787596200-1787603400@www.tcrunning.org
SUMMARY:Mon Old Skool Run Group – Stuart
DESCRIPTION:Pace: Mid to low 7’s
URL:https://www.tcrunning.org/event/old-skool-group-stuart/2026-08-24/
LOCATION:Pete Weiler’s Office\, 515 SW Camden Ave\, Stuart\, FL\, 34994\, United States
CATEGORIES:Weekly Running
ORGANIZER;CN="Mike Melton":MAILTO:mcmelton57@gmail.com
END:VEVENT
BEGIN:VEVENT
DTSTART;TZID=America/New_York:20260831T183000
DTEND;TZID=America/New_York:20260831T203000
DTSTAMP:20260424T173525
CREATED:20250503T200834Z
LAST-MODIFIED:20260206T195127Z
UID:10008160-1788201000-1788208200@www.tcrunning.org
SUMMARY:Mon Old Skool Run Group – Stuart
DESCRIPTION:Pace: Mid to low 7’s
URL:https://www.tcrunning.org/event/old-skool-group-stuart/2026-08-31/
LOCATION:Pete Weiler’s Office\, 515 SW Camden Ave\, Stuart\, FL\, 34994\, United States
CATEGORIES:Weekly Running
ORGANIZER;CN="Mike Melton":MAILTO:mcmelton57@gmail.com
END:VEVENT
BEGIN:VEVENT
DTSTART;TZID=America/New_York:20260907T183000
DTEND;TZID=America/New_York:20260907T203000
DTSTAMP:20260424T173525
CREATED:20250503T200834Z
LAST-MODIFIED:20260206T195127Z
UID:10008161-1788805800-1788813000@www.tcrunning.org
SUMMARY:Mon Old Skool Run Group – Stuart
DESCRIPTION:Pace: Mid to low 7’s
URL:https://www.tcrunning.org/event/old-skool-group-stuart/2026-09-07/
LOCATION:Pete Weiler’s Office\, 515 SW Camden Ave\, Stuart\, FL\, 34994\, United States
CATEGORIES:Weekly Running
ORGANIZER;CN="Mike Melton":MAILTO:mcmelton57@gmail.com
END:VEVENT
BEGIN:VEVENT
DTSTART;TZID=America/New_York:20260914T183000
DTEND;TZID=America/New_York:20260914T203000
DTSTAMP:20260424T173525
CREATED:20250503T200834Z
LAST-MODIFIED:20260206T195127Z
UID:10008162-1789410600-1789417800@www.tcrunning.org
SUMMARY:Mon Old Skool Run Group – Stuart
DESCRIPTION:Pace: Mid to low 7’s
URL:https://www.tcrunning.org/event/old-skool-group-stuart/2026-09-14/
LOCATION:Pete Weiler’s Office\, 515 SW Camden Ave\, Stuart\, FL\, 34994\, United States
CATEGORIES:Weekly Running
ORGANIZER;CN="Mike Melton":MAILTO:mcmelton57@gmail.com
END:VEVENT
BEGIN:VEVENT
DTSTART;TZID=America/New_York:20260921T183000
DTEND;TZID=America/New_York:20260921T203000
DTSTAMP:20260424T173525
CREATED:20250503T200834Z
LAST-MODIFIED:20260206T195127Z
UID:10008163-1790015400-1790022600@www.tcrunning.org
SUMMARY:Mon Old Skool Run Group – Stuart
DESCRIPTION:Pace: Mid to low 7’s
URL:https://www.tcrunning.org/event/old-skool-group-stuart/2026-09-21/
LOCATION:Pete Weiler’s Office\, 515 SW Camden Ave\, Stuart\, FL\, 34994\, United States
CATEGORIES:Weekly Running
ORGANIZER;CN="Mike Melton":MAILTO:mcmelton57@gmail.com
END:VEVENT
BEGIN:VEVENT
DTSTART;TZID=America/New_York:20260928T183000
DTEND;TZID=America/New_York:20260928T203000
DTSTAMP:20260424T173525
CREATED:20250503T200834Z
LAST-MODIFIED:20260206T195127Z
UID:10008164-1790620200-1790627400@www.tcrunning.org
SUMMARY:Mon Old Skool Run Group – Stuart
DESCRIPTION:Pace: Mid to low 7’s
URL:https://www.tcrunning.org/event/old-skool-group-stuart/2026-09-28/
LOCATION:Pete Weiler’s Office\, 515 SW Camden Ave\, Stuart\, FL\, 34994\, United States
CATEGORIES:Weekly Running
ORGANIZER;CN="Mike Melton":MAILTO:mcmelton57@gmail.com
END:VEVENT
BEGIN:VEVENT
DTSTART;TZID=America/New_York:20261005T183000
DTEND;TZID=America/New_York:20261005T203000
DTSTAMP:20260424T173525
CREATED:20250503T200834Z
LAST-MODIFIED:20260206T195127Z
UID:10008165-1791225000-1791232200@www.tcrunning.org
SUMMARY:Mon Old Skool Run Group – Stuart
DESCRIPTION:Pace: Mid to low 7’s
URL:https://www.tcrunning.org/event/old-skool-group-stuart/2026-10-05/
LOCATION:Pete Weiler’s Office\, 515 SW Camden Ave\, Stuart\, FL\, 34994\, United States
CATEGORIES:Weekly Running
ORGANIZER;CN="Mike Melton":MAILTO:mcmelton57@gmail.com
END:VEVENT
BEGIN:VEVENT
DTSTART;TZID=America/New_York:20261012T183000
DTEND;TZID=America/New_York:20261012T203000
DTSTAMP:20260424T173525
CREATED:20250503T200834Z
LAST-MODIFIED:20260206T195127Z
UID:10008166-1791829800-1791837000@www.tcrunning.org
SUMMARY:Mon Old Skool Run Group – Stuart
DESCRIPTION:Pace: Mid to low 7’s
URL:https://www.tcrunning.org/event/old-skool-group-stuart/2026-10-12/
LOCATION:Pete Weiler’s Office\, 515 SW Camden Ave\, Stuart\, FL\, 34994\, United States
CATEGORIES:Weekly Running
ORGANIZER;CN="Mike Melton":MAILTO:mcmelton57@gmail.com
END:VEVENT
BEGIN:VEVENT
DTSTART;TZID=America/New_York:20261019T183000
DTEND;TZID=America/New_York:20261019T203000
DTSTAMP:20260424T173525
CREATED:20250503T200834Z
LAST-MODIFIED:20260206T195127Z
UID:10008167-1792434600-1792441800@www.tcrunning.org
SUMMARY:Mon Old Skool Run Group – Stuart
DESCRIPTION:Pace: Mid to low 7’s
URL:https://www.tcrunning.org/event/old-skool-group-stuart/2026-10-19/
LOCATION:Pete Weiler’s Office\, 515 SW Camden Ave\, Stuart\, FL\, 34994\, United States
CATEGORIES:Weekly Running
ORGANIZER;CN="Mike Melton":MAILTO:mcmelton57@gmail.com
END:VEVENT
BEGIN:VEVENT
DTSTART;TZID=America/New_York:20261026T183000
DTEND;TZID=America/New_York:20261026T203000
DTSTAMP:20260424T173525
CREATED:20250503T200834Z
LAST-MODIFIED:20260206T195127Z
UID:10008168-1793039400-1793046600@www.tcrunning.org
SUMMARY:Mon Old Skool Run Group – Stuart
DESCRIPTION:Pace: Mid to low 7’s
URL:https://www.tcrunning.org/event/old-skool-group-stuart/2026-10-26/
LOCATION:Pete Weiler’s Office\, 515 SW Camden Ave\, Stuart\, FL\, 34994\, United States
CATEGORIES:Weekly Running
ORGANIZER;CN="Mike Melton":MAILTO:mcmelton57@gmail.com
END:VEVENT
BEGIN:VEVENT
DTSTART;TZID=America/New_York:20261102T183000
DTEND;TZID=America/New_York:20261102T203000
DTSTAMP:20260424T173525
CREATED:20250503T200834Z
LAST-MODIFIED:20260206T195127Z
UID:10008169-1793644200-1793651400@www.tcrunning.org
SUMMARY:Mon Old Skool Run Group – Stuart
DESCRIPTION:Pace: Mid to low 7’s
URL:https://www.tcrunning.org/event/old-skool-group-stuart/2026-11-02/
LOCATION:Pete Weiler’s Office\, 515 SW Camden Ave\, Stuart\, FL\, 34994\, United States
CATEGORIES:Weekly Running
ORGANIZER;CN="Mike Melton":MAILTO:mcmelton57@gmail.com
END:VEVENT
BEGIN:VEVENT
DTSTART;TZID=America/New_York:20261109T183000
DTEND;TZID=America/New_York:20261109T203000
DTSTAMP:20260424T173525
CREATED:20250503T200834Z
LAST-MODIFIED:20260206T195127Z
UID:10008170-1794249000-1794256200@www.tcrunning.org
SUMMARY:Mon Old Skool Run Group – Stuart
DESCRIPTION:Pace: Mid to low 7’s
URL:https://www.tcrunning.org/event/old-skool-group-stuart/2026-11-09/
LOCATION:Pete Weiler’s Office\, 515 SW Camden Ave\, Stuart\, FL\, 34994\, United States
CATEGORIES:Weekly Running
ORGANIZER;CN="Mike Melton":MAILTO:mcmelton57@gmail.com
END:VEVENT
BEGIN:VEVENT
DTSTART;TZID=America/New_York:20261116T183000
DTEND;TZID=America/New_York:20261116T203000
DTSTAMP:20260424T173525
CREATED:20250503T200834Z
LAST-MODIFIED:20260206T195127Z
UID:10008171-1794853800-1794861000@www.tcrunning.org
SUMMARY:Mon Old Skool Run Group – Stuart
DESCRIPTION:Pace: Mid to low 7’s
URL:https://www.tcrunning.org/event/old-skool-group-stuart/2026-11-16/
LOCATION:Pete Weiler’s Office\, 515 SW Camden Ave\, Stuart\, FL\, 34994\, United States
CATEGORIES:Weekly Running
ORGANIZER;CN="Mike Melton":MAILTO:mcmelton57@gmail.com
END:VEVENT
END:VCALENDAR