BEGIN:VCALENDAR
VERSION:2.0
PRODID:-//Treasure Coast Running - ECPv6.15.20//NONSGML v1.0//EN
CALSCALE:GREGORIAN
METHOD:PUBLISH
X-WR-CALNAME:Treasure Coast Running
X-ORIGINAL-URL:https://www.tcrunning.org
X-WR-CALDESC:Events for Treasure Coast Running
REFRESH-INTERVAL;VALUE=DURATION:PT1H
X-Robots-Tag:noindex
X-PUBLISHED-TTL:PT1H
BEGIN:VTIMEZONE
TZID:America/New_York
BEGIN:DAYLIGHT
TZOFFSETFROM:-0500
TZOFFSETTO:-0400
TZNAME:EDT
DTSTART:20270314T070000
END:DAYLIGHT
BEGIN:STANDARD
TZOFFSETFROM:-0400
TZOFFSETTO:-0500
TZNAME:EST
DTSTART:20271107T060000
END:STANDARD
BEGIN:DAYLIGHT
TZOFFSETFROM:-0500
TZOFFSETTO:-0400
TZNAME:EDT
DTSTART:20280312T070000
END:DAYLIGHT
BEGIN:STANDARD
TZOFFSETFROM:-0400
TZOFFSETTO:-0500
TZNAME:EST
DTSTART:20281105T060000
END:STANDARD
BEGIN:DAYLIGHT
TZOFFSETFROM:-0500
TZOFFSETTO:-0400
TZNAME:EDT
DTSTART:20290311T070000
END:DAYLIGHT
BEGIN:STANDARD
TZOFFSETFROM:-0400
TZOFFSETTO:-0500
TZNAME:EST
DTSTART:20291104T060000
END:STANDARD
BEGIN:DAYLIGHT
TZOFFSETFROM:-0500
TZOFFSETTO:-0400
TZNAME:EDT
DTSTART:20300310T070000
END:DAYLIGHT
BEGIN:STANDARD
TZOFFSETFROM:-0400
TZOFFSETTO:-0500
TZNAME:EST
DTSTART:20301103T060000
END:STANDARD
END:VTIMEZONE
BEGIN:VEVENT
DTSTART;TZID=America/New_York:20281230T064500
DTEND;TZID=America/New_York:20281230T083000
DTSTAMP:20260422T201617
CREATED:20251216T131919Z
LAST-MODIFIED:20251216T132851Z
UID:10003717-1861771500-1861777800@www.tcrunning.org
SUMMARY:Sat Hobe Sound Run Club
DESCRIPTION:Hobe Sound Run Club \nGroup Run: Saturday mornings @ Hobe Sound Social & Coffee\n11844 SE Dixie Hwy ste a\,\nHobe Sound\, FL 33455 \nMeetup at 6:45 am. Run starts at 7:00 am. \n3-mile route to the beach and back. Longer route options available. \nContact Hobe Sound Run Club on Facebook or Instagram (IG: @hobesoundruns)
URL:https://www.tcrunning.org/event/sat-hobe-sound-run-club/2028-12-30/
LOCATION:Hobe Sound Social & Coffee\, 11844 SE Dixie Hwy Suite A\, Hobe Sound\, FL\, 33455
CATEGORIES:Weekly Running
ORGANIZER;CN="Meredith Wilcox":MAILTO:meredith.wilcox@yahoo.com
END:VEVENT
BEGIN:VEVENT
DTSTART;TZID=America/New_York:20290103T180000
DTEND;TZID=America/New_York:20290103T193000
DTSTAMP:20260422T201617
CREATED:20251222T161926Z
LAST-MODIFIED:20260407T171939Z
UID:10009400-1862157600-1862163000@www.tcrunning.org
SUMMARY:Wed Hobe Sound Run Club
DESCRIPTION:Hobe Sound Run Club \nWednesday mornings @ Sound Brewing Company\n9126B SE Bridge Rd\,\nHobe Sound\, FL 33455 \n3-mile route to the beach and back. Longer route options available. \nContact Hobe Sound Run Club on Facebook or Instagram (IG: @hobesoundruns).
URL:https://www.tcrunning.org/event/wed-hobe-sound-run-club-2/2029-01-03/
LOCATION:Sound Brewing Company\, 9126B SE Bridge Rd\, Hobe Sound\, FL\, 33455
CATEGORIES:Weekly Running
ORGANIZER;CN="Meredith Wilcox":MAILTO:meredith.wilcox@yahoo.com
END:VEVENT
BEGIN:VEVENT
DTSTART;TZID=America/New_York:20290106T064500
DTEND;TZID=America/New_York:20290106T083000
DTSTAMP:20260422T201617
CREATED:20251216T131919Z
LAST-MODIFIED:20251216T132851Z
UID:10003718-1862376300-1862382600@www.tcrunning.org
SUMMARY:Sat Hobe Sound Run Club
DESCRIPTION:Hobe Sound Run Club \nGroup Run: Saturday mornings @ Hobe Sound Social & Coffee\n11844 SE Dixie Hwy ste a\,\nHobe Sound\, FL 33455 \nMeetup at 6:45 am. Run starts at 7:00 am. \n3-mile route to the beach and back. Longer route options available. \nContact Hobe Sound Run Club on Facebook or Instagram (IG: @hobesoundruns)
URL:https://www.tcrunning.org/event/sat-hobe-sound-run-club/2029-01-06/
LOCATION:Hobe Sound Social & Coffee\, 11844 SE Dixie Hwy Suite A\, Hobe Sound\, FL\, 33455
CATEGORIES:Weekly Running
ORGANIZER;CN="Meredith Wilcox":MAILTO:meredith.wilcox@yahoo.com
END:VEVENT
BEGIN:VEVENT
DTSTART;TZID=America/New_York:20290110T180000
DTEND;TZID=America/New_York:20290110T193000
DTSTAMP:20260422T201617
CREATED:20251222T161926Z
LAST-MODIFIED:20260407T171939Z
UID:10009401-1862762400-1862767800@www.tcrunning.org
SUMMARY:Wed Hobe Sound Run Club
DESCRIPTION:Hobe Sound Run Club \nWednesday mornings @ Sound Brewing Company\n9126B SE Bridge Rd\,\nHobe Sound\, FL 33455 \n3-mile route to the beach and back. Longer route options available. \nContact Hobe Sound Run Club on Facebook or Instagram (IG: @hobesoundruns).
URL:https://www.tcrunning.org/event/wed-hobe-sound-run-club-2/2029-01-10/
LOCATION:Sound Brewing Company\, 9126B SE Bridge Rd\, Hobe Sound\, FL\, 33455
CATEGORIES:Weekly Running
ORGANIZER;CN="Meredith Wilcox":MAILTO:meredith.wilcox@yahoo.com
END:VEVENT
BEGIN:VEVENT
DTSTART;TZID=America/New_York:20290113T064500
DTEND;TZID=America/New_York:20290113T083000
DTSTAMP:20260422T201617
CREATED:20251216T131919Z
LAST-MODIFIED:20251216T132851Z
UID:10003719-1862981100-1862987400@www.tcrunning.org
SUMMARY:Sat Hobe Sound Run Club
DESCRIPTION:Hobe Sound Run Club \nGroup Run: Saturday mornings @ Hobe Sound Social & Coffee\n11844 SE Dixie Hwy ste a\,\nHobe Sound\, FL 33455 \nMeetup at 6:45 am. Run starts at 7:00 am. \n3-mile route to the beach and back. Longer route options available. \nContact Hobe Sound Run Club on Facebook or Instagram (IG: @hobesoundruns)
URL:https://www.tcrunning.org/event/sat-hobe-sound-run-club/2029-01-13/
LOCATION:Hobe Sound Social & Coffee\, 11844 SE Dixie Hwy Suite A\, Hobe Sound\, FL\, 33455
CATEGORIES:Weekly Running
ORGANIZER;CN="Meredith Wilcox":MAILTO:meredith.wilcox@yahoo.com
END:VEVENT
BEGIN:VEVENT
DTSTART;TZID=America/New_York:20290117T180000
DTEND;TZID=America/New_York:20290117T193000
DTSTAMP:20260422T201617
CREATED:20251222T161926Z
LAST-MODIFIED:20260407T171939Z
UID:10009402-1863367200-1863372600@www.tcrunning.org
SUMMARY:Wed Hobe Sound Run Club
DESCRIPTION:Hobe Sound Run Club \nWednesday mornings @ Sound Brewing Company\n9126B SE Bridge Rd\,\nHobe Sound\, FL 33455 \n3-mile route to the beach and back. Longer route options available. \nContact Hobe Sound Run Club on Facebook or Instagram (IG: @hobesoundruns).
URL:https://www.tcrunning.org/event/wed-hobe-sound-run-club-2/2029-01-17/
LOCATION:Sound Brewing Company\, 9126B SE Bridge Rd\, Hobe Sound\, FL\, 33455
CATEGORIES:Weekly Running
ORGANIZER;CN="Meredith Wilcox":MAILTO:meredith.wilcox@yahoo.com
END:VEVENT
BEGIN:VEVENT
DTSTART;TZID=America/New_York:20290120T064500
DTEND;TZID=America/New_York:20290120T083000
DTSTAMP:20260422T201617
CREATED:20251216T131919Z
LAST-MODIFIED:20251216T132851Z
UID:10003720-1863585900-1863592200@www.tcrunning.org
SUMMARY:Sat Hobe Sound Run Club
DESCRIPTION:Hobe Sound Run Club \nGroup Run: Saturday mornings @ Hobe Sound Social & Coffee\n11844 SE Dixie Hwy ste a\,\nHobe Sound\, FL 33455 \nMeetup at 6:45 am. Run starts at 7:00 am. \n3-mile route to the beach and back. Longer route options available. \nContact Hobe Sound Run Club on Facebook or Instagram (IG: @hobesoundruns)
URL:https://www.tcrunning.org/event/sat-hobe-sound-run-club/2029-01-20/
LOCATION:Hobe Sound Social & Coffee\, 11844 SE Dixie Hwy Suite A\, Hobe Sound\, FL\, 33455
CATEGORIES:Weekly Running
ORGANIZER;CN="Meredith Wilcox":MAILTO:meredith.wilcox@yahoo.com
END:VEVENT
BEGIN:VEVENT
DTSTART;TZID=America/New_York:20290124T180000
DTEND;TZID=America/New_York:20290124T193000
DTSTAMP:20260422T201617
CREATED:20251222T161926Z
LAST-MODIFIED:20260407T171939Z
UID:10009403-1863972000-1863977400@www.tcrunning.org
SUMMARY:Wed Hobe Sound Run Club
DESCRIPTION:Hobe Sound Run Club \nWednesday mornings @ Sound Brewing Company\n9126B SE Bridge Rd\,\nHobe Sound\, FL 33455 \n3-mile route to the beach and back. Longer route options available. \nContact Hobe Sound Run Club on Facebook or Instagram (IG: @hobesoundruns).
URL:https://www.tcrunning.org/event/wed-hobe-sound-run-club-2/2029-01-24/
LOCATION:Sound Brewing Company\, 9126B SE Bridge Rd\, Hobe Sound\, FL\, 33455
CATEGORIES:Weekly Running
ORGANIZER;CN="Meredith Wilcox":MAILTO:meredith.wilcox@yahoo.com
END:VEVENT
BEGIN:VEVENT
DTSTART;TZID=America/New_York:20290127T064500
DTEND;TZID=America/New_York:20290127T083000
DTSTAMP:20260422T201617
CREATED:20251216T131919Z
LAST-MODIFIED:20251216T132851Z
UID:10003721-1864190700-1864197000@www.tcrunning.org
SUMMARY:Sat Hobe Sound Run Club
DESCRIPTION:Hobe Sound Run Club \nGroup Run: Saturday mornings @ Hobe Sound Social & Coffee\n11844 SE Dixie Hwy ste a\,\nHobe Sound\, FL 33455 \nMeetup at 6:45 am. Run starts at 7:00 am. \n3-mile route to the beach and back. Longer route options available. \nContact Hobe Sound Run Club on Facebook or Instagram (IG: @hobesoundruns)
URL:https://www.tcrunning.org/event/sat-hobe-sound-run-club/2029-01-27/
LOCATION:Hobe Sound Social & Coffee\, 11844 SE Dixie Hwy Suite A\, Hobe Sound\, FL\, 33455
CATEGORIES:Weekly Running
ORGANIZER;CN="Meredith Wilcox":MAILTO:meredith.wilcox@yahoo.com
END:VEVENT
BEGIN:VEVENT
DTSTART;TZID=America/New_York:20290131T180000
DTEND;TZID=America/New_York:20290131T193000
DTSTAMP:20260422T201617
CREATED:20251222T161926Z
LAST-MODIFIED:20260407T171939Z
UID:10009404-1864576800-1864582200@www.tcrunning.org
SUMMARY:Wed Hobe Sound Run Club
DESCRIPTION:Hobe Sound Run Club \nWednesday mornings @ Sound Brewing Company\n9126B SE Bridge Rd\,\nHobe Sound\, FL 33455 \n3-mile route to the beach and back. Longer route options available. \nContact Hobe Sound Run Club on Facebook or Instagram (IG: @hobesoundruns).
URL:https://www.tcrunning.org/event/wed-hobe-sound-run-club-2/2029-01-31/
LOCATION:Sound Brewing Company\, 9126B SE Bridge Rd\, Hobe Sound\, FL\, 33455
CATEGORIES:Weekly Running
ORGANIZER;CN="Meredith Wilcox":MAILTO:meredith.wilcox@yahoo.com
END:VEVENT
BEGIN:VEVENT
DTSTART;TZID=America/New_York:20290203T064500
DTEND;TZID=America/New_York:20290203T083000
DTSTAMP:20260422T201617
CREATED:20251216T131919Z
LAST-MODIFIED:20251216T132851Z
UID:10003722-1864795500-1864801800@www.tcrunning.org
SUMMARY:Sat Hobe Sound Run Club
DESCRIPTION:Hobe Sound Run Club \nGroup Run: Saturday mornings @ Hobe Sound Social & Coffee\n11844 SE Dixie Hwy ste a\,\nHobe Sound\, FL 33455 \nMeetup at 6:45 am. Run starts at 7:00 am. \n3-mile route to the beach and back. Longer route options available. \nContact Hobe Sound Run Club on Facebook or Instagram (IG: @hobesoundruns)
URL:https://www.tcrunning.org/event/sat-hobe-sound-run-club/2029-02-03/
LOCATION:Hobe Sound Social & Coffee\, 11844 SE Dixie Hwy Suite A\, Hobe Sound\, FL\, 33455
CATEGORIES:Weekly Running
ORGANIZER;CN="Meredith Wilcox":MAILTO:meredith.wilcox@yahoo.com
END:VEVENT
BEGIN:VEVENT
DTSTART;TZID=America/New_York:20290207T180000
DTEND;TZID=America/New_York:20290207T193000
DTSTAMP:20260422T201617
CREATED:20251222T161926Z
LAST-MODIFIED:20260407T171939Z
UID:10009405-1865181600-1865187000@www.tcrunning.org
SUMMARY:Wed Hobe Sound Run Club
DESCRIPTION:Hobe Sound Run Club \nWednesday mornings @ Sound Brewing Company\n9126B SE Bridge Rd\,\nHobe Sound\, FL 33455 \n3-mile route to the beach and back. Longer route options available. \nContact Hobe Sound Run Club on Facebook or Instagram (IG: @hobesoundruns).
URL:https://www.tcrunning.org/event/wed-hobe-sound-run-club-2/2029-02-07/
LOCATION:Sound Brewing Company\, 9126B SE Bridge Rd\, Hobe Sound\, FL\, 33455
CATEGORIES:Weekly Running
ORGANIZER;CN="Meredith Wilcox":MAILTO:meredith.wilcox@yahoo.com
END:VEVENT
BEGIN:VEVENT
DTSTART;TZID=America/New_York:20290210T064500
DTEND;TZID=America/New_York:20290210T083000
DTSTAMP:20260422T201617
CREATED:20251216T131919Z
LAST-MODIFIED:20251216T132851Z
UID:10003723-1865400300-1865406600@www.tcrunning.org
SUMMARY:Sat Hobe Sound Run Club
DESCRIPTION:Hobe Sound Run Club \nGroup Run: Saturday mornings @ Hobe Sound Social & Coffee\n11844 SE Dixie Hwy ste a\,\nHobe Sound\, FL 33455 \nMeetup at 6:45 am. Run starts at 7:00 am. \n3-mile route to the beach and back. Longer route options available. \nContact Hobe Sound Run Club on Facebook or Instagram (IG: @hobesoundruns)
URL:https://www.tcrunning.org/event/sat-hobe-sound-run-club/2029-02-10/
LOCATION:Hobe Sound Social & Coffee\, 11844 SE Dixie Hwy Suite A\, Hobe Sound\, FL\, 33455
CATEGORIES:Weekly Running
ORGANIZER;CN="Meredith Wilcox":MAILTO:meredith.wilcox@yahoo.com
END:VEVENT
BEGIN:VEVENT
DTSTART;TZID=America/New_York:20290214T180000
DTEND;TZID=America/New_York:20290214T193000
DTSTAMP:20260422T201617
CREATED:20251222T161926Z
LAST-MODIFIED:20260407T171939Z
UID:10009406-1865786400-1865791800@www.tcrunning.org
SUMMARY:Wed Hobe Sound Run Club
DESCRIPTION:Hobe Sound Run Club \nWednesday mornings @ Sound Brewing Company\n9126B SE Bridge Rd\,\nHobe Sound\, FL 33455 \n3-mile route to the beach and back. Longer route options available. \nContact Hobe Sound Run Club on Facebook or Instagram (IG: @hobesoundruns).
URL:https://www.tcrunning.org/event/wed-hobe-sound-run-club-2/2029-02-14/
LOCATION:Sound Brewing Company\, 9126B SE Bridge Rd\, Hobe Sound\, FL\, 33455
CATEGORIES:Weekly Running
ORGANIZER;CN="Meredith Wilcox":MAILTO:meredith.wilcox@yahoo.com
END:VEVENT
BEGIN:VEVENT
DTSTART;TZID=America/New_York:20290217T064500
DTEND;TZID=America/New_York:20290217T083000
DTSTAMP:20260422T201617
CREATED:20251216T131919Z
LAST-MODIFIED:20251216T132851Z
UID:10003724-1866005100-1866011400@www.tcrunning.org
SUMMARY:Sat Hobe Sound Run Club
DESCRIPTION:Hobe Sound Run Club \nGroup Run: Saturday mornings @ Hobe Sound Social & Coffee\n11844 SE Dixie Hwy ste a\,\nHobe Sound\, FL 33455 \nMeetup at 6:45 am. Run starts at 7:00 am. \n3-mile route to the beach and back. Longer route options available. \nContact Hobe Sound Run Club on Facebook or Instagram (IG: @hobesoundruns)
URL:https://www.tcrunning.org/event/sat-hobe-sound-run-club/2029-02-17/
LOCATION:Hobe Sound Social & Coffee\, 11844 SE Dixie Hwy Suite A\, Hobe Sound\, FL\, 33455
CATEGORIES:Weekly Running
ORGANIZER;CN="Meredith Wilcox":MAILTO:meredith.wilcox@yahoo.com
END:VEVENT
BEGIN:VEVENT
DTSTART;TZID=America/New_York:20290221T180000
DTEND;TZID=America/New_York:20290221T193000
DTSTAMP:20260422T201617
CREATED:20251222T161926Z
LAST-MODIFIED:20260407T171939Z
UID:10009407-1866391200-1866396600@www.tcrunning.org
SUMMARY:Wed Hobe Sound Run Club
DESCRIPTION:Hobe Sound Run Club \nWednesday mornings @ Sound Brewing Company\n9126B SE Bridge Rd\,\nHobe Sound\, FL 33455 \n3-mile route to the beach and back. Longer route options available. \nContact Hobe Sound Run Club on Facebook or Instagram (IG: @hobesoundruns).
URL:https://www.tcrunning.org/event/wed-hobe-sound-run-club-2/2029-02-21/
LOCATION:Sound Brewing Company\, 9126B SE Bridge Rd\, Hobe Sound\, FL\, 33455
CATEGORIES:Weekly Running
ORGANIZER;CN="Meredith Wilcox":MAILTO:meredith.wilcox@yahoo.com
END:VEVENT
BEGIN:VEVENT
DTSTART;TZID=America/New_York:20290224T064500
DTEND;TZID=America/New_York:20290224T083000
DTSTAMP:20260422T201617
CREATED:20251216T131919Z
LAST-MODIFIED:20251216T132851Z
UID:10003725-1866609900-1866616200@www.tcrunning.org
SUMMARY:Sat Hobe Sound Run Club
DESCRIPTION:Hobe Sound Run Club \nGroup Run: Saturday mornings @ Hobe Sound Social & Coffee\n11844 SE Dixie Hwy ste a\,\nHobe Sound\, FL 33455 \nMeetup at 6:45 am. Run starts at 7:00 am. \n3-mile route to the beach and back. Longer route options available. \nContact Hobe Sound Run Club on Facebook or Instagram (IG: @hobesoundruns)
URL:https://www.tcrunning.org/event/sat-hobe-sound-run-club/2029-02-24/
LOCATION:Hobe Sound Social & Coffee\, 11844 SE Dixie Hwy Suite A\, Hobe Sound\, FL\, 33455
CATEGORIES:Weekly Running
ORGANIZER;CN="Meredith Wilcox":MAILTO:meredith.wilcox@yahoo.com
END:VEVENT
BEGIN:VEVENT
DTSTART;TZID=America/New_York:20290228T180000
DTEND;TZID=America/New_York:20290228T193000
DTSTAMP:20260422T201617
CREATED:20251222T161926Z
LAST-MODIFIED:20260407T171939Z
UID:10009408-1866996000-1867001400@www.tcrunning.org
SUMMARY:Wed Hobe Sound Run Club
DESCRIPTION:Hobe Sound Run Club \nWednesday mornings @ Sound Brewing Company\n9126B SE Bridge Rd\,\nHobe Sound\, FL 33455 \n3-mile route to the beach and back. Longer route options available. \nContact Hobe Sound Run Club on Facebook or Instagram (IG: @hobesoundruns).
URL:https://www.tcrunning.org/event/wed-hobe-sound-run-club-2/2029-02-28/
LOCATION:Sound Brewing Company\, 9126B SE Bridge Rd\, Hobe Sound\, FL\, 33455
CATEGORIES:Weekly Running
ORGANIZER;CN="Meredith Wilcox":MAILTO:meredith.wilcox@yahoo.com
END:VEVENT
BEGIN:VEVENT
DTSTART;TZID=America/New_York:20290303T064500
DTEND;TZID=America/New_York:20290303T083000
DTSTAMP:20260422T201617
CREATED:20251216T131919Z
LAST-MODIFIED:20251216T132851Z
UID:10003726-1867214700-1867221000@www.tcrunning.org
SUMMARY:Sat Hobe Sound Run Club
DESCRIPTION:Hobe Sound Run Club \nGroup Run: Saturday mornings @ Hobe Sound Social & Coffee\n11844 SE Dixie Hwy ste a\,\nHobe Sound\, FL 33455 \nMeetup at 6:45 am. Run starts at 7:00 am. \n3-mile route to the beach and back. Longer route options available. \nContact Hobe Sound Run Club on Facebook or Instagram (IG: @hobesoundruns)
URL:https://www.tcrunning.org/event/sat-hobe-sound-run-club/2029-03-03/
LOCATION:Hobe Sound Social & Coffee\, 11844 SE Dixie Hwy Suite A\, Hobe Sound\, FL\, 33455
CATEGORIES:Weekly Running
ORGANIZER;CN="Meredith Wilcox":MAILTO:meredith.wilcox@yahoo.com
END:VEVENT
BEGIN:VEVENT
DTSTART;TZID=America/New_York:20290307T180000
DTEND;TZID=America/New_York:20290307T193000
DTSTAMP:20260422T201617
CREATED:20251222T161926Z
LAST-MODIFIED:20260407T171939Z
UID:10009409-1867600800-1867606200@www.tcrunning.org
SUMMARY:Wed Hobe Sound Run Club
DESCRIPTION:Hobe Sound Run Club \nWednesday mornings @ Sound Brewing Company\n9126B SE Bridge Rd\,\nHobe Sound\, FL 33455 \n3-mile route to the beach and back. Longer route options available. \nContact Hobe Sound Run Club on Facebook or Instagram (IG: @hobesoundruns).
URL:https://www.tcrunning.org/event/wed-hobe-sound-run-club-2/2029-03-07/
LOCATION:Sound Brewing Company\, 9126B SE Bridge Rd\, Hobe Sound\, FL\, 33455
CATEGORIES:Weekly Running
ORGANIZER;CN="Meredith Wilcox":MAILTO:meredith.wilcox@yahoo.com
END:VEVENT
BEGIN:VEVENT
DTSTART;TZID=America/New_York:20290310T064500
DTEND;TZID=America/New_York:20290310T083000
DTSTAMP:20260422T201617
CREATED:20251216T131919Z
LAST-MODIFIED:20251216T132851Z
UID:10003727-1867819500-1867825800@www.tcrunning.org
SUMMARY:Sat Hobe Sound Run Club
DESCRIPTION:Hobe Sound Run Club \nGroup Run: Saturday mornings @ Hobe Sound Social & Coffee\n11844 SE Dixie Hwy ste a\,\nHobe Sound\, FL 33455 \nMeetup at 6:45 am. Run starts at 7:00 am. \n3-mile route to the beach and back. Longer route options available. \nContact Hobe Sound Run Club on Facebook or Instagram (IG: @hobesoundruns)
URL:https://www.tcrunning.org/event/sat-hobe-sound-run-club/2029-03-10/
LOCATION:Hobe Sound Social & Coffee\, 11844 SE Dixie Hwy Suite A\, Hobe Sound\, FL\, 33455
CATEGORIES:Weekly Running
ORGANIZER;CN="Meredith Wilcox":MAILTO:meredith.wilcox@yahoo.com
END:VEVENT
BEGIN:VEVENT
DTSTART;TZID=America/New_York:20290314T180000
DTEND;TZID=America/New_York:20290314T193000
DTSTAMP:20260422T201617
CREATED:20251222T161926Z
LAST-MODIFIED:20260407T171939Z
UID:10009410-1868205600-1868211000@www.tcrunning.org
SUMMARY:Wed Hobe Sound Run Club
DESCRIPTION:Hobe Sound Run Club \nWednesday mornings @ Sound Brewing Company\n9126B SE Bridge Rd\,\nHobe Sound\, FL 33455 \n3-mile route to the beach and back. Longer route options available. \nContact Hobe Sound Run Club on Facebook or Instagram (IG: @hobesoundruns).
URL:https://www.tcrunning.org/event/wed-hobe-sound-run-club-2/2029-03-14/
LOCATION:Sound Brewing Company\, 9126B SE Bridge Rd\, Hobe Sound\, FL\, 33455
CATEGORIES:Weekly Running
ORGANIZER;CN="Meredith Wilcox":MAILTO:meredith.wilcox@yahoo.com
END:VEVENT
BEGIN:VEVENT
DTSTART;TZID=America/New_York:20290317T064500
DTEND;TZID=America/New_York:20290317T083000
DTSTAMP:20260422T201617
CREATED:20251216T131919Z
LAST-MODIFIED:20251216T132851Z
UID:10003728-1868424300-1868430600@www.tcrunning.org
SUMMARY:Sat Hobe Sound Run Club
DESCRIPTION:Hobe Sound Run Club \nGroup Run: Saturday mornings @ Hobe Sound Social & Coffee\n11844 SE Dixie Hwy ste a\,\nHobe Sound\, FL 33455 \nMeetup at 6:45 am. Run starts at 7:00 am. \n3-mile route to the beach and back. Longer route options available. \nContact Hobe Sound Run Club on Facebook or Instagram (IG: @hobesoundruns)
URL:https://www.tcrunning.org/event/sat-hobe-sound-run-club/2029-03-17/
LOCATION:Hobe Sound Social & Coffee\, 11844 SE Dixie Hwy Suite A\, Hobe Sound\, FL\, 33455
CATEGORIES:Weekly Running
ORGANIZER;CN="Meredith Wilcox":MAILTO:meredith.wilcox@yahoo.com
END:VEVENT
BEGIN:VEVENT
DTSTART;TZID=America/New_York:20290321T180000
DTEND;TZID=America/New_York:20290321T193000
DTSTAMP:20260422T201617
CREATED:20251222T161926Z
LAST-MODIFIED:20260407T171939Z
UID:10009411-1868810400-1868815800@www.tcrunning.org
SUMMARY:Wed Hobe Sound Run Club
DESCRIPTION:Hobe Sound Run Club \nWednesday mornings @ Sound Brewing Company\n9126B SE Bridge Rd\,\nHobe Sound\, FL 33455 \n3-mile route to the beach and back. Longer route options available. \nContact Hobe Sound Run Club on Facebook or Instagram (IG: @hobesoundruns).
URL:https://www.tcrunning.org/event/wed-hobe-sound-run-club-2/2029-03-21/
LOCATION:Sound Brewing Company\, 9126B SE Bridge Rd\, Hobe Sound\, FL\, 33455
CATEGORIES:Weekly Running
ORGANIZER;CN="Meredith Wilcox":MAILTO:meredith.wilcox@yahoo.com
END:VEVENT
BEGIN:VEVENT
DTSTART;TZID=America/New_York:20290324T064500
DTEND;TZID=America/New_York:20290324T083000
DTSTAMP:20260422T201617
CREATED:20251216T131919Z
LAST-MODIFIED:20251216T132851Z
UID:10003729-1869029100-1869035400@www.tcrunning.org
SUMMARY:Sat Hobe Sound Run Club
DESCRIPTION:Hobe Sound Run Club \nGroup Run: Saturday mornings @ Hobe Sound Social & Coffee\n11844 SE Dixie Hwy ste a\,\nHobe Sound\, FL 33455 \nMeetup at 6:45 am. Run starts at 7:00 am. \n3-mile route to the beach and back. Longer route options available. \nContact Hobe Sound Run Club on Facebook or Instagram (IG: @hobesoundruns)
URL:https://www.tcrunning.org/event/sat-hobe-sound-run-club/2029-03-24/
LOCATION:Hobe Sound Social & Coffee\, 11844 SE Dixie Hwy Suite A\, Hobe Sound\, FL\, 33455
CATEGORIES:Weekly Running
ORGANIZER;CN="Meredith Wilcox":MAILTO:meredith.wilcox@yahoo.com
END:VEVENT
BEGIN:VEVENT
DTSTART;TZID=America/New_York:20290328T180000
DTEND;TZID=America/New_York:20290328T193000
DTSTAMP:20260422T201617
CREATED:20251222T161926Z
LAST-MODIFIED:20260407T171939Z
UID:10009412-1869415200-1869420600@www.tcrunning.org
SUMMARY:Wed Hobe Sound Run Club
DESCRIPTION:Hobe Sound Run Club \nWednesday mornings @ Sound Brewing Company\n9126B SE Bridge Rd\,\nHobe Sound\, FL 33455 \n3-mile route to the beach and back. Longer route options available. \nContact Hobe Sound Run Club on Facebook or Instagram (IG: @hobesoundruns).
URL:https://www.tcrunning.org/event/wed-hobe-sound-run-club-2/2029-03-28/
LOCATION:Sound Brewing Company\, 9126B SE Bridge Rd\, Hobe Sound\, FL\, 33455
CATEGORIES:Weekly Running
ORGANIZER;CN="Meredith Wilcox":MAILTO:meredith.wilcox@yahoo.com
END:VEVENT
BEGIN:VEVENT
DTSTART;TZID=America/New_York:20290331T064500
DTEND;TZID=America/New_York:20290331T083000
DTSTAMP:20260422T201617
CREATED:20251216T131919Z
LAST-MODIFIED:20251216T132851Z
UID:10003730-1869633900-1869640200@www.tcrunning.org
SUMMARY:Sat Hobe Sound Run Club
DESCRIPTION:Hobe Sound Run Club \nGroup Run: Saturday mornings @ Hobe Sound Social & Coffee\n11844 SE Dixie Hwy ste a\,\nHobe Sound\, FL 33455 \nMeetup at 6:45 am. Run starts at 7:00 am. \n3-mile route to the beach and back. Longer route options available. \nContact Hobe Sound Run Club on Facebook or Instagram (IG: @hobesoundruns)
URL:https://www.tcrunning.org/event/sat-hobe-sound-run-club/2029-03-31/
LOCATION:Hobe Sound Social & Coffee\, 11844 SE Dixie Hwy Suite A\, Hobe Sound\, FL\, 33455
CATEGORIES:Weekly Running
ORGANIZER;CN="Meredith Wilcox":MAILTO:meredith.wilcox@yahoo.com
END:VEVENT
BEGIN:VEVENT
DTSTART;TZID=America/New_York:20290404T180000
DTEND;TZID=America/New_York:20290404T193000
DTSTAMP:20260422T201617
CREATED:20251222T161926Z
LAST-MODIFIED:20260407T171939Z
UID:10009413-1870020000-1870025400@www.tcrunning.org
SUMMARY:Wed Hobe Sound Run Club
DESCRIPTION:Hobe Sound Run Club \nWednesday mornings @ Sound Brewing Company\n9126B SE Bridge Rd\,\nHobe Sound\, FL 33455 \n3-mile route to the beach and back. Longer route options available. \nContact Hobe Sound Run Club on Facebook or Instagram (IG: @hobesoundruns).
URL:https://www.tcrunning.org/event/wed-hobe-sound-run-club-2/2029-04-04/
LOCATION:Sound Brewing Company\, 9126B SE Bridge Rd\, Hobe Sound\, FL\, 33455
CATEGORIES:Weekly Running
ORGANIZER;CN="Meredith Wilcox":MAILTO:meredith.wilcox@yahoo.com
END:VEVENT
BEGIN:VEVENT
DTSTART;TZID=America/New_York:20290407T064500
DTEND;TZID=America/New_York:20290407T083000
DTSTAMP:20260422T201617
CREATED:20251216T131919Z
LAST-MODIFIED:20251216T132851Z
UID:10003731-1870238700-1870245000@www.tcrunning.org
SUMMARY:Sat Hobe Sound Run Club
DESCRIPTION:Hobe Sound Run Club \nGroup Run: Saturday mornings @ Hobe Sound Social & Coffee\n11844 SE Dixie Hwy ste a\,\nHobe Sound\, FL 33455 \nMeetup at 6:45 am. Run starts at 7:00 am. \n3-mile route to the beach and back. Longer route options available. \nContact Hobe Sound Run Club on Facebook or Instagram (IG: @hobesoundruns)
URL:https://www.tcrunning.org/event/sat-hobe-sound-run-club/2029-04-07/
LOCATION:Hobe Sound Social & Coffee\, 11844 SE Dixie Hwy Suite A\, Hobe Sound\, FL\, 33455
CATEGORIES:Weekly Running
ORGANIZER;CN="Meredith Wilcox":MAILTO:meredith.wilcox@yahoo.com
END:VEVENT
BEGIN:VEVENT
DTSTART;TZID=America/New_York:20290411T180000
DTEND;TZID=America/New_York:20290411T193000
DTSTAMP:20260422T201617
CREATED:20251222T161926Z
LAST-MODIFIED:20260407T171939Z
UID:10009414-1870624800-1870630200@www.tcrunning.org
SUMMARY:Wed Hobe Sound Run Club
DESCRIPTION:Hobe Sound Run Club \nWednesday mornings @ Sound Brewing Company\n9126B SE Bridge Rd\,\nHobe Sound\, FL 33455 \n3-mile route to the beach and back. Longer route options available. \nContact Hobe Sound Run Club on Facebook or Instagram (IG: @hobesoundruns).
URL:https://www.tcrunning.org/event/wed-hobe-sound-run-club-2/2029-04-11/
LOCATION:Sound Brewing Company\, 9126B SE Bridge Rd\, Hobe Sound\, FL\, 33455
CATEGORIES:Weekly Running
ORGANIZER;CN="Meredith Wilcox":MAILTO:meredith.wilcox@yahoo.com
END:VEVENT
END:VCALENDAR