BEGIN:VCALENDAR
VERSION:2.0
PRODID:-//Treasure Coast Running - ECPv6.15.20//NONSGML v1.0//EN
CALSCALE:GREGORIAN
METHOD:PUBLISH
X-ORIGINAL-URL:https://www.tcrunning.org
X-WR-CALDESC:Events for Treasure Coast Running
REFRESH-INTERVAL;VALUE=DURATION:PT1H
X-Robots-Tag:noindex
X-PUBLISHED-TTL:PT1H
BEGIN:VTIMEZONE
TZID:America/New_York
BEGIN:DAYLIGHT
TZOFFSETFROM:-0500
TZOFFSETTO:-0400
TZNAME:EDT
DTSTART:20270314T070000
END:DAYLIGHT
BEGIN:STANDARD
TZOFFSETFROM:-0400
TZOFFSETTO:-0500
TZNAME:EST
DTSTART:20271107T060000
END:STANDARD
BEGIN:DAYLIGHT
TZOFFSETFROM:-0500
TZOFFSETTO:-0400
TZNAME:EDT
DTSTART:20280312T070000
END:DAYLIGHT
BEGIN:STANDARD
TZOFFSETFROM:-0400
TZOFFSETTO:-0500
TZNAME:EST
DTSTART:20281105T060000
END:STANDARD
BEGIN:DAYLIGHT
TZOFFSETFROM:-0500
TZOFFSETTO:-0400
TZNAME:EDT
DTSTART:20290311T070000
END:DAYLIGHT
BEGIN:STANDARD
TZOFFSETFROM:-0400
TZOFFSETTO:-0500
TZNAME:EST
DTSTART:20291104T060000
END:STANDARD
END:VTIMEZONE
BEGIN:VEVENT
DTSTART;TZID=America/New_York:20280426T180000
DTEND;TZID=America/New_York:20280426T193000
DTSTAMP:20260422T125514
CREATED:20251222T161926Z
LAST-MODIFIED:20260407T171939Z
UID:10009364-1840384800-1840390200@www.tcrunning.org
SUMMARY:Wed Hobe Sound Run Club
DESCRIPTION:Hobe Sound Run Club \nWednesday mornings @ Sound Brewing Company\n9126B SE Bridge Rd\,\nHobe Sound\, FL 33455 \n3-mile route to the beach and back. Longer route options available. \nContact Hobe Sound Run Club on Facebook or Instagram (IG: @hobesoundruns).
URL:https://www.tcrunning.org/event/wed-hobe-sound-run-club-2/2028-04-26/
LOCATION:Sound Brewing Company\, 9126B SE Bridge Rd\, Hobe Sound\, FL\, 33455
CATEGORIES:Weekly Running
ORGANIZER;CN="Meredith Wilcox":MAILTO:meredith.wilcox@yahoo.com
END:VEVENT
BEGIN:VEVENT
DTSTART;TZID=America/New_York:20280429T064500
DTEND;TZID=America/New_York:20280429T083000
DTSTAMP:20260422T125514
CREATED:20251216T131919Z
LAST-MODIFIED:20251216T132851Z
UID:10003682-1840603500-1840609800@www.tcrunning.org
SUMMARY:Sat Hobe Sound Run Club
DESCRIPTION:Hobe Sound Run Club \nGroup Run: Saturday mornings @ Hobe Sound Social & Coffee\n11844 SE Dixie Hwy ste a\,\nHobe Sound\, FL 33455 \nMeetup at 6:45 am. Run starts at 7:00 am. \n3-mile route to the beach and back. Longer route options available. \nContact Hobe Sound Run Club on Facebook or Instagram (IG: @hobesoundruns)
URL:https://www.tcrunning.org/event/sat-hobe-sound-run-club/2028-04-29/
LOCATION:Hobe Sound Social & Coffee\, 11844 SE Dixie Hwy Suite A\, Hobe Sound\, FL\, 33455
CATEGORIES:Weekly Running
ORGANIZER;CN="Meredith Wilcox":MAILTO:meredith.wilcox@yahoo.com
END:VEVENT
BEGIN:VEVENT
DTSTART;TZID=America/New_York:20280503T180000
DTEND;TZID=America/New_York:20280503T193000
DTSTAMP:20260422T125514
CREATED:20251222T161926Z
LAST-MODIFIED:20260407T171939Z
UID:10009365-1840989600-1840995000@www.tcrunning.org
SUMMARY:Wed Hobe Sound Run Club
DESCRIPTION:Hobe Sound Run Club \nWednesday mornings @ Sound Brewing Company\n9126B SE Bridge Rd\,\nHobe Sound\, FL 33455 \n3-mile route to the beach and back. Longer route options available. \nContact Hobe Sound Run Club on Facebook or Instagram (IG: @hobesoundruns).
URL:https://www.tcrunning.org/event/wed-hobe-sound-run-club-2/2028-05-03/
LOCATION:Sound Brewing Company\, 9126B SE Bridge Rd\, Hobe Sound\, FL\, 33455
CATEGORIES:Weekly Running
ORGANIZER;CN="Meredith Wilcox":MAILTO:meredith.wilcox@yahoo.com
END:VEVENT
BEGIN:VEVENT
DTSTART;TZID=America/New_York:20280506T064500
DTEND;TZID=America/New_York:20280506T083000
DTSTAMP:20260422T125514
CREATED:20251216T131919Z
LAST-MODIFIED:20251216T132851Z
UID:10003683-1841208300-1841214600@www.tcrunning.org
SUMMARY:Sat Hobe Sound Run Club
DESCRIPTION:Hobe Sound Run Club \nGroup Run: Saturday mornings @ Hobe Sound Social & Coffee\n11844 SE Dixie Hwy ste a\,\nHobe Sound\, FL 33455 \nMeetup at 6:45 am. Run starts at 7:00 am. \n3-mile route to the beach and back. Longer route options available. \nContact Hobe Sound Run Club on Facebook or Instagram (IG: @hobesoundruns)
URL:https://www.tcrunning.org/event/sat-hobe-sound-run-club/2028-05-06/
LOCATION:Hobe Sound Social & Coffee\, 11844 SE Dixie Hwy Suite A\, Hobe Sound\, FL\, 33455
CATEGORIES:Weekly Running
ORGANIZER;CN="Meredith Wilcox":MAILTO:meredith.wilcox@yahoo.com
END:VEVENT
BEGIN:VEVENT
DTSTART;TZID=America/New_York:20280510T180000
DTEND;TZID=America/New_York:20280510T193000
DTSTAMP:20260422T125514
CREATED:20251222T161926Z
LAST-MODIFIED:20260407T171939Z
UID:10009366-1841594400-1841599800@www.tcrunning.org
SUMMARY:Wed Hobe Sound Run Club
DESCRIPTION:Hobe Sound Run Club \nWednesday mornings @ Sound Brewing Company\n9126B SE Bridge Rd\,\nHobe Sound\, FL 33455 \n3-mile route to the beach and back. Longer route options available. \nContact Hobe Sound Run Club on Facebook or Instagram (IG: @hobesoundruns).
URL:https://www.tcrunning.org/event/wed-hobe-sound-run-club-2/2028-05-10/
LOCATION:Sound Brewing Company\, 9126B SE Bridge Rd\, Hobe Sound\, FL\, 33455
CATEGORIES:Weekly Running
ORGANIZER;CN="Meredith Wilcox":MAILTO:meredith.wilcox@yahoo.com
END:VEVENT
BEGIN:VEVENT
DTSTART;TZID=America/New_York:20280513T064500
DTEND;TZID=America/New_York:20280513T083000
DTSTAMP:20260422T125514
CREATED:20251216T131919Z
LAST-MODIFIED:20251216T132851Z
UID:10003684-1841813100-1841819400@www.tcrunning.org
SUMMARY:Sat Hobe Sound Run Club
DESCRIPTION:Hobe Sound Run Club \nGroup Run: Saturday mornings @ Hobe Sound Social & Coffee\n11844 SE Dixie Hwy ste a\,\nHobe Sound\, FL 33455 \nMeetup at 6:45 am. Run starts at 7:00 am. \n3-mile route to the beach and back. Longer route options available. \nContact Hobe Sound Run Club on Facebook or Instagram (IG: @hobesoundruns)
URL:https://www.tcrunning.org/event/sat-hobe-sound-run-club/2028-05-13/
LOCATION:Hobe Sound Social & Coffee\, 11844 SE Dixie Hwy Suite A\, Hobe Sound\, FL\, 33455
CATEGORIES:Weekly Running
ORGANIZER;CN="Meredith Wilcox":MAILTO:meredith.wilcox@yahoo.com
END:VEVENT
BEGIN:VEVENT
DTSTART;TZID=America/New_York:20280517T180000
DTEND;TZID=America/New_York:20280517T193000
DTSTAMP:20260422T125514
CREATED:20251222T161926Z
LAST-MODIFIED:20260407T171939Z
UID:10009367-1842199200-1842204600@www.tcrunning.org
SUMMARY:Wed Hobe Sound Run Club
DESCRIPTION:Hobe Sound Run Club \nWednesday mornings @ Sound Brewing Company\n9126B SE Bridge Rd\,\nHobe Sound\, FL 33455 \n3-mile route to the beach and back. Longer route options available. \nContact Hobe Sound Run Club on Facebook or Instagram (IG: @hobesoundruns).
URL:https://www.tcrunning.org/event/wed-hobe-sound-run-club-2/2028-05-17/
LOCATION:Sound Brewing Company\, 9126B SE Bridge Rd\, Hobe Sound\, FL\, 33455
CATEGORIES:Weekly Running
ORGANIZER;CN="Meredith Wilcox":MAILTO:meredith.wilcox@yahoo.com
END:VEVENT
BEGIN:VEVENT
DTSTART;TZID=America/New_York:20280520T064500
DTEND;TZID=America/New_York:20280520T083000
DTSTAMP:20260422T125514
CREATED:20251216T131919Z
LAST-MODIFIED:20251216T132851Z
UID:10003685-1842417900-1842424200@www.tcrunning.org
SUMMARY:Sat Hobe Sound Run Club
DESCRIPTION:Hobe Sound Run Club \nGroup Run: Saturday mornings @ Hobe Sound Social & Coffee\n11844 SE Dixie Hwy ste a\,\nHobe Sound\, FL 33455 \nMeetup at 6:45 am. Run starts at 7:00 am. \n3-mile route to the beach and back. Longer route options available. \nContact Hobe Sound Run Club on Facebook or Instagram (IG: @hobesoundruns)
URL:https://www.tcrunning.org/event/sat-hobe-sound-run-club/2028-05-20/
LOCATION:Hobe Sound Social & Coffee\, 11844 SE Dixie Hwy Suite A\, Hobe Sound\, FL\, 33455
CATEGORIES:Weekly Running
ORGANIZER;CN="Meredith Wilcox":MAILTO:meredith.wilcox@yahoo.com
END:VEVENT
BEGIN:VEVENT
DTSTART;TZID=America/New_York:20280524T180000
DTEND;TZID=America/New_York:20280524T193000
DTSTAMP:20260422T125514
CREATED:20251222T161926Z
LAST-MODIFIED:20260407T171939Z
UID:10009368-1842804000-1842809400@www.tcrunning.org
SUMMARY:Wed Hobe Sound Run Club
DESCRIPTION:Hobe Sound Run Club \nWednesday mornings @ Sound Brewing Company\n9126B SE Bridge Rd\,\nHobe Sound\, FL 33455 \n3-mile route to the beach and back. Longer route options available. \nContact Hobe Sound Run Club on Facebook or Instagram (IG: @hobesoundruns).
URL:https://www.tcrunning.org/event/wed-hobe-sound-run-club-2/2028-05-24/
LOCATION:Sound Brewing Company\, 9126B SE Bridge Rd\, Hobe Sound\, FL\, 33455
CATEGORIES:Weekly Running
ORGANIZER;CN="Meredith Wilcox":MAILTO:meredith.wilcox@yahoo.com
END:VEVENT
BEGIN:VEVENT
DTSTART;TZID=America/New_York:20280527T064500
DTEND;TZID=America/New_York:20280527T083000
DTSTAMP:20260422T125514
CREATED:20251216T131919Z
LAST-MODIFIED:20251216T132851Z
UID:10003686-1843022700-1843029000@www.tcrunning.org
SUMMARY:Sat Hobe Sound Run Club
DESCRIPTION:Hobe Sound Run Club \nGroup Run: Saturday mornings @ Hobe Sound Social & Coffee\n11844 SE Dixie Hwy ste a\,\nHobe Sound\, FL 33455 \nMeetup at 6:45 am. Run starts at 7:00 am. \n3-mile route to the beach and back. Longer route options available. \nContact Hobe Sound Run Club on Facebook or Instagram (IG: @hobesoundruns)
URL:https://www.tcrunning.org/event/sat-hobe-sound-run-club/2028-05-27/
LOCATION:Hobe Sound Social & Coffee\, 11844 SE Dixie Hwy Suite A\, Hobe Sound\, FL\, 33455
CATEGORIES:Weekly Running
ORGANIZER;CN="Meredith Wilcox":MAILTO:meredith.wilcox@yahoo.com
END:VEVENT
BEGIN:VEVENT
DTSTART;TZID=America/New_York:20280531T180000
DTEND;TZID=America/New_York:20280531T193000
DTSTAMP:20260422T125514
CREATED:20251222T161926Z
LAST-MODIFIED:20260407T171939Z
UID:10009369-1843408800-1843414200@www.tcrunning.org
SUMMARY:Wed Hobe Sound Run Club
DESCRIPTION:Hobe Sound Run Club \nWednesday mornings @ Sound Brewing Company\n9126B SE Bridge Rd\,\nHobe Sound\, FL 33455 \n3-mile route to the beach and back. Longer route options available. \nContact Hobe Sound Run Club on Facebook or Instagram (IG: @hobesoundruns).
URL:https://www.tcrunning.org/event/wed-hobe-sound-run-club-2/2028-05-31/
LOCATION:Sound Brewing Company\, 9126B SE Bridge Rd\, Hobe Sound\, FL\, 33455
CATEGORIES:Weekly Running
ORGANIZER;CN="Meredith Wilcox":MAILTO:meredith.wilcox@yahoo.com
END:VEVENT
BEGIN:VEVENT
DTSTART;TZID=America/New_York:20280603T064500
DTEND;TZID=America/New_York:20280603T083000
DTSTAMP:20260422T125514
CREATED:20251216T131919Z
LAST-MODIFIED:20251216T132851Z
UID:10003687-1843627500-1843633800@www.tcrunning.org
SUMMARY:Sat Hobe Sound Run Club
DESCRIPTION:Hobe Sound Run Club \nGroup Run: Saturday mornings @ Hobe Sound Social & Coffee\n11844 SE Dixie Hwy ste a\,\nHobe Sound\, FL 33455 \nMeetup at 6:45 am. Run starts at 7:00 am. \n3-mile route to the beach and back. Longer route options available. \nContact Hobe Sound Run Club on Facebook or Instagram (IG: @hobesoundruns)
URL:https://www.tcrunning.org/event/sat-hobe-sound-run-club/2028-06-03/
LOCATION:Hobe Sound Social & Coffee\, 11844 SE Dixie Hwy Suite A\, Hobe Sound\, FL\, 33455
CATEGORIES:Weekly Running
ORGANIZER;CN="Meredith Wilcox":MAILTO:meredith.wilcox@yahoo.com
END:VEVENT
BEGIN:VEVENT
DTSTART;TZID=America/New_York:20280607T180000
DTEND;TZID=America/New_York:20280607T193000
DTSTAMP:20260422T125514
CREATED:20251222T161926Z
LAST-MODIFIED:20260407T171939Z
UID:10009370-1844013600-1844019000@www.tcrunning.org
SUMMARY:Wed Hobe Sound Run Club
DESCRIPTION:Hobe Sound Run Club \nWednesday mornings @ Sound Brewing Company\n9126B SE Bridge Rd\,\nHobe Sound\, FL 33455 \n3-mile route to the beach and back. Longer route options available. \nContact Hobe Sound Run Club on Facebook or Instagram (IG: @hobesoundruns).
URL:https://www.tcrunning.org/event/wed-hobe-sound-run-club-2/2028-06-07/
LOCATION:Sound Brewing Company\, 9126B SE Bridge Rd\, Hobe Sound\, FL\, 33455
CATEGORIES:Weekly Running
ORGANIZER;CN="Meredith Wilcox":MAILTO:meredith.wilcox@yahoo.com
END:VEVENT
BEGIN:VEVENT
DTSTART;TZID=America/New_York:20280610T064500
DTEND;TZID=America/New_York:20280610T083000
DTSTAMP:20260422T125514
CREATED:20251216T131919Z
LAST-MODIFIED:20251216T132851Z
UID:10003688-1844232300-1844238600@www.tcrunning.org
SUMMARY:Sat Hobe Sound Run Club
DESCRIPTION:Hobe Sound Run Club \nGroup Run: Saturday mornings @ Hobe Sound Social & Coffee\n11844 SE Dixie Hwy ste a\,\nHobe Sound\, FL 33455 \nMeetup at 6:45 am. Run starts at 7:00 am. \n3-mile route to the beach and back. Longer route options available. \nContact Hobe Sound Run Club on Facebook or Instagram (IG: @hobesoundruns)
URL:https://www.tcrunning.org/event/sat-hobe-sound-run-club/2028-06-10/
LOCATION:Hobe Sound Social & Coffee\, 11844 SE Dixie Hwy Suite A\, Hobe Sound\, FL\, 33455
CATEGORIES:Weekly Running
ORGANIZER;CN="Meredith Wilcox":MAILTO:meredith.wilcox@yahoo.com
END:VEVENT
BEGIN:VEVENT
DTSTART;TZID=America/New_York:20280614T180000
DTEND;TZID=America/New_York:20280614T193000
DTSTAMP:20260422T125514
CREATED:20251222T161926Z
LAST-MODIFIED:20260407T171939Z
UID:10009371-1844618400-1844623800@www.tcrunning.org
SUMMARY:Wed Hobe Sound Run Club
DESCRIPTION:Hobe Sound Run Club \nWednesday mornings @ Sound Brewing Company\n9126B SE Bridge Rd\,\nHobe Sound\, FL 33455 \n3-mile route to the beach and back. Longer route options available. \nContact Hobe Sound Run Club on Facebook or Instagram (IG: @hobesoundruns).
URL:https://www.tcrunning.org/event/wed-hobe-sound-run-club-2/2028-06-14/
LOCATION:Sound Brewing Company\, 9126B SE Bridge Rd\, Hobe Sound\, FL\, 33455
CATEGORIES:Weekly Running
ORGANIZER;CN="Meredith Wilcox":MAILTO:meredith.wilcox@yahoo.com
END:VEVENT
BEGIN:VEVENT
DTSTART;TZID=America/New_York:20280617T064500
DTEND;TZID=America/New_York:20280617T083000
DTSTAMP:20260422T125514
CREATED:20251216T131919Z
LAST-MODIFIED:20251216T132851Z
UID:10003689-1844837100-1844843400@www.tcrunning.org
SUMMARY:Sat Hobe Sound Run Club
DESCRIPTION:Hobe Sound Run Club \nGroup Run: Saturday mornings @ Hobe Sound Social & Coffee\n11844 SE Dixie Hwy ste a\,\nHobe Sound\, FL 33455 \nMeetup at 6:45 am. Run starts at 7:00 am. \n3-mile route to the beach and back. Longer route options available. \nContact Hobe Sound Run Club on Facebook or Instagram (IG: @hobesoundruns)
URL:https://www.tcrunning.org/event/sat-hobe-sound-run-club/2028-06-17/
LOCATION:Hobe Sound Social & Coffee\, 11844 SE Dixie Hwy Suite A\, Hobe Sound\, FL\, 33455
CATEGORIES:Weekly Running
ORGANIZER;CN="Meredith Wilcox":MAILTO:meredith.wilcox@yahoo.com
END:VEVENT
BEGIN:VEVENT
DTSTART;TZID=America/New_York:20280621T180000
DTEND;TZID=America/New_York:20280621T193000
DTSTAMP:20260422T125515
CREATED:20251222T161926Z
LAST-MODIFIED:20260407T171939Z
UID:10009372-1845223200-1845228600@www.tcrunning.org
SUMMARY:Wed Hobe Sound Run Club
DESCRIPTION:Hobe Sound Run Club \nWednesday mornings @ Sound Brewing Company\n9126B SE Bridge Rd\,\nHobe Sound\, FL 33455 \n3-mile route to the beach and back. Longer route options available. \nContact Hobe Sound Run Club on Facebook or Instagram (IG: @hobesoundruns).
URL:https://www.tcrunning.org/event/wed-hobe-sound-run-club-2/2028-06-21/
LOCATION:Sound Brewing Company\, 9126B SE Bridge Rd\, Hobe Sound\, FL\, 33455
CATEGORIES:Weekly Running
ORGANIZER;CN="Meredith Wilcox":MAILTO:meredith.wilcox@yahoo.com
END:VEVENT
BEGIN:VEVENT
DTSTART;TZID=America/New_York:20280624T064500
DTEND;TZID=America/New_York:20280624T083000
DTSTAMP:20260422T125515
CREATED:20251216T131919Z
LAST-MODIFIED:20251216T132851Z
UID:10003690-1845441900-1845448200@www.tcrunning.org
SUMMARY:Sat Hobe Sound Run Club
DESCRIPTION:Hobe Sound Run Club \nGroup Run: Saturday mornings @ Hobe Sound Social & Coffee\n11844 SE Dixie Hwy ste a\,\nHobe Sound\, FL 33455 \nMeetup at 6:45 am. Run starts at 7:00 am. \n3-mile route to the beach and back. Longer route options available. \nContact Hobe Sound Run Club on Facebook or Instagram (IG: @hobesoundruns)
URL:https://www.tcrunning.org/event/sat-hobe-sound-run-club/2028-06-24/
LOCATION:Hobe Sound Social & Coffee\, 11844 SE Dixie Hwy Suite A\, Hobe Sound\, FL\, 33455
CATEGORIES:Weekly Running
ORGANIZER;CN="Meredith Wilcox":MAILTO:meredith.wilcox@yahoo.com
END:VEVENT
BEGIN:VEVENT
DTSTART;TZID=America/New_York:20280628T180000
DTEND;TZID=America/New_York:20280628T193000
DTSTAMP:20260422T125515
CREATED:20251222T161926Z
LAST-MODIFIED:20260407T171939Z
UID:10009373-1845828000-1845833400@www.tcrunning.org
SUMMARY:Wed Hobe Sound Run Club
DESCRIPTION:Hobe Sound Run Club \nWednesday mornings @ Sound Brewing Company\n9126B SE Bridge Rd\,\nHobe Sound\, FL 33455 \n3-mile route to the beach and back. Longer route options available. \nContact Hobe Sound Run Club on Facebook or Instagram (IG: @hobesoundruns).
URL:https://www.tcrunning.org/event/wed-hobe-sound-run-club-2/2028-06-28/
LOCATION:Sound Brewing Company\, 9126B SE Bridge Rd\, Hobe Sound\, FL\, 33455
CATEGORIES:Weekly Running
ORGANIZER;CN="Meredith Wilcox":MAILTO:meredith.wilcox@yahoo.com
END:VEVENT
BEGIN:VEVENT
DTSTART;TZID=America/New_York:20280701T064500
DTEND;TZID=America/New_York:20280701T083000
DTSTAMP:20260422T125515
CREATED:20251216T131919Z
LAST-MODIFIED:20251216T132851Z
UID:10003691-1846046700-1846053000@www.tcrunning.org
SUMMARY:Sat Hobe Sound Run Club
DESCRIPTION:Hobe Sound Run Club \nGroup Run: Saturday mornings @ Hobe Sound Social & Coffee\n11844 SE Dixie Hwy ste a\,\nHobe Sound\, FL 33455 \nMeetup at 6:45 am. Run starts at 7:00 am. \n3-mile route to the beach and back. Longer route options available. \nContact Hobe Sound Run Club on Facebook or Instagram (IG: @hobesoundruns)
URL:https://www.tcrunning.org/event/sat-hobe-sound-run-club/2028-07-01/
LOCATION:Hobe Sound Social & Coffee\, 11844 SE Dixie Hwy Suite A\, Hobe Sound\, FL\, 33455
CATEGORIES:Weekly Running
ORGANIZER;CN="Meredith Wilcox":MAILTO:meredith.wilcox@yahoo.com
END:VEVENT
BEGIN:VEVENT
DTSTART;TZID=America/New_York:20280705T180000
DTEND;TZID=America/New_York:20280705T193000
DTSTAMP:20260422T125515
CREATED:20251222T161926Z
LAST-MODIFIED:20260407T171939Z
UID:10009374-1846432800-1846438200@www.tcrunning.org
SUMMARY:Wed Hobe Sound Run Club
DESCRIPTION:Hobe Sound Run Club \nWednesday mornings @ Sound Brewing Company\n9126B SE Bridge Rd\,\nHobe Sound\, FL 33455 \n3-mile route to the beach and back. Longer route options available. \nContact Hobe Sound Run Club on Facebook or Instagram (IG: @hobesoundruns).
URL:https://www.tcrunning.org/event/wed-hobe-sound-run-club-2/2028-07-05/
LOCATION:Sound Brewing Company\, 9126B SE Bridge Rd\, Hobe Sound\, FL\, 33455
CATEGORIES:Weekly Running
ORGANIZER;CN="Meredith Wilcox":MAILTO:meredith.wilcox@yahoo.com
END:VEVENT
BEGIN:VEVENT
DTSTART;TZID=America/New_York:20280708T064500
DTEND;TZID=America/New_York:20280708T083000
DTSTAMP:20260422T125515
CREATED:20251216T131919Z
LAST-MODIFIED:20251216T132851Z
UID:10003692-1846651500-1846657800@www.tcrunning.org
SUMMARY:Sat Hobe Sound Run Club
DESCRIPTION:Hobe Sound Run Club \nGroup Run: Saturday mornings @ Hobe Sound Social & Coffee\n11844 SE Dixie Hwy ste a\,\nHobe Sound\, FL 33455 \nMeetup at 6:45 am. Run starts at 7:00 am. \n3-mile route to the beach and back. Longer route options available. \nContact Hobe Sound Run Club on Facebook or Instagram (IG: @hobesoundruns)
URL:https://www.tcrunning.org/event/sat-hobe-sound-run-club/2028-07-08/
LOCATION:Hobe Sound Social & Coffee\, 11844 SE Dixie Hwy Suite A\, Hobe Sound\, FL\, 33455
CATEGORIES:Weekly Running
ORGANIZER;CN="Meredith Wilcox":MAILTO:meredith.wilcox@yahoo.com
END:VEVENT
BEGIN:VEVENT
DTSTART;TZID=America/New_York:20280712T180000
DTEND;TZID=America/New_York:20280712T193000
DTSTAMP:20260422T125515
CREATED:20251222T161926Z
LAST-MODIFIED:20260407T171939Z
UID:10009375-1847037600-1847043000@www.tcrunning.org
SUMMARY:Wed Hobe Sound Run Club
DESCRIPTION:Hobe Sound Run Club \nWednesday mornings @ Sound Brewing Company\n9126B SE Bridge Rd\,\nHobe Sound\, FL 33455 \n3-mile route to the beach and back. Longer route options available. \nContact Hobe Sound Run Club on Facebook or Instagram (IG: @hobesoundruns).
URL:https://www.tcrunning.org/event/wed-hobe-sound-run-club-2/2028-07-12/
LOCATION:Sound Brewing Company\, 9126B SE Bridge Rd\, Hobe Sound\, FL\, 33455
CATEGORIES:Weekly Running
ORGANIZER;CN="Meredith Wilcox":MAILTO:meredith.wilcox@yahoo.com
END:VEVENT
BEGIN:VEVENT
DTSTART;TZID=America/New_York:20280715T064500
DTEND;TZID=America/New_York:20280715T083000
DTSTAMP:20260422T125515
CREATED:20251216T131919Z
LAST-MODIFIED:20251216T132851Z
UID:10003693-1847256300-1847262600@www.tcrunning.org
SUMMARY:Sat Hobe Sound Run Club
DESCRIPTION:Hobe Sound Run Club \nGroup Run: Saturday mornings @ Hobe Sound Social & Coffee\n11844 SE Dixie Hwy ste a\,\nHobe Sound\, FL 33455 \nMeetup at 6:45 am. Run starts at 7:00 am. \n3-mile route to the beach and back. Longer route options available. \nContact Hobe Sound Run Club on Facebook or Instagram (IG: @hobesoundruns)
URL:https://www.tcrunning.org/event/sat-hobe-sound-run-club/2028-07-15/
LOCATION:Hobe Sound Social & Coffee\, 11844 SE Dixie Hwy Suite A\, Hobe Sound\, FL\, 33455
CATEGORIES:Weekly Running
ORGANIZER;CN="Meredith Wilcox":MAILTO:meredith.wilcox@yahoo.com
END:VEVENT
BEGIN:VEVENT
DTSTART;TZID=America/New_York:20280719T180000
DTEND;TZID=America/New_York:20280719T193000
DTSTAMP:20260422T125515
CREATED:20251222T161926Z
LAST-MODIFIED:20260407T171939Z
UID:10009376-1847642400-1847647800@www.tcrunning.org
SUMMARY:Wed Hobe Sound Run Club
DESCRIPTION:Hobe Sound Run Club \nWednesday mornings @ Sound Brewing Company\n9126B SE Bridge Rd\,\nHobe Sound\, FL 33455 \n3-mile route to the beach and back. Longer route options available. \nContact Hobe Sound Run Club on Facebook or Instagram (IG: @hobesoundruns).
URL:https://www.tcrunning.org/event/wed-hobe-sound-run-club-2/2028-07-19/
LOCATION:Sound Brewing Company\, 9126B SE Bridge Rd\, Hobe Sound\, FL\, 33455
CATEGORIES:Weekly Running
ORGANIZER;CN="Meredith Wilcox":MAILTO:meredith.wilcox@yahoo.com
END:VEVENT
BEGIN:VEVENT
DTSTART;TZID=America/New_York:20280722T064500
DTEND;TZID=America/New_York:20280722T083000
DTSTAMP:20260422T125515
CREATED:20251216T131919Z
LAST-MODIFIED:20251216T132851Z
UID:10003694-1847861100-1847867400@www.tcrunning.org
SUMMARY:Sat Hobe Sound Run Club
DESCRIPTION:Hobe Sound Run Club \nGroup Run: Saturday mornings @ Hobe Sound Social & Coffee\n11844 SE Dixie Hwy ste a\,\nHobe Sound\, FL 33455 \nMeetup at 6:45 am. Run starts at 7:00 am. \n3-mile route to the beach and back. Longer route options available. \nContact Hobe Sound Run Club on Facebook or Instagram (IG: @hobesoundruns)
URL:https://www.tcrunning.org/event/sat-hobe-sound-run-club/2028-07-22/
LOCATION:Hobe Sound Social & Coffee\, 11844 SE Dixie Hwy Suite A\, Hobe Sound\, FL\, 33455
CATEGORIES:Weekly Running
ORGANIZER;CN="Meredith Wilcox":MAILTO:meredith.wilcox@yahoo.com
END:VEVENT
BEGIN:VEVENT
DTSTART;TZID=America/New_York:20280726T180000
DTEND;TZID=America/New_York:20280726T193000
DTSTAMP:20260422T125515
CREATED:20251222T161926Z
LAST-MODIFIED:20260407T171939Z
UID:10009377-1848247200-1848252600@www.tcrunning.org
SUMMARY:Wed Hobe Sound Run Club
DESCRIPTION:Hobe Sound Run Club \nWednesday mornings @ Sound Brewing Company\n9126B SE Bridge Rd\,\nHobe Sound\, FL 33455 \n3-mile route to the beach and back. Longer route options available. \nContact Hobe Sound Run Club on Facebook or Instagram (IG: @hobesoundruns).
URL:https://www.tcrunning.org/event/wed-hobe-sound-run-club-2/2028-07-26/
LOCATION:Sound Brewing Company\, 9126B SE Bridge Rd\, Hobe Sound\, FL\, 33455
CATEGORIES:Weekly Running
ORGANIZER;CN="Meredith Wilcox":MAILTO:meredith.wilcox@yahoo.com
END:VEVENT
BEGIN:VEVENT
DTSTART;TZID=America/New_York:20280729T064500
DTEND;TZID=America/New_York:20280729T083000
DTSTAMP:20260422T125515
CREATED:20251216T131919Z
LAST-MODIFIED:20251216T132851Z
UID:10003695-1848465900-1848472200@www.tcrunning.org
SUMMARY:Sat Hobe Sound Run Club
DESCRIPTION:Hobe Sound Run Club \nGroup Run: Saturday mornings @ Hobe Sound Social & Coffee\n11844 SE Dixie Hwy ste a\,\nHobe Sound\, FL 33455 \nMeetup at 6:45 am. Run starts at 7:00 am. \n3-mile route to the beach and back. Longer route options available. \nContact Hobe Sound Run Club on Facebook or Instagram (IG: @hobesoundruns)
URL:https://www.tcrunning.org/event/sat-hobe-sound-run-club/2028-07-29/
LOCATION:Hobe Sound Social & Coffee\, 11844 SE Dixie Hwy Suite A\, Hobe Sound\, FL\, 33455
CATEGORIES:Weekly Running
ORGANIZER;CN="Meredith Wilcox":MAILTO:meredith.wilcox@yahoo.com
END:VEVENT
BEGIN:VEVENT
DTSTART;TZID=America/New_York:20280802T180000
DTEND;TZID=America/New_York:20280802T193000
DTSTAMP:20260422T125515
CREATED:20251222T161926Z
LAST-MODIFIED:20260407T171939Z
UID:10009378-1848852000-1848857400@www.tcrunning.org
SUMMARY:Wed Hobe Sound Run Club
DESCRIPTION:Hobe Sound Run Club \nWednesday mornings @ Sound Brewing Company\n9126B SE Bridge Rd\,\nHobe Sound\, FL 33455 \n3-mile route to the beach and back. Longer route options available. \nContact Hobe Sound Run Club on Facebook or Instagram (IG: @hobesoundruns).
URL:https://www.tcrunning.org/event/wed-hobe-sound-run-club-2/2028-08-02/
LOCATION:Sound Brewing Company\, 9126B SE Bridge Rd\, Hobe Sound\, FL\, 33455
CATEGORIES:Weekly Running
ORGANIZER;CN="Meredith Wilcox":MAILTO:meredith.wilcox@yahoo.com
END:VEVENT
BEGIN:VEVENT
DTSTART;TZID=America/New_York:20280805T064500
DTEND;TZID=America/New_York:20280805T083000
DTSTAMP:20260422T125515
CREATED:20251216T131919Z
LAST-MODIFIED:20251216T132851Z
UID:10003696-1849070700-1849077000@www.tcrunning.org
SUMMARY:Sat Hobe Sound Run Club
DESCRIPTION:Hobe Sound Run Club \nGroup Run: Saturday mornings @ Hobe Sound Social & Coffee\n11844 SE Dixie Hwy ste a\,\nHobe Sound\, FL 33455 \nMeetup at 6:45 am. Run starts at 7:00 am. \n3-mile route to the beach and back. Longer route options available. \nContact Hobe Sound Run Club on Facebook or Instagram (IG: @hobesoundruns)
URL:https://www.tcrunning.org/event/sat-hobe-sound-run-club/2028-08-05/
LOCATION:Hobe Sound Social & Coffee\, 11844 SE Dixie Hwy Suite A\, Hobe Sound\, FL\, 33455
CATEGORIES:Weekly Running
ORGANIZER;CN="Meredith Wilcox":MAILTO:meredith.wilcox@yahoo.com
END:VEVENT
END:VCALENDAR