BEGIN:VCALENDAR
VERSION:2.0
PRODID:-//Treasure Coast Running - ECPv6.15.20//NONSGML v1.0//EN
CALSCALE:GREGORIAN
METHOD:PUBLISH
X-WR-CALNAME:Treasure Coast Running
X-ORIGINAL-URL:https://www.tcrunning.org
X-WR-CALDESC:Events for Treasure Coast Running
REFRESH-INTERVAL;VALUE=DURATION:PT1H
X-Robots-Tag:noindex
X-PUBLISHED-TTL:PT1H
BEGIN:VTIMEZONE
TZID:America/New_York
BEGIN:DAYLIGHT
TZOFFSETFROM:-0500
TZOFFSETTO:-0400
TZNAME:EDT
DTSTART:20260308T070000
END:DAYLIGHT
BEGIN:STANDARD
TZOFFSETFROM:-0400
TZOFFSETTO:-0500
TZNAME:EST
DTSTART:20261101T060000
END:STANDARD
BEGIN:DAYLIGHT
TZOFFSETFROM:-0500
TZOFFSETTO:-0400
TZNAME:EDT
DTSTART:20270314T070000
END:DAYLIGHT
BEGIN:STANDARD
TZOFFSETFROM:-0400
TZOFFSETTO:-0500
TZNAME:EST
DTSTART:20271107T060000
END:STANDARD
BEGIN:DAYLIGHT
TZOFFSETFROM:-0500
TZOFFSETTO:-0400
TZNAME:EDT
DTSTART:20280312T070000
END:DAYLIGHT
BEGIN:STANDARD
TZOFFSETFROM:-0400
TZOFFSETTO:-0500
TZNAME:EST
DTSTART:20281105T060000
END:STANDARD
END:VTIMEZONE
BEGIN:VEVENT
DTSTART;TZID=America/New_York:20270405T183000
DTEND;TZID=America/New_York:20270405T203000
DTSTAMP:20260424T085927
CREATED:20250511T223119Z
LAST-MODIFIED:20260206T194736Z
UID:10007659-1806949800-1806957000@www.tcrunning.org
SUMMARY:Mon Fleet Feet – Tradition
DESCRIPTION:
URL:https://www.tcrunning.org/event/fleet-feet-stuart-2/2027-04-05/
LOCATION:Tradition Fleet Feet\, 11586 SW Village Pkwy\, Port St. Lucie\, FL\, 34987
CATEGORIES:Weekly Running
END:VEVENT
BEGIN:VEVENT
DTSTART;TZID=America/New_York:20270406T183000
DTEND;TZID=America/New_York:20270406T203000
DTSTAMP:20260424T085927
CREATED:20250511T223517Z
LAST-MODIFIED:20260206T194830Z
UID:10007925-1807036200-1807043400@www.tcrunning.org
SUMMARY:Tue Fleet Feet – Tidehouse
DESCRIPTION:
URL:https://www.tcrunning.org/event/tue-fleet-feet-tidehouse/2027-04-06/
LOCATION:Tidehouse\, 915 NW Flagler Ave\, Stuart\, FL\, 34994
CATEGORIES:Weekly Running
END:VEVENT
BEGIN:VEVENT
DTSTART;TZID=America/New_York:20270412T183000
DTEND;TZID=America/New_York:20270412T203000
DTSTAMP:20260424T085927
CREATED:20250511T223119Z
LAST-MODIFIED:20260206T194736Z
UID:10007660-1807554600-1807561800@www.tcrunning.org
SUMMARY:Mon Fleet Feet – Tradition
DESCRIPTION:
URL:https://www.tcrunning.org/event/fleet-feet-stuart-2/2027-04-12/
LOCATION:Tradition Fleet Feet\, 11586 SW Village Pkwy\, Port St. Lucie\, FL\, 34987
CATEGORIES:Weekly Running
END:VEVENT
BEGIN:VEVENT
DTSTART;TZID=America/New_York:20270413T183000
DTEND;TZID=America/New_York:20270413T203000
DTSTAMP:20260424T085927
CREATED:20250511T223517Z
LAST-MODIFIED:20260206T194830Z
UID:10007926-1807641000-1807648200@www.tcrunning.org
SUMMARY:Tue Fleet Feet – Tidehouse
DESCRIPTION:
URL:https://www.tcrunning.org/event/tue-fleet-feet-tidehouse/2027-04-13/
LOCATION:Tidehouse\, 915 NW Flagler Ave\, Stuart\, FL\, 34994
CATEGORIES:Weekly Running
END:VEVENT
BEGIN:VEVENT
DTSTART;TZID=America/New_York:20270419T183000
DTEND;TZID=America/New_York:20270419T203000
DTSTAMP:20260424T085927
CREATED:20250511T223119Z
LAST-MODIFIED:20260206T194736Z
UID:10007661-1808159400-1808166600@www.tcrunning.org
SUMMARY:Mon Fleet Feet – Tradition
DESCRIPTION:
URL:https://www.tcrunning.org/event/fleet-feet-stuart-2/2027-04-19/
LOCATION:Tradition Fleet Feet\, 11586 SW Village Pkwy\, Port St. Lucie\, FL\, 34987
CATEGORIES:Weekly Running
END:VEVENT
BEGIN:VEVENT
DTSTART;TZID=America/New_York:20270420T183000
DTEND;TZID=America/New_York:20270420T203000
DTSTAMP:20260424T085927
CREATED:20250511T223517Z
LAST-MODIFIED:20260206T194830Z
UID:10007927-1808245800-1808253000@www.tcrunning.org
SUMMARY:Tue Fleet Feet – Tidehouse
DESCRIPTION:
URL:https://www.tcrunning.org/event/tue-fleet-feet-tidehouse/2027-04-20/
LOCATION:Tidehouse\, 915 NW Flagler Ave\, Stuart\, FL\, 34994
CATEGORIES:Weekly Running
END:VEVENT
BEGIN:VEVENT
DTSTART;TZID=America/New_York:20270426T183000
DTEND;TZID=America/New_York:20270426T203000
DTSTAMP:20260424T085927
CREATED:20250511T223119Z
LAST-MODIFIED:20260206T194736Z
UID:10007662-1808764200-1808771400@www.tcrunning.org
SUMMARY:Mon Fleet Feet – Tradition
DESCRIPTION:
URL:https://www.tcrunning.org/event/fleet-feet-stuart-2/2027-04-26/
LOCATION:Tradition Fleet Feet\, 11586 SW Village Pkwy\, Port St. Lucie\, FL\, 34987
CATEGORIES:Weekly Running
END:VEVENT
BEGIN:VEVENT
DTSTART;TZID=America/New_York:20270427T183000
DTEND;TZID=America/New_York:20270427T203000
DTSTAMP:20260424T085927
CREATED:20250511T223517Z
LAST-MODIFIED:20260206T194830Z
UID:10007928-1808850600-1808857800@www.tcrunning.org
SUMMARY:Tue Fleet Feet – Tidehouse
DESCRIPTION:
URL:https://www.tcrunning.org/event/tue-fleet-feet-tidehouse/2027-04-27/
LOCATION:Tidehouse\, 915 NW Flagler Ave\, Stuart\, FL\, 34994
CATEGORIES:Weekly Running
END:VEVENT
BEGIN:VEVENT
DTSTART;TZID=America/New_York:20270503T183000
DTEND;TZID=America/New_York:20270503T203000
DTSTAMP:20260424T085927
CREATED:20250511T223119Z
LAST-MODIFIED:20260206T194736Z
UID:10007663-1809369000-1809376200@www.tcrunning.org
SUMMARY:Mon Fleet Feet – Tradition
DESCRIPTION:
URL:https://www.tcrunning.org/event/fleet-feet-stuart-2/2027-05-03/
LOCATION:Tradition Fleet Feet\, 11586 SW Village Pkwy\, Port St. Lucie\, FL\, 34987
CATEGORIES:Weekly Running
END:VEVENT
BEGIN:VEVENT
DTSTART;TZID=America/New_York:20270504T183000
DTEND;TZID=America/New_York:20270504T203000
DTSTAMP:20260424T085927
CREATED:20250511T223517Z
LAST-MODIFIED:20260206T194830Z
UID:10007929-1809455400-1809462600@www.tcrunning.org
SUMMARY:Tue Fleet Feet – Tidehouse
DESCRIPTION:
URL:https://www.tcrunning.org/event/tue-fleet-feet-tidehouse/2027-05-04/
LOCATION:Tidehouse\, 915 NW Flagler Ave\, Stuart\, FL\, 34994
CATEGORIES:Weekly Running
END:VEVENT
BEGIN:VEVENT
DTSTART;TZID=America/New_York:20270510T183000
DTEND;TZID=America/New_York:20270510T203000
DTSTAMP:20260424T085927
CREATED:20250511T223119Z
LAST-MODIFIED:20260206T194736Z
UID:10007664-1809973800-1809981000@www.tcrunning.org
SUMMARY:Mon Fleet Feet – Tradition
DESCRIPTION:
URL:https://www.tcrunning.org/event/fleet-feet-stuart-2/2027-05-10/
LOCATION:Tradition Fleet Feet\, 11586 SW Village Pkwy\, Port St. Lucie\, FL\, 34987
CATEGORIES:Weekly Running
END:VEVENT
BEGIN:VEVENT
DTSTART;TZID=America/New_York:20270511T183000
DTEND;TZID=America/New_York:20270511T203000
DTSTAMP:20260424T085927
CREATED:20250511T223517Z
LAST-MODIFIED:20260206T194830Z
UID:10007930-1810060200-1810067400@www.tcrunning.org
SUMMARY:Tue Fleet Feet – Tidehouse
DESCRIPTION:
URL:https://www.tcrunning.org/event/tue-fleet-feet-tidehouse/2027-05-11/
LOCATION:Tidehouse\, 915 NW Flagler Ave\, Stuart\, FL\, 34994
CATEGORIES:Weekly Running
END:VEVENT
BEGIN:VEVENT
DTSTART;TZID=America/New_York:20270517T183000
DTEND;TZID=America/New_York:20270517T203000
DTSTAMP:20260424T085927
CREATED:20250511T223119Z
LAST-MODIFIED:20260206T194736Z
UID:10007665-1810578600-1810585800@www.tcrunning.org
SUMMARY:Mon Fleet Feet – Tradition
DESCRIPTION:
URL:https://www.tcrunning.org/event/fleet-feet-stuart-2/2027-05-17/
LOCATION:Tradition Fleet Feet\, 11586 SW Village Pkwy\, Port St. Lucie\, FL\, 34987
CATEGORIES:Weekly Running
END:VEVENT
BEGIN:VEVENT
DTSTART;TZID=America/New_York:20270518T183000
DTEND;TZID=America/New_York:20270518T203000
DTSTAMP:20260424T085927
CREATED:20250511T223517Z
LAST-MODIFIED:20260206T194830Z
UID:10007931-1810665000-1810672200@www.tcrunning.org
SUMMARY:Tue Fleet Feet – Tidehouse
DESCRIPTION:
URL:https://www.tcrunning.org/event/tue-fleet-feet-tidehouse/2027-05-18/
LOCATION:Tidehouse\, 915 NW Flagler Ave\, Stuart\, FL\, 34994
CATEGORIES:Weekly Running
END:VEVENT
BEGIN:VEVENT
DTSTART;TZID=America/New_York:20270524T183000
DTEND;TZID=America/New_York:20270524T203000
DTSTAMP:20260424T085927
CREATED:20250511T223119Z
LAST-MODIFIED:20260206T194736Z
UID:10007666-1811183400-1811190600@www.tcrunning.org
SUMMARY:Mon Fleet Feet – Tradition
DESCRIPTION:
URL:https://www.tcrunning.org/event/fleet-feet-stuart-2/2027-05-24/
LOCATION:Tradition Fleet Feet\, 11586 SW Village Pkwy\, Port St. Lucie\, FL\, 34987
CATEGORIES:Weekly Running
END:VEVENT
BEGIN:VEVENT
DTSTART;TZID=America/New_York:20270525T183000
DTEND;TZID=America/New_York:20270525T203000
DTSTAMP:20260424T085927
CREATED:20250511T223517Z
LAST-MODIFIED:20260206T194830Z
UID:10007932-1811269800-1811277000@www.tcrunning.org
SUMMARY:Tue Fleet Feet – Tidehouse
DESCRIPTION:
URL:https://www.tcrunning.org/event/tue-fleet-feet-tidehouse/2027-05-25/
LOCATION:Tidehouse\, 915 NW Flagler Ave\, Stuart\, FL\, 34994
CATEGORIES:Weekly Running
END:VEVENT
BEGIN:VEVENT
DTSTART;TZID=America/New_York:20270531T183000
DTEND;TZID=America/New_York:20270531T203000
DTSTAMP:20260424T085927
CREATED:20250511T223119Z
LAST-MODIFIED:20260206T194736Z
UID:10007667-1811788200-1811795400@www.tcrunning.org
SUMMARY:Mon Fleet Feet – Tradition
DESCRIPTION:
URL:https://www.tcrunning.org/event/fleet-feet-stuart-2/2027-05-31/
LOCATION:Tradition Fleet Feet\, 11586 SW Village Pkwy\, Port St. Lucie\, FL\, 34987
CATEGORIES:Weekly Running
END:VEVENT
BEGIN:VEVENT
DTSTART;TZID=America/New_York:20270601T183000
DTEND;TZID=America/New_York:20270601T203000
DTSTAMP:20260424T085927
CREATED:20250511T223517Z
LAST-MODIFIED:20260206T194830Z
UID:10007933-1811874600-1811881800@www.tcrunning.org
SUMMARY:Tue Fleet Feet – Tidehouse
DESCRIPTION:
URL:https://www.tcrunning.org/event/tue-fleet-feet-tidehouse/2027-06-01/
LOCATION:Tidehouse\, 915 NW Flagler Ave\, Stuart\, FL\, 34994
CATEGORIES:Weekly Running
END:VEVENT
BEGIN:VEVENT
DTSTART;TZID=America/New_York:20270607T183000
DTEND;TZID=America/New_York:20270607T203000
DTSTAMP:20260424T085927
CREATED:20250511T223119Z
LAST-MODIFIED:20260206T194736Z
UID:10007668-1812393000-1812400200@www.tcrunning.org
SUMMARY:Mon Fleet Feet – Tradition
DESCRIPTION:
URL:https://www.tcrunning.org/event/fleet-feet-stuart-2/2027-06-07/
LOCATION:Tradition Fleet Feet\, 11586 SW Village Pkwy\, Port St. Lucie\, FL\, 34987
CATEGORIES:Weekly Running
END:VEVENT
BEGIN:VEVENT
DTSTART;TZID=America/New_York:20270608T183000
DTEND;TZID=America/New_York:20270608T203000
DTSTAMP:20260424T085927
CREATED:20250511T223517Z
LAST-MODIFIED:20260206T194830Z
UID:10007934-1812479400-1812486600@www.tcrunning.org
SUMMARY:Tue Fleet Feet – Tidehouse
DESCRIPTION:
URL:https://www.tcrunning.org/event/tue-fleet-feet-tidehouse/2027-06-08/
LOCATION:Tidehouse\, 915 NW Flagler Ave\, Stuart\, FL\, 34994
CATEGORIES:Weekly Running
END:VEVENT
BEGIN:VEVENT
DTSTART;TZID=America/New_York:20270614T183000
DTEND;TZID=America/New_York:20270614T203000
DTSTAMP:20260424T085927
CREATED:20250511T223119Z
LAST-MODIFIED:20260206T194736Z
UID:10007669-1812997800-1813005000@www.tcrunning.org
SUMMARY:Mon Fleet Feet – Tradition
DESCRIPTION:
URL:https://www.tcrunning.org/event/fleet-feet-stuart-2/2027-06-14/
LOCATION:Tradition Fleet Feet\, 11586 SW Village Pkwy\, Port St. Lucie\, FL\, 34987
CATEGORIES:Weekly Running
END:VEVENT
BEGIN:VEVENT
DTSTART;TZID=America/New_York:20270615T183000
DTEND;TZID=America/New_York:20270615T203000
DTSTAMP:20260424T085927
CREATED:20250511T223517Z
LAST-MODIFIED:20260206T194830Z
UID:10007935-1813084200-1813091400@www.tcrunning.org
SUMMARY:Tue Fleet Feet – Tidehouse
DESCRIPTION:
URL:https://www.tcrunning.org/event/tue-fleet-feet-tidehouse/2027-06-15/
LOCATION:Tidehouse\, 915 NW Flagler Ave\, Stuart\, FL\, 34994
CATEGORIES:Weekly Running
END:VEVENT
BEGIN:VEVENT
DTSTART;TZID=America/New_York:20270621T183000
DTEND;TZID=America/New_York:20270621T203000
DTSTAMP:20260424T085927
CREATED:20250511T223119Z
LAST-MODIFIED:20260206T194736Z
UID:10007670-1813602600-1813609800@www.tcrunning.org
SUMMARY:Mon Fleet Feet – Tradition
DESCRIPTION:
URL:https://www.tcrunning.org/event/fleet-feet-stuart-2/2027-06-21/
LOCATION:Tradition Fleet Feet\, 11586 SW Village Pkwy\, Port St. Lucie\, FL\, 34987
CATEGORIES:Weekly Running
END:VEVENT
BEGIN:VEVENT
DTSTART;TZID=America/New_York:20270622T183000
DTEND;TZID=America/New_York:20270622T203000
DTSTAMP:20260424T085927
CREATED:20250511T223517Z
LAST-MODIFIED:20260206T194830Z
UID:10007936-1813689000-1813696200@www.tcrunning.org
SUMMARY:Tue Fleet Feet – Tidehouse
DESCRIPTION:
URL:https://www.tcrunning.org/event/tue-fleet-feet-tidehouse/2027-06-22/
LOCATION:Tidehouse\, 915 NW Flagler Ave\, Stuart\, FL\, 34994
CATEGORIES:Weekly Running
END:VEVENT
BEGIN:VEVENT
DTSTART;TZID=America/New_York:20270628T183000
DTEND;TZID=America/New_York:20270628T203000
DTSTAMP:20260424T085927
CREATED:20250511T223119Z
LAST-MODIFIED:20260206T194736Z
UID:10007671-1814207400-1814214600@www.tcrunning.org
SUMMARY:Mon Fleet Feet – Tradition
DESCRIPTION:
URL:https://www.tcrunning.org/event/fleet-feet-stuart-2/2027-06-28/
LOCATION:Tradition Fleet Feet\, 11586 SW Village Pkwy\, Port St. Lucie\, FL\, 34987
CATEGORIES:Weekly Running
END:VEVENT
BEGIN:VEVENT
DTSTART;TZID=America/New_York:20270629T183000
DTEND;TZID=America/New_York:20270629T203000
DTSTAMP:20260424T085927
CREATED:20250511T223517Z
LAST-MODIFIED:20260206T194830Z
UID:10007937-1814293800-1814301000@www.tcrunning.org
SUMMARY:Tue Fleet Feet – Tidehouse
DESCRIPTION:
URL:https://www.tcrunning.org/event/tue-fleet-feet-tidehouse/2027-06-29/
LOCATION:Tidehouse\, 915 NW Flagler Ave\, Stuart\, FL\, 34994
CATEGORIES:Weekly Running
END:VEVENT
BEGIN:VEVENT
DTSTART;TZID=America/New_York:20270705T183000
DTEND;TZID=America/New_York:20270705T203000
DTSTAMP:20260424T085927
CREATED:20250511T223119Z
LAST-MODIFIED:20260206T194736Z
UID:10007672-1814812200-1814819400@www.tcrunning.org
SUMMARY:Mon Fleet Feet – Tradition
DESCRIPTION:
URL:https://www.tcrunning.org/event/fleet-feet-stuart-2/2027-07-05/
LOCATION:Tradition Fleet Feet\, 11586 SW Village Pkwy\, Port St. Lucie\, FL\, 34987
CATEGORIES:Weekly Running
END:VEVENT
BEGIN:VEVENT
DTSTART;TZID=America/New_York:20270706T183000
DTEND;TZID=America/New_York:20270706T203000
DTSTAMP:20260424T085927
CREATED:20250511T223517Z
LAST-MODIFIED:20260206T194830Z
UID:10007938-1814898600-1814905800@www.tcrunning.org
SUMMARY:Tue Fleet Feet – Tidehouse
DESCRIPTION:
URL:https://www.tcrunning.org/event/tue-fleet-feet-tidehouse/2027-07-06/
LOCATION:Tidehouse\, 915 NW Flagler Ave\, Stuart\, FL\, 34994
CATEGORIES:Weekly Running
END:VEVENT
BEGIN:VEVENT
DTSTART;TZID=America/New_York:20270712T183000
DTEND;TZID=America/New_York:20270712T203000
DTSTAMP:20260424T085927
CREATED:20250511T223119Z
LAST-MODIFIED:20260206T194736Z
UID:10007673-1815417000-1815424200@www.tcrunning.org
SUMMARY:Mon Fleet Feet – Tradition
DESCRIPTION:
URL:https://www.tcrunning.org/event/fleet-feet-stuart-2/2027-07-12/
LOCATION:Tradition Fleet Feet\, 11586 SW Village Pkwy\, Port St. Lucie\, FL\, 34987
CATEGORIES:Weekly Running
END:VEVENT
BEGIN:VEVENT
DTSTART;TZID=America/New_York:20270713T183000
DTEND;TZID=America/New_York:20270713T203000
DTSTAMP:20260424T085927
CREATED:20250511T223517Z
LAST-MODIFIED:20260206T194830Z
UID:10007939-1815503400-1815510600@www.tcrunning.org
SUMMARY:Tue Fleet Feet – Tidehouse
DESCRIPTION:
URL:https://www.tcrunning.org/event/tue-fleet-feet-tidehouse/2027-07-13/
LOCATION:Tidehouse\, 915 NW Flagler Ave\, Stuart\, FL\, 34994
CATEGORIES:Weekly Running
END:VEVENT
END:VCALENDAR