BEGIN:VCALENDAR
VERSION:2.0
PRODID:-//Treasure Coast Running - ECPv6.15.20//NONSGML v1.0//EN
CALSCALE:GREGORIAN
METHOD:PUBLISH
X-ORIGINAL-URL:https://www.tcrunning.org
X-WR-CALDESC:Events for Treasure Coast Running
REFRESH-INTERVAL;VALUE=DURATION:PT1H
X-Robots-Tag:noindex
X-PUBLISHED-TTL:PT1H
BEGIN:VTIMEZONE
TZID:America/New_York
BEGIN:DAYLIGHT
TZOFFSETFROM:-0500
TZOFFSETTO:-0400
TZNAME:EDT
DTSTART:20270314T070000
END:DAYLIGHT
BEGIN:STANDARD
TZOFFSETFROM:-0400
TZOFFSETTO:-0500
TZNAME:EST
DTSTART:20271107T060000
END:STANDARD
BEGIN:DAYLIGHT
TZOFFSETFROM:-0500
TZOFFSETTO:-0400
TZNAME:EDT
DTSTART:20280312T070000
END:DAYLIGHT
BEGIN:STANDARD
TZOFFSETFROM:-0400
TZOFFSETTO:-0500
TZNAME:EST
DTSTART:20281105T060000
END:STANDARD
BEGIN:DAYLIGHT
TZOFFSETFROM:-0500
TZOFFSETTO:-0400
TZNAME:EDT
DTSTART:20290311T070000
END:DAYLIGHT
BEGIN:STANDARD
TZOFFSETFROM:-0400
TZOFFSETTO:-0500
TZNAME:EST
DTSTART:20291104T060000
END:STANDARD
END:VTIMEZONE
BEGIN:VEVENT
DTSTART;TZID=America/New_York:20280920T180000
DTEND;TZID=America/New_York:20280920T193000
DTSTAMP:20260421T205900
CREATED:20260204T142741Z
LAST-MODIFIED:20260205T125444Z
UID:10006412-1853085600-1853091000@www.tcrunning.org
SUMMARY:Wed PSL Crosstown Running
DESCRIPTION:PSL Crosstown Running Club \nWednesday – 6:00 PM\nMcChesney Park\n1585 SW Cashmere Blvd.\, Port St. Lucie\, FL 34986 \nhttps://www.facebook.com/PSLCrosstownRunningClub
URL:https://www.tcrunning.org/event/wed-psl-crosstown-running/2028-09-20/
LOCATION:1585 SW Cashmere Blvd.\, Port St. Lucie\, FL 34986
CATEGORIES:Weekly Running
END:VEVENT
BEGIN:VEVENT
DTSTART;TZID=America/New_York:20280924T070000
DTEND;TZID=America/New_York:20280924T083000
DTSTAMP:20260421T205900
CREATED:20260204T143537Z
LAST-MODIFIED:20260204T143602Z
UID:10005892-1853391600-1853397000@www.tcrunning.org
SUMMARY:Sun PSL Crosstown Running
DESCRIPTION:PSL Crosstown Running Club \nSunday – 7:00 AM \nMcChesney Park\n1585 SW Cashmere Blvd.\, Port St. Lucie\, FL 34986 \nhttps://www.facebook.com/PSLCrosstownRunningClub
URL:https://www.tcrunning.org/event/sun-psl-crosstown-running/2028-09-24/
LOCATION:1585 SW Cashmere Blvd.\, Port St. Lucie\, FL 34986
CATEGORIES:Weekly Running
END:VEVENT
BEGIN:VEVENT
DTSTART;TZID=America/New_York:20280926T050000
DTEND;TZID=America/New_York:20280926T063000
DTSTAMP:20260421T205900
CREATED:20260204T141954Z
LAST-MODIFIED:20260204T142452Z
UID:10005630-1853557200-1853562600@www.tcrunning.org
SUMMARY:Tue PSL Crosstown Track Tuesday
DESCRIPTION:Tuesdays at 5:00 AM\nTrack Tuesday at Sportsman Park West\n220 NW Irving St.\, Port St. Lucie\, FL 34983 \nPSL Crosstown Running Club\nhttps://www.facebook.com/PSLCrosstownRunningClub
URL:https://www.tcrunning.org/event/psl-crosstown-track-tuesday/2028-09-26/
LOCATION:220 NW Irving St.\, Port St. Lucie\, FL 34983
CATEGORIES:Weekly Running
END:VEVENT
BEGIN:VEVENT
DTSTART;TZID=America/New_York:20280927T180000
DTEND;TZID=America/New_York:20280927T193000
DTSTAMP:20260421T205900
CREATED:20260204T142741Z
LAST-MODIFIED:20260205T125444Z
UID:10006413-1853690400-1853695800@www.tcrunning.org
SUMMARY:Wed PSL Crosstown Running
DESCRIPTION:PSL Crosstown Running Club \nWednesday – 6:00 PM\nMcChesney Park\n1585 SW Cashmere Blvd.\, Port St. Lucie\, FL 34986 \nhttps://www.facebook.com/PSLCrosstownRunningClub
URL:https://www.tcrunning.org/event/wed-psl-crosstown-running/2028-09-27/
LOCATION:1585 SW Cashmere Blvd.\, Port St. Lucie\, FL 34986
CATEGORIES:Weekly Running
END:VEVENT
BEGIN:VEVENT
DTSTART;TZID=America/New_York:20281001T070000
DTEND;TZID=America/New_York:20281001T083000
DTSTAMP:20260421T205900
CREATED:20260204T143537Z
LAST-MODIFIED:20260204T143602Z
UID:10005893-1853996400-1854001800@www.tcrunning.org
SUMMARY:Sun PSL Crosstown Running
DESCRIPTION:PSL Crosstown Running Club \nSunday – 7:00 AM \nMcChesney Park\n1585 SW Cashmere Blvd.\, Port St. Lucie\, FL 34986 \nhttps://www.facebook.com/PSLCrosstownRunningClub
URL:https://www.tcrunning.org/event/sun-psl-crosstown-running/2028-10-01/
LOCATION:1585 SW Cashmere Blvd.\, Port St. Lucie\, FL 34986
CATEGORIES:Weekly Running
END:VEVENT
BEGIN:VEVENT
DTSTART;TZID=America/New_York:20281003T050000
DTEND;TZID=America/New_York:20281003T063000
DTSTAMP:20260421T205900
CREATED:20260204T141954Z
LAST-MODIFIED:20260204T142452Z
UID:10005631-1854162000-1854167400@www.tcrunning.org
SUMMARY:Tue PSL Crosstown Track Tuesday
DESCRIPTION:Tuesdays at 5:00 AM\nTrack Tuesday at Sportsman Park West\n220 NW Irving St.\, Port St. Lucie\, FL 34983 \nPSL Crosstown Running Club\nhttps://www.facebook.com/PSLCrosstownRunningClub
URL:https://www.tcrunning.org/event/psl-crosstown-track-tuesday/2028-10-03/
LOCATION:220 NW Irving St.\, Port St. Lucie\, FL 34983
CATEGORIES:Weekly Running
END:VEVENT
BEGIN:VEVENT
DTSTART;TZID=America/New_York:20281004T180000
DTEND;TZID=America/New_York:20281004T193000
DTSTAMP:20260421T205900
CREATED:20260204T142741Z
LAST-MODIFIED:20260205T125444Z
UID:10006414-1854295200-1854300600@www.tcrunning.org
SUMMARY:Wed PSL Crosstown Running
DESCRIPTION:PSL Crosstown Running Club \nWednesday – 6:00 PM\nMcChesney Park\n1585 SW Cashmere Blvd.\, Port St. Lucie\, FL 34986 \nhttps://www.facebook.com/PSLCrosstownRunningClub
URL:https://www.tcrunning.org/event/wed-psl-crosstown-running/2028-10-04/
LOCATION:1585 SW Cashmere Blvd.\, Port St. Lucie\, FL 34986
CATEGORIES:Weekly Running
END:VEVENT
BEGIN:VEVENT
DTSTART;TZID=America/New_York:20281008T070000
DTEND;TZID=America/New_York:20281008T083000
DTSTAMP:20260421T205900
CREATED:20260204T143537Z
LAST-MODIFIED:20260204T143602Z
UID:10005894-1854601200-1854606600@www.tcrunning.org
SUMMARY:Sun PSL Crosstown Running
DESCRIPTION:PSL Crosstown Running Club \nSunday – 7:00 AM \nMcChesney Park\n1585 SW Cashmere Blvd.\, Port St. Lucie\, FL 34986 \nhttps://www.facebook.com/PSLCrosstownRunningClub
URL:https://www.tcrunning.org/event/sun-psl-crosstown-running/2028-10-08/
LOCATION:1585 SW Cashmere Blvd.\, Port St. Lucie\, FL 34986
CATEGORIES:Weekly Running
END:VEVENT
BEGIN:VEVENT
DTSTART;TZID=America/New_York:20281010T050000
DTEND;TZID=America/New_York:20281010T063000
DTSTAMP:20260421T205900
CREATED:20260204T141954Z
LAST-MODIFIED:20260204T142452Z
UID:10005632-1854766800-1854772200@www.tcrunning.org
SUMMARY:Tue PSL Crosstown Track Tuesday
DESCRIPTION:Tuesdays at 5:00 AM\nTrack Tuesday at Sportsman Park West\n220 NW Irving St.\, Port St. Lucie\, FL 34983 \nPSL Crosstown Running Club\nhttps://www.facebook.com/PSLCrosstownRunningClub
URL:https://www.tcrunning.org/event/psl-crosstown-track-tuesday/2028-10-10/
LOCATION:220 NW Irving St.\, Port St. Lucie\, FL 34983
CATEGORIES:Weekly Running
END:VEVENT
BEGIN:VEVENT
DTSTART;TZID=America/New_York:20281011T180000
DTEND;TZID=America/New_York:20281011T193000
DTSTAMP:20260421T205900
CREATED:20260204T142741Z
LAST-MODIFIED:20260205T125444Z
UID:10006415-1854900000-1854905400@www.tcrunning.org
SUMMARY:Wed PSL Crosstown Running
DESCRIPTION:PSL Crosstown Running Club \nWednesday – 6:00 PM\nMcChesney Park\n1585 SW Cashmere Blvd.\, Port St. Lucie\, FL 34986 \nhttps://www.facebook.com/PSLCrosstownRunningClub
URL:https://www.tcrunning.org/event/wed-psl-crosstown-running/2028-10-11/
LOCATION:1585 SW Cashmere Blvd.\, Port St. Lucie\, FL 34986
CATEGORIES:Weekly Running
END:VEVENT
BEGIN:VEVENT
DTSTART;TZID=America/New_York:20281015T070000
DTEND;TZID=America/New_York:20281015T083000
DTSTAMP:20260421T205900
CREATED:20260204T143537Z
LAST-MODIFIED:20260204T143602Z
UID:10005895-1855206000-1855211400@www.tcrunning.org
SUMMARY:Sun PSL Crosstown Running
DESCRIPTION:PSL Crosstown Running Club \nSunday – 7:00 AM \nMcChesney Park\n1585 SW Cashmere Blvd.\, Port St. Lucie\, FL 34986 \nhttps://www.facebook.com/PSLCrosstownRunningClub
URL:https://www.tcrunning.org/event/sun-psl-crosstown-running/2028-10-15/
LOCATION:1585 SW Cashmere Blvd.\, Port St. Lucie\, FL 34986
CATEGORIES:Weekly Running
END:VEVENT
BEGIN:VEVENT
DTSTART;TZID=America/New_York:20281017T050000
DTEND;TZID=America/New_York:20281017T063000
DTSTAMP:20260421T205900
CREATED:20260204T141954Z
LAST-MODIFIED:20260204T142452Z
UID:10005633-1855371600-1855377000@www.tcrunning.org
SUMMARY:Tue PSL Crosstown Track Tuesday
DESCRIPTION:Tuesdays at 5:00 AM\nTrack Tuesday at Sportsman Park West\n220 NW Irving St.\, Port St. Lucie\, FL 34983 \nPSL Crosstown Running Club\nhttps://www.facebook.com/PSLCrosstownRunningClub
URL:https://www.tcrunning.org/event/psl-crosstown-track-tuesday/2028-10-17/
LOCATION:220 NW Irving St.\, Port St. Lucie\, FL 34983
CATEGORIES:Weekly Running
END:VEVENT
BEGIN:VEVENT
DTSTART;TZID=America/New_York:20281018T180000
DTEND;TZID=America/New_York:20281018T193000
DTSTAMP:20260421T205900
CREATED:20260204T142741Z
LAST-MODIFIED:20260205T125444Z
UID:10006416-1855504800-1855510200@www.tcrunning.org
SUMMARY:Wed PSL Crosstown Running
DESCRIPTION:PSL Crosstown Running Club \nWednesday – 6:00 PM\nMcChesney Park\n1585 SW Cashmere Blvd.\, Port St. Lucie\, FL 34986 \nhttps://www.facebook.com/PSLCrosstownRunningClub
URL:https://www.tcrunning.org/event/wed-psl-crosstown-running/2028-10-18/
LOCATION:1585 SW Cashmere Blvd.\, Port St. Lucie\, FL 34986
CATEGORIES:Weekly Running
END:VEVENT
BEGIN:VEVENT
DTSTART;TZID=America/New_York:20281022T070000
DTEND;TZID=America/New_York:20281022T083000
DTSTAMP:20260421T205900
CREATED:20260204T143537Z
LAST-MODIFIED:20260204T143602Z
UID:10005896-1855810800-1855816200@www.tcrunning.org
SUMMARY:Sun PSL Crosstown Running
DESCRIPTION:PSL Crosstown Running Club \nSunday – 7:00 AM \nMcChesney Park\n1585 SW Cashmere Blvd.\, Port St. Lucie\, FL 34986 \nhttps://www.facebook.com/PSLCrosstownRunningClub
URL:https://www.tcrunning.org/event/sun-psl-crosstown-running/2028-10-22/
LOCATION:1585 SW Cashmere Blvd.\, Port St. Lucie\, FL 34986
CATEGORIES:Weekly Running
END:VEVENT
BEGIN:VEVENT
DTSTART;TZID=America/New_York:20281024T050000
DTEND;TZID=America/New_York:20281024T063000
DTSTAMP:20260421T205900
CREATED:20260204T141954Z
LAST-MODIFIED:20260204T142452Z
UID:10005634-1855976400-1855981800@www.tcrunning.org
SUMMARY:Tue PSL Crosstown Track Tuesday
DESCRIPTION:Tuesdays at 5:00 AM\nTrack Tuesday at Sportsman Park West\n220 NW Irving St.\, Port St. Lucie\, FL 34983 \nPSL Crosstown Running Club\nhttps://www.facebook.com/PSLCrosstownRunningClub
URL:https://www.tcrunning.org/event/psl-crosstown-track-tuesday/2028-10-24/
LOCATION:220 NW Irving St.\, Port St. Lucie\, FL 34983
CATEGORIES:Weekly Running
END:VEVENT
BEGIN:VEVENT
DTSTART;TZID=America/New_York:20281025T180000
DTEND;TZID=America/New_York:20281025T193000
DTSTAMP:20260421T205900
CREATED:20260204T142741Z
LAST-MODIFIED:20260205T125444Z
UID:10006417-1856109600-1856115000@www.tcrunning.org
SUMMARY:Wed PSL Crosstown Running
DESCRIPTION:PSL Crosstown Running Club \nWednesday – 6:00 PM\nMcChesney Park\n1585 SW Cashmere Blvd.\, Port St. Lucie\, FL 34986 \nhttps://www.facebook.com/PSLCrosstownRunningClub
URL:https://www.tcrunning.org/event/wed-psl-crosstown-running/2028-10-25/
LOCATION:1585 SW Cashmere Blvd.\, Port St. Lucie\, FL 34986
CATEGORIES:Weekly Running
END:VEVENT
BEGIN:VEVENT
DTSTART;TZID=America/New_York:20281029T070000
DTEND;TZID=America/New_York:20281029T083000
DTSTAMP:20260421T205900
CREATED:20260204T143537Z
LAST-MODIFIED:20260204T143602Z
UID:10005897-1856415600-1856421000@www.tcrunning.org
SUMMARY:Sun PSL Crosstown Running
DESCRIPTION:PSL Crosstown Running Club \nSunday – 7:00 AM \nMcChesney Park\n1585 SW Cashmere Blvd.\, Port St. Lucie\, FL 34986 \nhttps://www.facebook.com/PSLCrosstownRunningClub
URL:https://www.tcrunning.org/event/sun-psl-crosstown-running/2028-10-29/
LOCATION:1585 SW Cashmere Blvd.\, Port St. Lucie\, FL 34986
CATEGORIES:Weekly Running
END:VEVENT
BEGIN:VEVENT
DTSTART;TZID=America/New_York:20281031T050000
DTEND;TZID=America/New_York:20281031T063000
DTSTAMP:20260421T205900
CREATED:20260204T141954Z
LAST-MODIFIED:20260204T142452Z
UID:10005635-1856581200-1856586600@www.tcrunning.org
SUMMARY:Tue PSL Crosstown Track Tuesday
DESCRIPTION:Tuesdays at 5:00 AM\nTrack Tuesday at Sportsman Park West\n220 NW Irving St.\, Port St. Lucie\, FL 34983 \nPSL Crosstown Running Club\nhttps://www.facebook.com/PSLCrosstownRunningClub
URL:https://www.tcrunning.org/event/psl-crosstown-track-tuesday/2028-10-31/
LOCATION:220 NW Irving St.\, Port St. Lucie\, FL 34983
CATEGORIES:Weekly Running
END:VEVENT
BEGIN:VEVENT
DTSTART;TZID=America/New_York:20281101T180000
DTEND;TZID=America/New_York:20281101T193000
DTSTAMP:20260421T205900
CREATED:20260204T142741Z
LAST-MODIFIED:20260205T125444Z
UID:10006418-1856714400-1856719800@www.tcrunning.org
SUMMARY:Wed PSL Crosstown Running
DESCRIPTION:PSL Crosstown Running Club \nWednesday – 6:00 PM\nMcChesney Park\n1585 SW Cashmere Blvd.\, Port St. Lucie\, FL 34986 \nhttps://www.facebook.com/PSLCrosstownRunningClub
URL:https://www.tcrunning.org/event/wed-psl-crosstown-running/2028-11-01/
LOCATION:1585 SW Cashmere Blvd.\, Port St. Lucie\, FL 34986
CATEGORIES:Weekly Running
END:VEVENT
BEGIN:VEVENT
DTSTART;TZID=America/New_York:20281105T070000
DTEND;TZID=America/New_York:20281105T083000
DTSTAMP:20260421T205900
CREATED:20260204T143537Z
LAST-MODIFIED:20260204T143602Z
UID:10005898-1857020400-1857025800@www.tcrunning.org
SUMMARY:Sun PSL Crosstown Running
DESCRIPTION:PSL Crosstown Running Club \nSunday – 7:00 AM \nMcChesney Park\n1585 SW Cashmere Blvd.\, Port St. Lucie\, FL 34986 \nhttps://www.facebook.com/PSLCrosstownRunningClub
URL:https://www.tcrunning.org/event/sun-psl-crosstown-running/2028-11-05/
LOCATION:1585 SW Cashmere Blvd.\, Port St. Lucie\, FL 34986
CATEGORIES:Weekly Running
END:VEVENT
BEGIN:VEVENT
DTSTART;TZID=America/New_York:20281107T050000
DTEND;TZID=America/New_York:20281107T063000
DTSTAMP:20260421T205900
CREATED:20260204T141954Z
LAST-MODIFIED:20260204T142452Z
UID:10005636-1857186000-1857191400@www.tcrunning.org
SUMMARY:Tue PSL Crosstown Track Tuesday
DESCRIPTION:Tuesdays at 5:00 AM\nTrack Tuesday at Sportsman Park West\n220 NW Irving St.\, Port St. Lucie\, FL 34983 \nPSL Crosstown Running Club\nhttps://www.facebook.com/PSLCrosstownRunningClub
URL:https://www.tcrunning.org/event/psl-crosstown-track-tuesday/2028-11-07/
LOCATION:220 NW Irving St.\, Port St. Lucie\, FL 34983
CATEGORIES:Weekly Running
END:VEVENT
BEGIN:VEVENT
DTSTART;TZID=America/New_York:20281108T180000
DTEND;TZID=America/New_York:20281108T193000
DTSTAMP:20260421T205900
CREATED:20260204T142741Z
LAST-MODIFIED:20260205T125444Z
UID:10006419-1857319200-1857324600@www.tcrunning.org
SUMMARY:Wed PSL Crosstown Running
DESCRIPTION:PSL Crosstown Running Club \nWednesday – 6:00 PM\nMcChesney Park\n1585 SW Cashmere Blvd.\, Port St. Lucie\, FL 34986 \nhttps://www.facebook.com/PSLCrosstownRunningClub
URL:https://www.tcrunning.org/event/wed-psl-crosstown-running/2028-11-08/
LOCATION:1585 SW Cashmere Blvd.\, Port St. Lucie\, FL 34986
CATEGORIES:Weekly Running
END:VEVENT
BEGIN:VEVENT
DTSTART;TZID=America/New_York:20281112T070000
DTEND;TZID=America/New_York:20281112T083000
DTSTAMP:20260421T205900
CREATED:20260204T143537Z
LAST-MODIFIED:20260204T143602Z
UID:10005899-1857625200-1857630600@www.tcrunning.org
SUMMARY:Sun PSL Crosstown Running
DESCRIPTION:PSL Crosstown Running Club \nSunday – 7:00 AM \nMcChesney Park\n1585 SW Cashmere Blvd.\, Port St. Lucie\, FL 34986 \nhttps://www.facebook.com/PSLCrosstownRunningClub
URL:https://www.tcrunning.org/event/sun-psl-crosstown-running/2028-11-12/
LOCATION:1585 SW Cashmere Blvd.\, Port St. Lucie\, FL 34986
CATEGORIES:Weekly Running
END:VEVENT
BEGIN:VEVENT
DTSTART;TZID=America/New_York:20281114T050000
DTEND;TZID=America/New_York:20281114T063000
DTSTAMP:20260421T205900
CREATED:20260204T141954Z
LAST-MODIFIED:20260204T142452Z
UID:10005637-1857790800-1857796200@www.tcrunning.org
SUMMARY:Tue PSL Crosstown Track Tuesday
DESCRIPTION:Tuesdays at 5:00 AM\nTrack Tuesday at Sportsman Park West\n220 NW Irving St.\, Port St. Lucie\, FL 34983 \nPSL Crosstown Running Club\nhttps://www.facebook.com/PSLCrosstownRunningClub
URL:https://www.tcrunning.org/event/psl-crosstown-track-tuesday/2028-11-14/
LOCATION:220 NW Irving St.\, Port St. Lucie\, FL 34983
CATEGORIES:Weekly Running
END:VEVENT
BEGIN:VEVENT
DTSTART;TZID=America/New_York:20281115T180000
DTEND;TZID=America/New_York:20281115T193000
DTSTAMP:20260421T205900
CREATED:20260204T142741Z
LAST-MODIFIED:20260205T125444Z
UID:10006420-1857924000-1857929400@www.tcrunning.org
SUMMARY:Wed PSL Crosstown Running
DESCRIPTION:PSL Crosstown Running Club \nWednesday – 6:00 PM\nMcChesney Park\n1585 SW Cashmere Blvd.\, Port St. Lucie\, FL 34986 \nhttps://www.facebook.com/PSLCrosstownRunningClub
URL:https://www.tcrunning.org/event/wed-psl-crosstown-running/2028-11-15/
LOCATION:1585 SW Cashmere Blvd.\, Port St. Lucie\, FL 34986
CATEGORIES:Weekly Running
END:VEVENT
BEGIN:VEVENT
DTSTART;TZID=America/New_York:20281119T070000
DTEND;TZID=America/New_York:20281119T083000
DTSTAMP:20260421T205900
CREATED:20260204T143537Z
LAST-MODIFIED:20260204T143602Z
UID:10005900-1858230000-1858235400@www.tcrunning.org
SUMMARY:Sun PSL Crosstown Running
DESCRIPTION:PSL Crosstown Running Club \nSunday – 7:00 AM \nMcChesney Park\n1585 SW Cashmere Blvd.\, Port St. Lucie\, FL 34986 \nhttps://www.facebook.com/PSLCrosstownRunningClub
URL:https://www.tcrunning.org/event/sun-psl-crosstown-running/2028-11-19/
LOCATION:1585 SW Cashmere Blvd.\, Port St. Lucie\, FL 34986
CATEGORIES:Weekly Running
END:VEVENT
BEGIN:VEVENT
DTSTART;TZID=America/New_York:20281121T050000
DTEND;TZID=America/New_York:20281121T063000
DTSTAMP:20260421T205900
CREATED:20260204T141954Z
LAST-MODIFIED:20260204T142452Z
UID:10005638-1858395600-1858401000@www.tcrunning.org
SUMMARY:Tue PSL Crosstown Track Tuesday
DESCRIPTION:Tuesdays at 5:00 AM\nTrack Tuesday at Sportsman Park West\n220 NW Irving St.\, Port St. Lucie\, FL 34983 \nPSL Crosstown Running Club\nhttps://www.facebook.com/PSLCrosstownRunningClub
URL:https://www.tcrunning.org/event/psl-crosstown-track-tuesday/2028-11-21/
LOCATION:220 NW Irving St.\, Port St. Lucie\, FL 34983
CATEGORIES:Weekly Running
END:VEVENT
BEGIN:VEVENT
DTSTART;TZID=America/New_York:20281122T180000
DTEND;TZID=America/New_York:20281122T193000
DTSTAMP:20260421T205900
CREATED:20260204T142741Z
LAST-MODIFIED:20260205T125444Z
UID:10006421-1858528800-1858534200@www.tcrunning.org
SUMMARY:Wed PSL Crosstown Running
DESCRIPTION:PSL Crosstown Running Club \nWednesday – 6:00 PM\nMcChesney Park\n1585 SW Cashmere Blvd.\, Port St. Lucie\, FL 34986 \nhttps://www.facebook.com/PSLCrosstownRunningClub
URL:https://www.tcrunning.org/event/wed-psl-crosstown-running/2028-11-22/
LOCATION:1585 SW Cashmere Blvd.\, Port St. Lucie\, FL 34986
CATEGORIES:Weekly Running
END:VEVENT
BEGIN:VEVENT
DTSTART;TZID=America/New_York:20281126T070000
DTEND;TZID=America/New_York:20281126T083000
DTSTAMP:20260421T205900
CREATED:20260204T143537Z
LAST-MODIFIED:20260204T143602Z
UID:10005901-1858834800-1858840200@www.tcrunning.org
SUMMARY:Sun PSL Crosstown Running
DESCRIPTION:PSL Crosstown Running Club \nSunday – 7:00 AM \nMcChesney Park\n1585 SW Cashmere Blvd.\, Port St. Lucie\, FL 34986 \nhttps://www.facebook.com/PSLCrosstownRunningClub
URL:https://www.tcrunning.org/event/sun-psl-crosstown-running/2028-11-26/
LOCATION:1585 SW Cashmere Blvd.\, Port St. Lucie\, FL 34986
CATEGORIES:Weekly Running
END:VEVENT
BEGIN:VEVENT
DTSTART;TZID=America/New_York:20281128T050000
DTEND;TZID=America/New_York:20281128T063000
DTSTAMP:20260421T205900
CREATED:20260204T141954Z
LAST-MODIFIED:20260204T142452Z
UID:10005639-1859000400-1859005800@www.tcrunning.org
SUMMARY:Tue PSL Crosstown Track Tuesday
DESCRIPTION:Tuesdays at 5:00 AM\nTrack Tuesday at Sportsman Park West\n220 NW Irving St.\, Port St. Lucie\, FL 34983 \nPSL Crosstown Running Club\nhttps://www.facebook.com/PSLCrosstownRunningClub
URL:https://www.tcrunning.org/event/psl-crosstown-track-tuesday/2028-11-28/
LOCATION:220 NW Irving St.\, Port St. Lucie\, FL 34983
CATEGORIES:Weekly Running
END:VEVENT
END:VCALENDAR