BEGIN:VCALENDAR
VERSION:2.0
PRODID:-//Treasure Coast Running - ECPv6.15.20//NONSGML v1.0//EN
CALSCALE:GREGORIAN
METHOD:PUBLISH
X-ORIGINAL-URL:https://www.tcrunning.org
X-WR-CALDESC:Events for Treasure Coast Running
REFRESH-INTERVAL;VALUE=DURATION:PT1H
X-Robots-Tag:noindex
X-PUBLISHED-TTL:PT1H
BEGIN:VTIMEZONE
TZID:America/New_York
BEGIN:DAYLIGHT
TZOFFSETFROM:-0500
TZOFFSETTO:-0400
TZNAME:EDT
DTSTART:20270314T070000
END:DAYLIGHT
BEGIN:STANDARD
TZOFFSETFROM:-0400
TZOFFSETTO:-0500
TZNAME:EST
DTSTART:20271107T060000
END:STANDARD
BEGIN:DAYLIGHT
TZOFFSETFROM:-0500
TZOFFSETTO:-0400
TZNAME:EDT
DTSTART:20280312T070000
END:DAYLIGHT
BEGIN:STANDARD
TZOFFSETFROM:-0400
TZOFFSETTO:-0500
TZNAME:EST
DTSTART:20281105T060000
END:STANDARD
BEGIN:DAYLIGHT
TZOFFSETFROM:-0500
TZOFFSETTO:-0400
TZNAME:EDT
DTSTART:20290311T070000
END:DAYLIGHT
BEGIN:STANDARD
TZOFFSETFROM:-0400
TZOFFSETTO:-0500
TZNAME:EST
DTSTART:20291104T060000
END:STANDARD
END:VTIMEZONE
BEGIN:VEVENT
DTSTART;TZID=America/New_York:20280514T070000
DTEND;TZID=America/New_York:20280514T083000
DTSTAMP:20260421T124637
CREATED:20260204T143537Z
LAST-MODIFIED:20260204T143602Z
UID:10005873-1841900400-1841905800@www.tcrunning.org
SUMMARY:Sun PSL Crosstown Running
DESCRIPTION:PSL Crosstown Running Club \nSunday – 7:00 AM \nMcChesney Park\n1585 SW Cashmere Blvd.\, Port St. Lucie\, FL 34986 \nhttps://www.facebook.com/PSLCrosstownRunningClub
URL:https://www.tcrunning.org/event/sun-psl-crosstown-running/2028-05-14/
LOCATION:1585 SW Cashmere Blvd.\, Port St. Lucie\, FL 34986
CATEGORIES:Weekly Running
END:VEVENT
BEGIN:VEVENT
DTSTART;TZID=America/New_York:20280516T050000
DTEND;TZID=America/New_York:20280516T063000
DTSTAMP:20260421T124637
CREATED:20260204T141954Z
LAST-MODIFIED:20260204T142452Z
UID:10005611-1842066000-1842071400@www.tcrunning.org
SUMMARY:Tue PSL Crosstown Track Tuesday
DESCRIPTION:Tuesdays at 5:00 AM\nTrack Tuesday at Sportsman Park West\n220 NW Irving St.\, Port St. Lucie\, FL 34983 \nPSL Crosstown Running Club\nhttps://www.facebook.com/PSLCrosstownRunningClub
URL:https://www.tcrunning.org/event/psl-crosstown-track-tuesday/2028-05-16/
LOCATION:220 NW Irving St.\, Port St. Lucie\, FL 34983
CATEGORIES:Weekly Running
END:VEVENT
BEGIN:VEVENT
DTSTART;TZID=America/New_York:20280517T180000
DTEND;TZID=America/New_York:20280517T193000
DTSTAMP:20260421T124637
CREATED:20260204T142741Z
LAST-MODIFIED:20260205T125444Z
UID:10006394-1842199200-1842204600@www.tcrunning.org
SUMMARY:Wed PSL Crosstown Running
DESCRIPTION:PSL Crosstown Running Club \nWednesday – 6:00 PM\nMcChesney Park\n1585 SW Cashmere Blvd.\, Port St. Lucie\, FL 34986 \nhttps://www.facebook.com/PSLCrosstownRunningClub
URL:https://www.tcrunning.org/event/wed-psl-crosstown-running/2028-05-17/
LOCATION:1585 SW Cashmere Blvd.\, Port St. Lucie\, FL 34986
CATEGORIES:Weekly Running
END:VEVENT
BEGIN:VEVENT
DTSTART;TZID=America/New_York:20280521T070000
DTEND;TZID=America/New_York:20280521T083000
DTSTAMP:20260421T124637
CREATED:20260204T143537Z
LAST-MODIFIED:20260204T143602Z
UID:10005874-1842505200-1842510600@www.tcrunning.org
SUMMARY:Sun PSL Crosstown Running
DESCRIPTION:PSL Crosstown Running Club \nSunday – 7:00 AM \nMcChesney Park\n1585 SW Cashmere Blvd.\, Port St. Lucie\, FL 34986 \nhttps://www.facebook.com/PSLCrosstownRunningClub
URL:https://www.tcrunning.org/event/sun-psl-crosstown-running/2028-05-21/
LOCATION:1585 SW Cashmere Blvd.\, Port St. Lucie\, FL 34986
CATEGORIES:Weekly Running
END:VEVENT
BEGIN:VEVENT
DTSTART;TZID=America/New_York:20280523T050000
DTEND;TZID=America/New_York:20280523T063000
DTSTAMP:20260421T124637
CREATED:20260204T141954Z
LAST-MODIFIED:20260204T142452Z
UID:10005612-1842670800-1842676200@www.tcrunning.org
SUMMARY:Tue PSL Crosstown Track Tuesday
DESCRIPTION:Tuesdays at 5:00 AM\nTrack Tuesday at Sportsman Park West\n220 NW Irving St.\, Port St. Lucie\, FL 34983 \nPSL Crosstown Running Club\nhttps://www.facebook.com/PSLCrosstownRunningClub
URL:https://www.tcrunning.org/event/psl-crosstown-track-tuesday/2028-05-23/
LOCATION:220 NW Irving St.\, Port St. Lucie\, FL 34983
CATEGORIES:Weekly Running
END:VEVENT
BEGIN:VEVENT
DTSTART;TZID=America/New_York:20280524T180000
DTEND;TZID=America/New_York:20280524T193000
DTSTAMP:20260421T124637
CREATED:20260204T142741Z
LAST-MODIFIED:20260205T125444Z
UID:10006395-1842804000-1842809400@www.tcrunning.org
SUMMARY:Wed PSL Crosstown Running
DESCRIPTION:PSL Crosstown Running Club \nWednesday – 6:00 PM\nMcChesney Park\n1585 SW Cashmere Blvd.\, Port St. Lucie\, FL 34986 \nhttps://www.facebook.com/PSLCrosstownRunningClub
URL:https://www.tcrunning.org/event/wed-psl-crosstown-running/2028-05-24/
LOCATION:1585 SW Cashmere Blvd.\, Port St. Lucie\, FL 34986
CATEGORIES:Weekly Running
END:VEVENT
BEGIN:VEVENT
DTSTART;TZID=America/New_York:20280528T070000
DTEND;TZID=America/New_York:20280528T083000
DTSTAMP:20260421T124637
CREATED:20260204T143537Z
LAST-MODIFIED:20260204T143602Z
UID:10005875-1843110000-1843115400@www.tcrunning.org
SUMMARY:Sun PSL Crosstown Running
DESCRIPTION:PSL Crosstown Running Club \nSunday – 7:00 AM \nMcChesney Park\n1585 SW Cashmere Blvd.\, Port St. Lucie\, FL 34986 \nhttps://www.facebook.com/PSLCrosstownRunningClub
URL:https://www.tcrunning.org/event/sun-psl-crosstown-running/2028-05-28/
LOCATION:1585 SW Cashmere Blvd.\, Port St. Lucie\, FL 34986
CATEGORIES:Weekly Running
END:VEVENT
BEGIN:VEVENT
DTSTART;TZID=America/New_York:20280530T050000
DTEND;TZID=America/New_York:20280530T063000
DTSTAMP:20260421T124637
CREATED:20260204T141954Z
LAST-MODIFIED:20260204T142452Z
UID:10005613-1843275600-1843281000@www.tcrunning.org
SUMMARY:Tue PSL Crosstown Track Tuesday
DESCRIPTION:Tuesdays at 5:00 AM\nTrack Tuesday at Sportsman Park West\n220 NW Irving St.\, Port St. Lucie\, FL 34983 \nPSL Crosstown Running Club\nhttps://www.facebook.com/PSLCrosstownRunningClub
URL:https://www.tcrunning.org/event/psl-crosstown-track-tuesday/2028-05-30/
LOCATION:220 NW Irving St.\, Port St. Lucie\, FL 34983
CATEGORIES:Weekly Running
END:VEVENT
BEGIN:VEVENT
DTSTART;TZID=America/New_York:20280531T180000
DTEND;TZID=America/New_York:20280531T193000
DTSTAMP:20260421T124637
CREATED:20260204T142741Z
LAST-MODIFIED:20260205T125444Z
UID:10006396-1843408800-1843414200@www.tcrunning.org
SUMMARY:Wed PSL Crosstown Running
DESCRIPTION:PSL Crosstown Running Club \nWednesday – 6:00 PM\nMcChesney Park\n1585 SW Cashmere Blvd.\, Port St. Lucie\, FL 34986 \nhttps://www.facebook.com/PSLCrosstownRunningClub
URL:https://www.tcrunning.org/event/wed-psl-crosstown-running/2028-05-31/
LOCATION:1585 SW Cashmere Blvd.\, Port St. Lucie\, FL 34986
CATEGORIES:Weekly Running
END:VEVENT
BEGIN:VEVENT
DTSTART;TZID=America/New_York:20280604T070000
DTEND;TZID=America/New_York:20280604T083000
DTSTAMP:20260421T124637
CREATED:20260204T143537Z
LAST-MODIFIED:20260204T143602Z
UID:10005876-1843714800-1843720200@www.tcrunning.org
SUMMARY:Sun PSL Crosstown Running
DESCRIPTION:PSL Crosstown Running Club \nSunday – 7:00 AM \nMcChesney Park\n1585 SW Cashmere Blvd.\, Port St. Lucie\, FL 34986 \nhttps://www.facebook.com/PSLCrosstownRunningClub
URL:https://www.tcrunning.org/event/sun-psl-crosstown-running/2028-06-04/
LOCATION:1585 SW Cashmere Blvd.\, Port St. Lucie\, FL 34986
CATEGORIES:Weekly Running
END:VEVENT
BEGIN:VEVENT
DTSTART;TZID=America/New_York:20280606T050000
DTEND;TZID=America/New_York:20280606T063000
DTSTAMP:20260421T124637
CREATED:20260204T141954Z
LAST-MODIFIED:20260204T142452Z
UID:10005614-1843880400-1843885800@www.tcrunning.org
SUMMARY:Tue PSL Crosstown Track Tuesday
DESCRIPTION:Tuesdays at 5:00 AM\nTrack Tuesday at Sportsman Park West\n220 NW Irving St.\, Port St. Lucie\, FL 34983 \nPSL Crosstown Running Club\nhttps://www.facebook.com/PSLCrosstownRunningClub
URL:https://www.tcrunning.org/event/psl-crosstown-track-tuesday/2028-06-06/
LOCATION:220 NW Irving St.\, Port St. Lucie\, FL 34983
CATEGORIES:Weekly Running
END:VEVENT
BEGIN:VEVENT
DTSTART;TZID=America/New_York:20280607T180000
DTEND;TZID=America/New_York:20280607T193000
DTSTAMP:20260421T124637
CREATED:20260204T142741Z
LAST-MODIFIED:20260205T125444Z
UID:10006397-1844013600-1844019000@www.tcrunning.org
SUMMARY:Wed PSL Crosstown Running
DESCRIPTION:PSL Crosstown Running Club \nWednesday – 6:00 PM\nMcChesney Park\n1585 SW Cashmere Blvd.\, Port St. Lucie\, FL 34986 \nhttps://www.facebook.com/PSLCrosstownRunningClub
URL:https://www.tcrunning.org/event/wed-psl-crosstown-running/2028-06-07/
LOCATION:1585 SW Cashmere Blvd.\, Port St. Lucie\, FL 34986
CATEGORIES:Weekly Running
END:VEVENT
BEGIN:VEVENT
DTSTART;TZID=America/New_York:20280611T070000
DTEND;TZID=America/New_York:20280611T083000
DTSTAMP:20260421T124637
CREATED:20260204T143537Z
LAST-MODIFIED:20260204T143602Z
UID:10005877-1844319600-1844325000@www.tcrunning.org
SUMMARY:Sun PSL Crosstown Running
DESCRIPTION:PSL Crosstown Running Club \nSunday – 7:00 AM \nMcChesney Park\n1585 SW Cashmere Blvd.\, Port St. Lucie\, FL 34986 \nhttps://www.facebook.com/PSLCrosstownRunningClub
URL:https://www.tcrunning.org/event/sun-psl-crosstown-running/2028-06-11/
LOCATION:1585 SW Cashmere Blvd.\, Port St. Lucie\, FL 34986
CATEGORIES:Weekly Running
END:VEVENT
BEGIN:VEVENT
DTSTART;TZID=America/New_York:20280613T050000
DTEND;TZID=America/New_York:20280613T063000
DTSTAMP:20260421T124637
CREATED:20260204T141954Z
LAST-MODIFIED:20260204T142452Z
UID:10005615-1844485200-1844490600@www.tcrunning.org
SUMMARY:Tue PSL Crosstown Track Tuesday
DESCRIPTION:Tuesdays at 5:00 AM\nTrack Tuesday at Sportsman Park West\n220 NW Irving St.\, Port St. Lucie\, FL 34983 \nPSL Crosstown Running Club\nhttps://www.facebook.com/PSLCrosstownRunningClub
URL:https://www.tcrunning.org/event/psl-crosstown-track-tuesday/2028-06-13/
LOCATION:220 NW Irving St.\, Port St. Lucie\, FL 34983
CATEGORIES:Weekly Running
END:VEVENT
BEGIN:VEVENT
DTSTART;TZID=America/New_York:20280614T180000
DTEND;TZID=America/New_York:20280614T193000
DTSTAMP:20260421T124637
CREATED:20260204T142741Z
LAST-MODIFIED:20260205T125444Z
UID:10006398-1844618400-1844623800@www.tcrunning.org
SUMMARY:Wed PSL Crosstown Running
DESCRIPTION:PSL Crosstown Running Club \nWednesday – 6:00 PM\nMcChesney Park\n1585 SW Cashmere Blvd.\, Port St. Lucie\, FL 34986 \nhttps://www.facebook.com/PSLCrosstownRunningClub
URL:https://www.tcrunning.org/event/wed-psl-crosstown-running/2028-06-14/
LOCATION:1585 SW Cashmere Blvd.\, Port St. Lucie\, FL 34986
CATEGORIES:Weekly Running
END:VEVENT
BEGIN:VEVENT
DTSTART;TZID=America/New_York:20280618T070000
DTEND;TZID=America/New_York:20280618T083000
DTSTAMP:20260421T124637
CREATED:20260204T143537Z
LAST-MODIFIED:20260204T143602Z
UID:10005878-1844924400-1844929800@www.tcrunning.org
SUMMARY:Sun PSL Crosstown Running
DESCRIPTION:PSL Crosstown Running Club \nSunday – 7:00 AM \nMcChesney Park\n1585 SW Cashmere Blvd.\, Port St. Lucie\, FL 34986 \nhttps://www.facebook.com/PSLCrosstownRunningClub
URL:https://www.tcrunning.org/event/sun-psl-crosstown-running/2028-06-18/
LOCATION:1585 SW Cashmere Blvd.\, Port St. Lucie\, FL 34986
CATEGORIES:Weekly Running
END:VEVENT
BEGIN:VEVENT
DTSTART;TZID=America/New_York:20280620T050000
DTEND;TZID=America/New_York:20280620T063000
DTSTAMP:20260421T124637
CREATED:20260204T141954Z
LAST-MODIFIED:20260204T142452Z
UID:10005616-1845090000-1845095400@www.tcrunning.org
SUMMARY:Tue PSL Crosstown Track Tuesday
DESCRIPTION:Tuesdays at 5:00 AM\nTrack Tuesday at Sportsman Park West\n220 NW Irving St.\, Port St. Lucie\, FL 34983 \nPSL Crosstown Running Club\nhttps://www.facebook.com/PSLCrosstownRunningClub
URL:https://www.tcrunning.org/event/psl-crosstown-track-tuesday/2028-06-20/
LOCATION:220 NW Irving St.\, Port St. Lucie\, FL 34983
CATEGORIES:Weekly Running
END:VEVENT
BEGIN:VEVENT
DTSTART;TZID=America/New_York:20280621T180000
DTEND;TZID=America/New_York:20280621T193000
DTSTAMP:20260421T124637
CREATED:20260204T142741Z
LAST-MODIFIED:20260205T125444Z
UID:10006399-1845223200-1845228600@www.tcrunning.org
SUMMARY:Wed PSL Crosstown Running
DESCRIPTION:PSL Crosstown Running Club \nWednesday – 6:00 PM\nMcChesney Park\n1585 SW Cashmere Blvd.\, Port St. Lucie\, FL 34986 \nhttps://www.facebook.com/PSLCrosstownRunningClub
URL:https://www.tcrunning.org/event/wed-psl-crosstown-running/2028-06-21/
LOCATION:1585 SW Cashmere Blvd.\, Port St. Lucie\, FL 34986
CATEGORIES:Weekly Running
END:VEVENT
BEGIN:VEVENT
DTSTART;TZID=America/New_York:20280625T070000
DTEND;TZID=America/New_York:20280625T083000
DTSTAMP:20260421T124637
CREATED:20260204T143537Z
LAST-MODIFIED:20260204T143602Z
UID:10005879-1845529200-1845534600@www.tcrunning.org
SUMMARY:Sun PSL Crosstown Running
DESCRIPTION:PSL Crosstown Running Club \nSunday – 7:00 AM \nMcChesney Park\n1585 SW Cashmere Blvd.\, Port St. Lucie\, FL 34986 \nhttps://www.facebook.com/PSLCrosstownRunningClub
URL:https://www.tcrunning.org/event/sun-psl-crosstown-running/2028-06-25/
LOCATION:1585 SW Cashmere Blvd.\, Port St. Lucie\, FL 34986
CATEGORIES:Weekly Running
END:VEVENT
BEGIN:VEVENT
DTSTART;TZID=America/New_York:20280627T050000
DTEND;TZID=America/New_York:20280627T063000
DTSTAMP:20260421T124637
CREATED:20260204T141954Z
LAST-MODIFIED:20260204T142452Z
UID:10005617-1845694800-1845700200@www.tcrunning.org
SUMMARY:Tue PSL Crosstown Track Tuesday
DESCRIPTION:Tuesdays at 5:00 AM\nTrack Tuesday at Sportsman Park West\n220 NW Irving St.\, Port St. Lucie\, FL 34983 \nPSL Crosstown Running Club\nhttps://www.facebook.com/PSLCrosstownRunningClub
URL:https://www.tcrunning.org/event/psl-crosstown-track-tuesday/2028-06-27/
LOCATION:220 NW Irving St.\, Port St. Lucie\, FL 34983
CATEGORIES:Weekly Running
END:VEVENT
BEGIN:VEVENT
DTSTART;TZID=America/New_York:20280628T180000
DTEND;TZID=America/New_York:20280628T193000
DTSTAMP:20260421T124637
CREATED:20260204T142741Z
LAST-MODIFIED:20260205T125444Z
UID:10006400-1845828000-1845833400@www.tcrunning.org
SUMMARY:Wed PSL Crosstown Running
DESCRIPTION:PSL Crosstown Running Club \nWednesday – 6:00 PM\nMcChesney Park\n1585 SW Cashmere Blvd.\, Port St. Lucie\, FL 34986 \nhttps://www.facebook.com/PSLCrosstownRunningClub
URL:https://www.tcrunning.org/event/wed-psl-crosstown-running/2028-06-28/
LOCATION:1585 SW Cashmere Blvd.\, Port St. Lucie\, FL 34986
CATEGORIES:Weekly Running
END:VEVENT
BEGIN:VEVENT
DTSTART;TZID=America/New_York:20280702T070000
DTEND;TZID=America/New_York:20280702T083000
DTSTAMP:20260421T124637
CREATED:20260204T143537Z
LAST-MODIFIED:20260204T143602Z
UID:10005880-1846134000-1846139400@www.tcrunning.org
SUMMARY:Sun PSL Crosstown Running
DESCRIPTION:PSL Crosstown Running Club \nSunday – 7:00 AM \nMcChesney Park\n1585 SW Cashmere Blvd.\, Port St. Lucie\, FL 34986 \nhttps://www.facebook.com/PSLCrosstownRunningClub
URL:https://www.tcrunning.org/event/sun-psl-crosstown-running/2028-07-02/
LOCATION:1585 SW Cashmere Blvd.\, Port St. Lucie\, FL 34986
CATEGORIES:Weekly Running
END:VEVENT
BEGIN:VEVENT
DTSTART;TZID=America/New_York:20280704T050000
DTEND;TZID=America/New_York:20280704T063000
DTSTAMP:20260421T124637
CREATED:20260204T141954Z
LAST-MODIFIED:20260204T142452Z
UID:10005618-1846299600-1846305000@www.tcrunning.org
SUMMARY:Tue PSL Crosstown Track Tuesday
DESCRIPTION:Tuesdays at 5:00 AM\nTrack Tuesday at Sportsman Park West\n220 NW Irving St.\, Port St. Lucie\, FL 34983 \nPSL Crosstown Running Club\nhttps://www.facebook.com/PSLCrosstownRunningClub
URL:https://www.tcrunning.org/event/psl-crosstown-track-tuesday/2028-07-04/
LOCATION:220 NW Irving St.\, Port St. Lucie\, FL 34983
CATEGORIES:Weekly Running
END:VEVENT
BEGIN:VEVENT
DTSTART;TZID=America/New_York:20280705T180000
DTEND;TZID=America/New_York:20280705T193000
DTSTAMP:20260421T124637
CREATED:20260204T142741Z
LAST-MODIFIED:20260205T125444Z
UID:10006401-1846432800-1846438200@www.tcrunning.org
SUMMARY:Wed PSL Crosstown Running
DESCRIPTION:PSL Crosstown Running Club \nWednesday – 6:00 PM\nMcChesney Park\n1585 SW Cashmere Blvd.\, Port St. Lucie\, FL 34986 \nhttps://www.facebook.com/PSLCrosstownRunningClub
URL:https://www.tcrunning.org/event/wed-psl-crosstown-running/2028-07-05/
LOCATION:1585 SW Cashmere Blvd.\, Port St. Lucie\, FL 34986
CATEGORIES:Weekly Running
END:VEVENT
BEGIN:VEVENT
DTSTART;TZID=America/New_York:20280709T070000
DTEND;TZID=America/New_York:20280709T083000
DTSTAMP:20260421T124637
CREATED:20260204T143537Z
LAST-MODIFIED:20260204T143602Z
UID:10005881-1846738800-1846744200@www.tcrunning.org
SUMMARY:Sun PSL Crosstown Running
DESCRIPTION:PSL Crosstown Running Club \nSunday – 7:00 AM \nMcChesney Park\n1585 SW Cashmere Blvd.\, Port St. Lucie\, FL 34986 \nhttps://www.facebook.com/PSLCrosstownRunningClub
URL:https://www.tcrunning.org/event/sun-psl-crosstown-running/2028-07-09/
LOCATION:1585 SW Cashmere Blvd.\, Port St. Lucie\, FL 34986
CATEGORIES:Weekly Running
END:VEVENT
BEGIN:VEVENT
DTSTART;TZID=America/New_York:20280711T050000
DTEND;TZID=America/New_York:20280711T063000
DTSTAMP:20260421T124637
CREATED:20260204T141954Z
LAST-MODIFIED:20260204T142452Z
UID:10005619-1846904400-1846909800@www.tcrunning.org
SUMMARY:Tue PSL Crosstown Track Tuesday
DESCRIPTION:Tuesdays at 5:00 AM\nTrack Tuesday at Sportsman Park West\n220 NW Irving St.\, Port St. Lucie\, FL 34983 \nPSL Crosstown Running Club\nhttps://www.facebook.com/PSLCrosstownRunningClub
URL:https://www.tcrunning.org/event/psl-crosstown-track-tuesday/2028-07-11/
LOCATION:220 NW Irving St.\, Port St. Lucie\, FL 34983
CATEGORIES:Weekly Running
END:VEVENT
BEGIN:VEVENT
DTSTART;TZID=America/New_York:20280712T180000
DTEND;TZID=America/New_York:20280712T193000
DTSTAMP:20260421T124637
CREATED:20260204T142741Z
LAST-MODIFIED:20260205T125444Z
UID:10006402-1847037600-1847043000@www.tcrunning.org
SUMMARY:Wed PSL Crosstown Running
DESCRIPTION:PSL Crosstown Running Club \nWednesday – 6:00 PM\nMcChesney Park\n1585 SW Cashmere Blvd.\, Port St. Lucie\, FL 34986 \nhttps://www.facebook.com/PSLCrosstownRunningClub
URL:https://www.tcrunning.org/event/wed-psl-crosstown-running/2028-07-12/
LOCATION:1585 SW Cashmere Blvd.\, Port St. Lucie\, FL 34986
CATEGORIES:Weekly Running
END:VEVENT
BEGIN:VEVENT
DTSTART;TZID=America/New_York:20280716T070000
DTEND;TZID=America/New_York:20280716T083000
DTSTAMP:20260421T124637
CREATED:20260204T143537Z
LAST-MODIFIED:20260204T143602Z
UID:10005882-1847343600-1847349000@www.tcrunning.org
SUMMARY:Sun PSL Crosstown Running
DESCRIPTION:PSL Crosstown Running Club \nSunday – 7:00 AM \nMcChesney Park\n1585 SW Cashmere Blvd.\, Port St. Lucie\, FL 34986 \nhttps://www.facebook.com/PSLCrosstownRunningClub
URL:https://www.tcrunning.org/event/sun-psl-crosstown-running/2028-07-16/
LOCATION:1585 SW Cashmere Blvd.\, Port St. Lucie\, FL 34986
CATEGORIES:Weekly Running
END:VEVENT
BEGIN:VEVENT
DTSTART;TZID=America/New_York:20280718T050000
DTEND;TZID=America/New_York:20280718T063000
DTSTAMP:20260421T124637
CREATED:20260204T141954Z
LAST-MODIFIED:20260204T142452Z
UID:10005620-1847509200-1847514600@www.tcrunning.org
SUMMARY:Tue PSL Crosstown Track Tuesday
DESCRIPTION:Tuesdays at 5:00 AM\nTrack Tuesday at Sportsman Park West\n220 NW Irving St.\, Port St. Lucie\, FL 34983 \nPSL Crosstown Running Club\nhttps://www.facebook.com/PSLCrosstownRunningClub
URL:https://www.tcrunning.org/event/psl-crosstown-track-tuesday/2028-07-18/
LOCATION:220 NW Irving St.\, Port St. Lucie\, FL 34983
CATEGORIES:Weekly Running
END:VEVENT
BEGIN:VEVENT
DTSTART;TZID=America/New_York:20280719T180000
DTEND;TZID=America/New_York:20280719T193000
DTSTAMP:20260421T124637
CREATED:20260204T142741Z
LAST-MODIFIED:20260205T125444Z
UID:10006403-1847642400-1847647800@www.tcrunning.org
SUMMARY:Wed PSL Crosstown Running
DESCRIPTION:PSL Crosstown Running Club \nWednesday – 6:00 PM\nMcChesney Park\n1585 SW Cashmere Blvd.\, Port St. Lucie\, FL 34986 \nhttps://www.facebook.com/PSLCrosstownRunningClub
URL:https://www.tcrunning.org/event/wed-psl-crosstown-running/2028-07-19/
LOCATION:1585 SW Cashmere Blvd.\, Port St. Lucie\, FL 34986
CATEGORIES:Weekly Running
END:VEVENT
END:VCALENDAR