BEGIN:VCALENDAR
VERSION:2.0
PRODID:-//Treasure Coast Running - ECPv6.15.20//NONSGML v1.0//EN
CALSCALE:GREGORIAN
METHOD:PUBLISH
X-ORIGINAL-URL:https://www.tcrunning.org
X-WR-CALDESC:Events for Treasure Coast Running
REFRESH-INTERVAL;VALUE=DURATION:PT1H
X-Robots-Tag:noindex
X-PUBLISHED-TTL:PT1H
BEGIN:VTIMEZONE
TZID:America/New_York
BEGIN:DAYLIGHT
TZOFFSETFROM:-0500
TZOFFSETTO:-0400
TZNAME:EDT
DTSTART:20260308T070000
END:DAYLIGHT
BEGIN:STANDARD
TZOFFSETFROM:-0400
TZOFFSETTO:-0500
TZNAME:EST
DTSTART:20261101T060000
END:STANDARD
BEGIN:DAYLIGHT
TZOFFSETFROM:-0500
TZOFFSETTO:-0400
TZNAME:EDT
DTSTART:20270314T070000
END:DAYLIGHT
BEGIN:STANDARD
TZOFFSETFROM:-0400
TZOFFSETTO:-0500
TZNAME:EST
DTSTART:20271107T060000
END:STANDARD
BEGIN:DAYLIGHT
TZOFFSETFROM:-0500
TZOFFSETTO:-0400
TZNAME:EDT
DTSTART:20280312T070000
END:DAYLIGHT
BEGIN:STANDARD
TZOFFSETFROM:-0400
TZOFFSETTO:-0500
TZNAME:EST
DTSTART:20281105T060000
END:STANDARD
END:VTIMEZONE
BEGIN:VEVENT
DTSTART;TZID=America/New_York:20270209T180000
DTEND;TZID=America/New_York:20270209T193000
DTSTAMP:20260421T130403
CREATED:20260205T140510Z
LAST-MODIFIED:20260205T140920Z
UID:10006589-1802196000-1802201400@www.tcrunning.org
SUMMARY:Tuesday Running Crew 3 Mile Bridge Run/Walk
DESCRIPTION:3 Mile Bridge Run/Walk \nJoin our Tuesday Running Crew for a fun and engaging experience! \nTuesday 6pm \nPublix Parking Lot\n1395 SW Martin Hwy\nPalm City\, FL
URL:https://www.tcrunning.org/event/tuesday-running-crew-bridge-run-walk/2027-02-09/
LOCATION:1395 sw Martin hwy Palm City\, FL
CATEGORIES:Weekly Running
END:VEVENT
BEGIN:VEVENT
DTSTART;TZID=America/New_York:20270216T180000
DTEND;TZID=America/New_York:20270216T193000
DTSTAMP:20260421T130403
CREATED:20260205T140510Z
LAST-MODIFIED:20260205T140920Z
UID:10006590-1802800800-1802806200@www.tcrunning.org
SUMMARY:Tuesday Running Crew 3 Mile Bridge Run/Walk
DESCRIPTION:3 Mile Bridge Run/Walk \nJoin our Tuesday Running Crew for a fun and engaging experience! \nTuesday 6pm \nPublix Parking Lot\n1395 SW Martin Hwy\nPalm City\, FL
URL:https://www.tcrunning.org/event/tuesday-running-crew-bridge-run-walk/2027-02-16/
LOCATION:1395 sw Martin hwy Palm City\, FL
CATEGORIES:Weekly Running
END:VEVENT
BEGIN:VEVENT
DTSTART;TZID=America/New_York:20270223T180000
DTEND;TZID=America/New_York:20270223T193000
DTSTAMP:20260421T130403
CREATED:20260205T140510Z
LAST-MODIFIED:20260205T140920Z
UID:10006591-1803405600-1803411000@www.tcrunning.org
SUMMARY:Tuesday Running Crew 3 Mile Bridge Run/Walk
DESCRIPTION:3 Mile Bridge Run/Walk \nJoin our Tuesday Running Crew for a fun and engaging experience! \nTuesday 6pm \nPublix Parking Lot\n1395 SW Martin Hwy\nPalm City\, FL
URL:https://www.tcrunning.org/event/tuesday-running-crew-bridge-run-walk/2027-02-23/
LOCATION:1395 sw Martin hwy Palm City\, FL
CATEGORIES:Weekly Running
END:VEVENT
BEGIN:VEVENT
DTSTART;TZID=America/New_York:20270302T180000
DTEND;TZID=America/New_York:20270302T193000
DTSTAMP:20260421T130403
CREATED:20260205T140510Z
LAST-MODIFIED:20260205T140920Z
UID:10006592-1804010400-1804015800@www.tcrunning.org
SUMMARY:Tuesday Running Crew 3 Mile Bridge Run/Walk
DESCRIPTION:3 Mile Bridge Run/Walk \nJoin our Tuesday Running Crew for a fun and engaging experience! \nTuesday 6pm \nPublix Parking Lot\n1395 SW Martin Hwy\nPalm City\, FL
URL:https://www.tcrunning.org/event/tuesday-running-crew-bridge-run-walk/2027-03-02/
LOCATION:1395 sw Martin hwy Palm City\, FL
CATEGORIES:Weekly Running
END:VEVENT
BEGIN:VEVENT
DTSTART;TZID=America/New_York:20270309T180000
DTEND;TZID=America/New_York:20270309T193000
DTSTAMP:20260421T130403
CREATED:20260205T140510Z
LAST-MODIFIED:20260205T140920Z
UID:10006593-1804615200-1804620600@www.tcrunning.org
SUMMARY:Tuesday Running Crew 3 Mile Bridge Run/Walk
DESCRIPTION:3 Mile Bridge Run/Walk \nJoin our Tuesday Running Crew for a fun and engaging experience! \nTuesday 6pm \nPublix Parking Lot\n1395 SW Martin Hwy\nPalm City\, FL
URL:https://www.tcrunning.org/event/tuesday-running-crew-bridge-run-walk/2027-03-09/
LOCATION:1395 sw Martin hwy Palm City\, FL
CATEGORIES:Weekly Running
END:VEVENT
BEGIN:VEVENT
DTSTART;TZID=America/New_York:20270316T180000
DTEND;TZID=America/New_York:20270316T193000
DTSTAMP:20260421T130403
CREATED:20260205T140510Z
LAST-MODIFIED:20260205T140920Z
UID:10006594-1805220000-1805225400@www.tcrunning.org
SUMMARY:Tuesday Running Crew 3 Mile Bridge Run/Walk
DESCRIPTION:3 Mile Bridge Run/Walk \nJoin our Tuesday Running Crew for a fun and engaging experience! \nTuesday 6pm \nPublix Parking Lot\n1395 SW Martin Hwy\nPalm City\, FL
URL:https://www.tcrunning.org/event/tuesday-running-crew-bridge-run-walk/2027-03-16/
LOCATION:1395 sw Martin hwy Palm City\, FL
CATEGORIES:Weekly Running
END:VEVENT
BEGIN:VEVENT
DTSTART;TZID=America/New_York:20270323T180000
DTEND;TZID=America/New_York:20270323T193000
DTSTAMP:20260421T130403
CREATED:20260205T140510Z
LAST-MODIFIED:20260205T140920Z
UID:10006595-1805824800-1805830200@www.tcrunning.org
SUMMARY:Tuesday Running Crew 3 Mile Bridge Run/Walk
DESCRIPTION:3 Mile Bridge Run/Walk \nJoin our Tuesday Running Crew for a fun and engaging experience! \nTuesday 6pm \nPublix Parking Lot\n1395 SW Martin Hwy\nPalm City\, FL
URL:https://www.tcrunning.org/event/tuesday-running-crew-bridge-run-walk/2027-03-23/
LOCATION:1395 sw Martin hwy Palm City\, FL
CATEGORIES:Weekly Running
END:VEVENT
BEGIN:VEVENT
DTSTART;TZID=America/New_York:20270330T180000
DTEND;TZID=America/New_York:20270330T193000
DTSTAMP:20260421T130403
CREATED:20260205T140510Z
LAST-MODIFIED:20260205T140920Z
UID:10006596-1806429600-1806435000@www.tcrunning.org
SUMMARY:Tuesday Running Crew 3 Mile Bridge Run/Walk
DESCRIPTION:3 Mile Bridge Run/Walk \nJoin our Tuesday Running Crew for a fun and engaging experience! \nTuesday 6pm \nPublix Parking Lot\n1395 SW Martin Hwy\nPalm City\, FL
URL:https://www.tcrunning.org/event/tuesday-running-crew-bridge-run-walk/2027-03-30/
LOCATION:1395 sw Martin hwy Palm City\, FL
CATEGORIES:Weekly Running
END:VEVENT
BEGIN:VEVENT
DTSTART;TZID=America/New_York:20270406T180000
DTEND;TZID=America/New_York:20270406T193000
DTSTAMP:20260421T130403
CREATED:20260205T140510Z
LAST-MODIFIED:20260205T140920Z
UID:10006597-1807034400-1807039800@www.tcrunning.org
SUMMARY:Tuesday Running Crew 3 Mile Bridge Run/Walk
DESCRIPTION:3 Mile Bridge Run/Walk \nJoin our Tuesday Running Crew for a fun and engaging experience! \nTuesday 6pm \nPublix Parking Lot\n1395 SW Martin Hwy\nPalm City\, FL
URL:https://www.tcrunning.org/event/tuesday-running-crew-bridge-run-walk/2027-04-06/
LOCATION:1395 sw Martin hwy Palm City\, FL
CATEGORIES:Weekly Running
END:VEVENT
BEGIN:VEVENT
DTSTART;TZID=America/New_York:20270413T180000
DTEND;TZID=America/New_York:20270413T193000
DTSTAMP:20260421T130403
CREATED:20260205T140510Z
LAST-MODIFIED:20260205T140920Z
UID:10006598-1807639200-1807644600@www.tcrunning.org
SUMMARY:Tuesday Running Crew 3 Mile Bridge Run/Walk
DESCRIPTION:3 Mile Bridge Run/Walk \nJoin our Tuesday Running Crew for a fun and engaging experience! \nTuesday 6pm \nPublix Parking Lot\n1395 SW Martin Hwy\nPalm City\, FL
URL:https://www.tcrunning.org/event/tuesday-running-crew-bridge-run-walk/2027-04-13/
LOCATION:1395 sw Martin hwy Palm City\, FL
CATEGORIES:Weekly Running
END:VEVENT
BEGIN:VEVENT
DTSTART;TZID=America/New_York:20270420T180000
DTEND;TZID=America/New_York:20270420T193000
DTSTAMP:20260421T130403
CREATED:20260205T140510Z
LAST-MODIFIED:20260205T140920Z
UID:10006599-1808244000-1808249400@www.tcrunning.org
SUMMARY:Tuesday Running Crew 3 Mile Bridge Run/Walk
DESCRIPTION:3 Mile Bridge Run/Walk \nJoin our Tuesday Running Crew for a fun and engaging experience! \nTuesday 6pm \nPublix Parking Lot\n1395 SW Martin Hwy\nPalm City\, FL
URL:https://www.tcrunning.org/event/tuesday-running-crew-bridge-run-walk/2027-04-20/
LOCATION:1395 sw Martin hwy Palm City\, FL
CATEGORIES:Weekly Running
END:VEVENT
BEGIN:VEVENT
DTSTART;TZID=America/New_York:20270427T180000
DTEND;TZID=America/New_York:20270427T193000
DTSTAMP:20260421T130403
CREATED:20260205T140510Z
LAST-MODIFIED:20260205T140920Z
UID:10006600-1808848800-1808854200@www.tcrunning.org
SUMMARY:Tuesday Running Crew 3 Mile Bridge Run/Walk
DESCRIPTION:3 Mile Bridge Run/Walk \nJoin our Tuesday Running Crew for a fun and engaging experience! \nTuesday 6pm \nPublix Parking Lot\n1395 SW Martin Hwy\nPalm City\, FL
URL:https://www.tcrunning.org/event/tuesday-running-crew-bridge-run-walk/2027-04-27/
LOCATION:1395 sw Martin hwy Palm City\, FL
CATEGORIES:Weekly Running
END:VEVENT
BEGIN:VEVENT
DTSTART;TZID=America/New_York:20270504T180000
DTEND;TZID=America/New_York:20270504T193000
DTSTAMP:20260421T130403
CREATED:20260205T140510Z
LAST-MODIFIED:20260205T140920Z
UID:10006601-1809453600-1809459000@www.tcrunning.org
SUMMARY:Tuesday Running Crew 3 Mile Bridge Run/Walk
DESCRIPTION:3 Mile Bridge Run/Walk \nJoin our Tuesday Running Crew for a fun and engaging experience! \nTuesday 6pm \nPublix Parking Lot\n1395 SW Martin Hwy\nPalm City\, FL
URL:https://www.tcrunning.org/event/tuesday-running-crew-bridge-run-walk/2027-05-04/
LOCATION:1395 sw Martin hwy Palm City\, FL
CATEGORIES:Weekly Running
END:VEVENT
BEGIN:VEVENT
DTSTART;TZID=America/New_York:20270511T180000
DTEND;TZID=America/New_York:20270511T193000
DTSTAMP:20260421T130403
CREATED:20260205T140510Z
LAST-MODIFIED:20260205T140920Z
UID:10006602-1810058400-1810063800@www.tcrunning.org
SUMMARY:Tuesday Running Crew 3 Mile Bridge Run/Walk
DESCRIPTION:3 Mile Bridge Run/Walk \nJoin our Tuesday Running Crew for a fun and engaging experience! \nTuesday 6pm \nPublix Parking Lot\n1395 SW Martin Hwy\nPalm City\, FL
URL:https://www.tcrunning.org/event/tuesday-running-crew-bridge-run-walk/2027-05-11/
LOCATION:1395 sw Martin hwy Palm City\, FL
CATEGORIES:Weekly Running
END:VEVENT
BEGIN:VEVENT
DTSTART;TZID=America/New_York:20270518T180000
DTEND;TZID=America/New_York:20270518T193000
DTSTAMP:20260421T130403
CREATED:20260205T140510Z
LAST-MODIFIED:20260205T140920Z
UID:10006603-1810663200-1810668600@www.tcrunning.org
SUMMARY:Tuesday Running Crew 3 Mile Bridge Run/Walk
DESCRIPTION:3 Mile Bridge Run/Walk \nJoin our Tuesday Running Crew for a fun and engaging experience! \nTuesday 6pm \nPublix Parking Lot\n1395 SW Martin Hwy\nPalm City\, FL
URL:https://www.tcrunning.org/event/tuesday-running-crew-bridge-run-walk/2027-05-18/
LOCATION:1395 sw Martin hwy Palm City\, FL
CATEGORIES:Weekly Running
END:VEVENT
BEGIN:VEVENT
DTSTART;TZID=America/New_York:20270525T180000
DTEND;TZID=America/New_York:20270525T193000
DTSTAMP:20260421T130403
CREATED:20260205T140510Z
LAST-MODIFIED:20260205T140920Z
UID:10006604-1811268000-1811273400@www.tcrunning.org
SUMMARY:Tuesday Running Crew 3 Mile Bridge Run/Walk
DESCRIPTION:3 Mile Bridge Run/Walk \nJoin our Tuesday Running Crew for a fun and engaging experience! \nTuesday 6pm \nPublix Parking Lot\n1395 SW Martin Hwy\nPalm City\, FL
URL:https://www.tcrunning.org/event/tuesday-running-crew-bridge-run-walk/2027-05-25/
LOCATION:1395 sw Martin hwy Palm City\, FL
CATEGORIES:Weekly Running
END:VEVENT
BEGIN:VEVENT
DTSTART;TZID=America/New_York:20270601T180000
DTEND;TZID=America/New_York:20270601T193000
DTSTAMP:20260421T130403
CREATED:20260205T140510Z
LAST-MODIFIED:20260205T140920Z
UID:10006605-1811872800-1811878200@www.tcrunning.org
SUMMARY:Tuesday Running Crew 3 Mile Bridge Run/Walk
DESCRIPTION:3 Mile Bridge Run/Walk \nJoin our Tuesday Running Crew for a fun and engaging experience! \nTuesday 6pm \nPublix Parking Lot\n1395 SW Martin Hwy\nPalm City\, FL
URL:https://www.tcrunning.org/event/tuesday-running-crew-bridge-run-walk/2027-06-01/
LOCATION:1395 sw Martin hwy Palm City\, FL
CATEGORIES:Weekly Running
END:VEVENT
BEGIN:VEVENT
DTSTART;TZID=America/New_York:20270608T180000
DTEND;TZID=America/New_York:20270608T193000
DTSTAMP:20260421T130403
CREATED:20260205T140510Z
LAST-MODIFIED:20260205T140920Z
UID:10006606-1812477600-1812483000@www.tcrunning.org
SUMMARY:Tuesday Running Crew 3 Mile Bridge Run/Walk
DESCRIPTION:3 Mile Bridge Run/Walk \nJoin our Tuesday Running Crew for a fun and engaging experience! \nTuesday 6pm \nPublix Parking Lot\n1395 SW Martin Hwy\nPalm City\, FL
URL:https://www.tcrunning.org/event/tuesday-running-crew-bridge-run-walk/2027-06-08/
LOCATION:1395 sw Martin hwy Palm City\, FL
CATEGORIES:Weekly Running
END:VEVENT
BEGIN:VEVENT
DTSTART;TZID=America/New_York:20270615T180000
DTEND;TZID=America/New_York:20270615T193000
DTSTAMP:20260421T130403
CREATED:20260205T140510Z
LAST-MODIFIED:20260205T140920Z
UID:10006607-1813082400-1813087800@www.tcrunning.org
SUMMARY:Tuesday Running Crew 3 Mile Bridge Run/Walk
DESCRIPTION:3 Mile Bridge Run/Walk \nJoin our Tuesday Running Crew for a fun and engaging experience! \nTuesday 6pm \nPublix Parking Lot\n1395 SW Martin Hwy\nPalm City\, FL
URL:https://www.tcrunning.org/event/tuesday-running-crew-bridge-run-walk/2027-06-15/
LOCATION:1395 sw Martin hwy Palm City\, FL
CATEGORIES:Weekly Running
END:VEVENT
BEGIN:VEVENT
DTSTART;TZID=America/New_York:20270622T180000
DTEND;TZID=America/New_York:20270622T193000
DTSTAMP:20260421T130403
CREATED:20260205T140510Z
LAST-MODIFIED:20260205T140920Z
UID:10006608-1813687200-1813692600@www.tcrunning.org
SUMMARY:Tuesday Running Crew 3 Mile Bridge Run/Walk
DESCRIPTION:3 Mile Bridge Run/Walk \nJoin our Tuesday Running Crew for a fun and engaging experience! \nTuesday 6pm \nPublix Parking Lot\n1395 SW Martin Hwy\nPalm City\, FL
URL:https://www.tcrunning.org/event/tuesday-running-crew-bridge-run-walk/2027-06-22/
LOCATION:1395 sw Martin hwy Palm City\, FL
CATEGORIES:Weekly Running
END:VEVENT
BEGIN:VEVENT
DTSTART;TZID=America/New_York:20270629T180000
DTEND;TZID=America/New_York:20270629T193000
DTSTAMP:20260421T130403
CREATED:20260205T140510Z
LAST-MODIFIED:20260205T140920Z
UID:10006609-1814292000-1814297400@www.tcrunning.org
SUMMARY:Tuesday Running Crew 3 Mile Bridge Run/Walk
DESCRIPTION:3 Mile Bridge Run/Walk \nJoin our Tuesday Running Crew for a fun and engaging experience! \nTuesday 6pm \nPublix Parking Lot\n1395 SW Martin Hwy\nPalm City\, FL
URL:https://www.tcrunning.org/event/tuesday-running-crew-bridge-run-walk/2027-06-29/
LOCATION:1395 sw Martin hwy Palm City\, FL
CATEGORIES:Weekly Running
END:VEVENT
BEGIN:VEVENT
DTSTART;TZID=America/New_York:20270706T180000
DTEND;TZID=America/New_York:20270706T193000
DTSTAMP:20260421T130403
CREATED:20260205T140510Z
LAST-MODIFIED:20260205T140920Z
UID:10006610-1814896800-1814902200@www.tcrunning.org
SUMMARY:Tuesday Running Crew 3 Mile Bridge Run/Walk
DESCRIPTION:3 Mile Bridge Run/Walk \nJoin our Tuesday Running Crew for a fun and engaging experience! \nTuesday 6pm \nPublix Parking Lot\n1395 SW Martin Hwy\nPalm City\, FL
URL:https://www.tcrunning.org/event/tuesday-running-crew-bridge-run-walk/2027-07-06/
LOCATION:1395 sw Martin hwy Palm City\, FL
CATEGORIES:Weekly Running
END:VEVENT
BEGIN:VEVENT
DTSTART;TZID=America/New_York:20270713T180000
DTEND;TZID=America/New_York:20270713T193000
DTSTAMP:20260421T130403
CREATED:20260205T140510Z
LAST-MODIFIED:20260205T140920Z
UID:10006611-1815501600-1815507000@www.tcrunning.org
SUMMARY:Tuesday Running Crew 3 Mile Bridge Run/Walk
DESCRIPTION:3 Mile Bridge Run/Walk \nJoin our Tuesday Running Crew for a fun and engaging experience! \nTuesday 6pm \nPublix Parking Lot\n1395 SW Martin Hwy\nPalm City\, FL
URL:https://www.tcrunning.org/event/tuesday-running-crew-bridge-run-walk/2027-07-13/
LOCATION:1395 sw Martin hwy Palm City\, FL
CATEGORIES:Weekly Running
END:VEVENT
BEGIN:VEVENT
DTSTART;TZID=America/New_York:20270720T180000
DTEND;TZID=America/New_York:20270720T193000
DTSTAMP:20260421T130403
CREATED:20260205T140510Z
LAST-MODIFIED:20260205T140920Z
UID:10006612-1816106400-1816111800@www.tcrunning.org
SUMMARY:Tuesday Running Crew 3 Mile Bridge Run/Walk
DESCRIPTION:3 Mile Bridge Run/Walk \nJoin our Tuesday Running Crew for a fun and engaging experience! \nTuesday 6pm \nPublix Parking Lot\n1395 SW Martin Hwy\nPalm City\, FL
URL:https://www.tcrunning.org/event/tuesday-running-crew-bridge-run-walk/2027-07-20/
LOCATION:1395 sw Martin hwy Palm City\, FL
CATEGORIES:Weekly Running
END:VEVENT
BEGIN:VEVENT
DTSTART;TZID=America/New_York:20270727T180000
DTEND;TZID=America/New_York:20270727T193000
DTSTAMP:20260421T130403
CREATED:20260205T140510Z
LAST-MODIFIED:20260205T140920Z
UID:10006613-1816711200-1816716600@www.tcrunning.org
SUMMARY:Tuesday Running Crew 3 Mile Bridge Run/Walk
DESCRIPTION:3 Mile Bridge Run/Walk \nJoin our Tuesday Running Crew for a fun and engaging experience! \nTuesday 6pm \nPublix Parking Lot\n1395 SW Martin Hwy\nPalm City\, FL
URL:https://www.tcrunning.org/event/tuesday-running-crew-bridge-run-walk/2027-07-27/
LOCATION:1395 sw Martin hwy Palm City\, FL
CATEGORIES:Weekly Running
END:VEVENT
BEGIN:VEVENT
DTSTART;TZID=America/New_York:20270803T180000
DTEND;TZID=America/New_York:20270803T193000
DTSTAMP:20260421T130403
CREATED:20260205T140510Z
LAST-MODIFIED:20260205T140920Z
UID:10006614-1817316000-1817321400@www.tcrunning.org
SUMMARY:Tuesday Running Crew 3 Mile Bridge Run/Walk
DESCRIPTION:3 Mile Bridge Run/Walk \nJoin our Tuesday Running Crew for a fun and engaging experience! \nTuesday 6pm \nPublix Parking Lot\n1395 SW Martin Hwy\nPalm City\, FL
URL:https://www.tcrunning.org/event/tuesday-running-crew-bridge-run-walk/2027-08-03/
LOCATION:1395 sw Martin hwy Palm City\, FL
CATEGORIES:Weekly Running
END:VEVENT
BEGIN:VEVENT
DTSTART;TZID=America/New_York:20270810T180000
DTEND;TZID=America/New_York:20270810T193000
DTSTAMP:20260421T130403
CREATED:20260205T140510Z
LAST-MODIFIED:20260205T140920Z
UID:10006615-1817920800-1817926200@www.tcrunning.org
SUMMARY:Tuesday Running Crew 3 Mile Bridge Run/Walk
DESCRIPTION:3 Mile Bridge Run/Walk \nJoin our Tuesday Running Crew for a fun and engaging experience! \nTuesday 6pm \nPublix Parking Lot\n1395 SW Martin Hwy\nPalm City\, FL
URL:https://www.tcrunning.org/event/tuesday-running-crew-bridge-run-walk/2027-08-10/
LOCATION:1395 sw Martin hwy Palm City\, FL
CATEGORIES:Weekly Running
END:VEVENT
BEGIN:VEVENT
DTSTART;TZID=America/New_York:20270817T180000
DTEND;TZID=America/New_York:20270817T193000
DTSTAMP:20260421T130403
CREATED:20260205T140510Z
LAST-MODIFIED:20260205T140920Z
UID:10006616-1818525600-1818531000@www.tcrunning.org
SUMMARY:Tuesday Running Crew 3 Mile Bridge Run/Walk
DESCRIPTION:3 Mile Bridge Run/Walk \nJoin our Tuesday Running Crew for a fun and engaging experience! \nTuesday 6pm \nPublix Parking Lot\n1395 SW Martin Hwy\nPalm City\, FL
URL:https://www.tcrunning.org/event/tuesday-running-crew-bridge-run-walk/2027-08-17/
LOCATION:1395 sw Martin hwy Palm City\, FL
CATEGORIES:Weekly Running
END:VEVENT
BEGIN:VEVENT
DTSTART;TZID=America/New_York:20270824T180000
DTEND;TZID=America/New_York:20270824T193000
DTSTAMP:20260421T130403
CREATED:20260205T140510Z
LAST-MODIFIED:20260205T140920Z
UID:10006617-1819130400-1819135800@www.tcrunning.org
SUMMARY:Tuesday Running Crew 3 Mile Bridge Run/Walk
DESCRIPTION:3 Mile Bridge Run/Walk \nJoin our Tuesday Running Crew for a fun and engaging experience! \nTuesday 6pm \nPublix Parking Lot\n1395 SW Martin Hwy\nPalm City\, FL
URL:https://www.tcrunning.org/event/tuesday-running-crew-bridge-run-walk/2027-08-24/
LOCATION:1395 sw Martin hwy Palm City\, FL
CATEGORIES:Weekly Running
END:VEVENT
BEGIN:VEVENT
DTSTART;TZID=America/New_York:20270831T180000
DTEND;TZID=America/New_York:20270831T193000
DTSTAMP:20260421T130403
CREATED:20260205T140510Z
LAST-MODIFIED:20260205T140920Z
UID:10006618-1819735200-1819740600@www.tcrunning.org
SUMMARY:Tuesday Running Crew 3 Mile Bridge Run/Walk
DESCRIPTION:3 Mile Bridge Run/Walk \nJoin our Tuesday Running Crew for a fun and engaging experience! \nTuesday 6pm \nPublix Parking Lot\n1395 SW Martin Hwy\nPalm City\, FL
URL:https://www.tcrunning.org/event/tuesday-running-crew-bridge-run-walk/2027-08-31/
LOCATION:1395 sw Martin hwy Palm City\, FL
CATEGORIES:Weekly Running
END:VEVENT
END:VCALENDAR