BEGIN:VCALENDAR
VERSION:2.0
PRODID:-//Treasure Coast Running - ECPv6.15.20//NONSGML v1.0//EN
CALSCALE:GREGORIAN
METHOD:PUBLISH
X-ORIGINAL-URL:https://www.tcrunning.org
X-WR-CALDESC:Events for Treasure Coast Running
REFRESH-INTERVAL;VALUE=DURATION:PT1H
X-Robots-Tag:noindex
X-PUBLISHED-TTL:PT1H
BEGIN:VTIMEZONE
TZID:America/New_York
BEGIN:DAYLIGHT
TZOFFSETFROM:-0500
TZOFFSETTO:-0400
TZNAME:EDT
DTSTART:20290311T070000
END:DAYLIGHT
BEGIN:STANDARD
TZOFFSETFROM:-0400
TZOFFSETTO:-0500
TZNAME:EST
DTSTART:20291104T060000
END:STANDARD
BEGIN:DAYLIGHT
TZOFFSETFROM:-0500
TZOFFSETTO:-0400
TZNAME:EDT
DTSTART:20300310T070000
END:DAYLIGHT
BEGIN:STANDARD
TZOFFSETFROM:-0400
TZOFFSETTO:-0500
TZNAME:EST
DTSTART:20301103T060000
END:STANDARD
BEGIN:DAYLIGHT
TZOFFSETFROM:-0500
TZOFFSETTO:-0400
TZNAME:EDT
DTSTART:20310309T070000
END:DAYLIGHT
BEGIN:STANDARD
TZOFFSETFROM:-0400
TZOFFSETTO:-0500
TZNAME:EST
DTSTART:20311102T060000
END:STANDARD
BEGIN:DAYLIGHT
TZOFFSETFROM:-0500
TZOFFSETTO:-0400
TZNAME:EDT
DTSTART:20320314T070000
END:DAYLIGHT
BEGIN:STANDARD
TZOFFSETFROM:-0400
TZOFFSETTO:-0500
TZNAME:EST
DTSTART:20321107T060000
END:STANDARD
END:VTIMEZONE
BEGIN:VEVENT
DTSTART;TZID=America/New_York:20300813T180000
DTEND;TZID=America/New_York:20300813T193000
DTSTAMP:20260424T172721
CREATED:20260205T140510Z
LAST-MODIFIED:20260205T140920Z
UID:10006772-1912874400-1912879800@www.tcrunning.org
SUMMARY:Tuesday Running Crew 3 Mile Bridge Run/Walk
DESCRIPTION:3 Mile Bridge Run/Walk \nJoin our Tuesday Running Crew for a fun and engaging experience! \nTuesday 6pm \nPublix Parking Lot\n1395 SW Martin Hwy\nPalm City\, FL
URL:https://www.tcrunning.org/event/tuesday-running-crew-bridge-run-walk/2030-08-13/
LOCATION:1395 sw Martin hwy Palm City\, FL
CATEGORIES:Weekly Running
END:VEVENT
BEGIN:VEVENT
DTSTART;TZID=America/New_York:20300820T180000
DTEND;TZID=America/New_York:20300820T193000
DTSTAMP:20260424T172721
CREATED:20260205T140510Z
LAST-MODIFIED:20260205T140920Z
UID:10006773-1913479200-1913484600@www.tcrunning.org
SUMMARY:Tuesday Running Crew 3 Mile Bridge Run/Walk
DESCRIPTION:3 Mile Bridge Run/Walk \nJoin our Tuesday Running Crew for a fun and engaging experience! \nTuesday 6pm \nPublix Parking Lot\n1395 SW Martin Hwy\nPalm City\, FL
URL:https://www.tcrunning.org/event/tuesday-running-crew-bridge-run-walk/2030-08-20/
LOCATION:1395 sw Martin hwy Palm City\, FL
CATEGORIES:Weekly Running
END:VEVENT
BEGIN:VEVENT
DTSTART;TZID=America/New_York:20300827T180000
DTEND;TZID=America/New_York:20300827T193000
DTSTAMP:20260424T172721
CREATED:20260205T140510Z
LAST-MODIFIED:20260205T140920Z
UID:10006774-1914084000-1914089400@www.tcrunning.org
SUMMARY:Tuesday Running Crew 3 Mile Bridge Run/Walk
DESCRIPTION:3 Mile Bridge Run/Walk \nJoin our Tuesday Running Crew for a fun and engaging experience! \nTuesday 6pm \nPublix Parking Lot\n1395 SW Martin Hwy\nPalm City\, FL
URL:https://www.tcrunning.org/event/tuesday-running-crew-bridge-run-walk/2030-08-27/
LOCATION:1395 sw Martin hwy Palm City\, FL
CATEGORIES:Weekly Running
END:VEVENT
BEGIN:VEVENT
DTSTART;TZID=America/New_York:20300903T180000
DTEND;TZID=America/New_York:20300903T193000
DTSTAMP:20260424T172721
CREATED:20260205T140510Z
LAST-MODIFIED:20260205T140920Z
UID:10006775-1914688800-1914694200@www.tcrunning.org
SUMMARY:Tuesday Running Crew 3 Mile Bridge Run/Walk
DESCRIPTION:3 Mile Bridge Run/Walk \nJoin our Tuesday Running Crew for a fun and engaging experience! \nTuesday 6pm \nPublix Parking Lot\n1395 SW Martin Hwy\nPalm City\, FL
URL:https://www.tcrunning.org/event/tuesday-running-crew-bridge-run-walk/2030-09-03/
LOCATION:1395 sw Martin hwy Palm City\, FL
CATEGORIES:Weekly Running
END:VEVENT
BEGIN:VEVENT
DTSTART;TZID=America/New_York:20300910T180000
DTEND;TZID=America/New_York:20300910T193000
DTSTAMP:20260424T172721
CREATED:20260205T140510Z
LAST-MODIFIED:20260205T140920Z
UID:10006776-1915293600-1915299000@www.tcrunning.org
SUMMARY:Tuesday Running Crew 3 Mile Bridge Run/Walk
DESCRIPTION:3 Mile Bridge Run/Walk \nJoin our Tuesday Running Crew for a fun and engaging experience! \nTuesday 6pm \nPublix Parking Lot\n1395 SW Martin Hwy\nPalm City\, FL
URL:https://www.tcrunning.org/event/tuesday-running-crew-bridge-run-walk/2030-09-10/
LOCATION:1395 sw Martin hwy Palm City\, FL
CATEGORIES:Weekly Running
END:VEVENT
BEGIN:VEVENT
DTSTART;TZID=America/New_York:20300917T180000
DTEND;TZID=America/New_York:20300917T193000
DTSTAMP:20260424T172721
CREATED:20260205T140510Z
LAST-MODIFIED:20260205T140920Z
UID:10006777-1915898400-1915903800@www.tcrunning.org
SUMMARY:Tuesday Running Crew 3 Mile Bridge Run/Walk
DESCRIPTION:3 Mile Bridge Run/Walk \nJoin our Tuesday Running Crew for a fun and engaging experience! \nTuesday 6pm \nPublix Parking Lot\n1395 SW Martin Hwy\nPalm City\, FL
URL:https://www.tcrunning.org/event/tuesday-running-crew-bridge-run-walk/2030-09-17/
LOCATION:1395 sw Martin hwy Palm City\, FL
CATEGORIES:Weekly Running
END:VEVENT
BEGIN:VEVENT
DTSTART;TZID=America/New_York:20300924T180000
DTEND;TZID=America/New_York:20300924T193000
DTSTAMP:20260424T172721
CREATED:20260205T140510Z
LAST-MODIFIED:20260205T140920Z
UID:10006778-1916503200-1916508600@www.tcrunning.org
SUMMARY:Tuesday Running Crew 3 Mile Bridge Run/Walk
DESCRIPTION:3 Mile Bridge Run/Walk \nJoin our Tuesday Running Crew for a fun and engaging experience! \nTuesday 6pm \nPublix Parking Lot\n1395 SW Martin Hwy\nPalm City\, FL
URL:https://www.tcrunning.org/event/tuesday-running-crew-bridge-run-walk/2030-09-24/
LOCATION:1395 sw Martin hwy Palm City\, FL
CATEGORIES:Weekly Running
END:VEVENT
BEGIN:VEVENT
DTSTART;TZID=America/New_York:20301001T180000
DTEND;TZID=America/New_York:20301001T193000
DTSTAMP:20260424T172721
CREATED:20260205T140510Z
LAST-MODIFIED:20260205T140920Z
UID:10006779-1917108000-1917113400@www.tcrunning.org
SUMMARY:Tuesday Running Crew 3 Mile Bridge Run/Walk
DESCRIPTION:3 Mile Bridge Run/Walk \nJoin our Tuesday Running Crew for a fun and engaging experience! \nTuesday 6pm \nPublix Parking Lot\n1395 SW Martin Hwy\nPalm City\, FL
URL:https://www.tcrunning.org/event/tuesday-running-crew-bridge-run-walk/2030-10-01/
LOCATION:1395 sw Martin hwy Palm City\, FL
CATEGORIES:Weekly Running
END:VEVENT
BEGIN:VEVENT
DTSTART;TZID=America/New_York:20301008T180000
DTEND;TZID=America/New_York:20301008T193000
DTSTAMP:20260424T172721
CREATED:20260205T140510Z
LAST-MODIFIED:20260205T140920Z
UID:10006780-1917712800-1917718200@www.tcrunning.org
SUMMARY:Tuesday Running Crew 3 Mile Bridge Run/Walk
DESCRIPTION:3 Mile Bridge Run/Walk \nJoin our Tuesday Running Crew for a fun and engaging experience! \nTuesday 6pm \nPublix Parking Lot\n1395 SW Martin Hwy\nPalm City\, FL
URL:https://www.tcrunning.org/event/tuesday-running-crew-bridge-run-walk/2030-10-08/
LOCATION:1395 sw Martin hwy Palm City\, FL
CATEGORIES:Weekly Running
END:VEVENT
BEGIN:VEVENT
DTSTART;TZID=America/New_York:20301015T180000
DTEND;TZID=America/New_York:20301015T193000
DTSTAMP:20260424T172721
CREATED:20260205T140510Z
LAST-MODIFIED:20260205T140920Z
UID:10006781-1918317600-1918323000@www.tcrunning.org
SUMMARY:Tuesday Running Crew 3 Mile Bridge Run/Walk
DESCRIPTION:3 Mile Bridge Run/Walk \nJoin our Tuesday Running Crew for a fun and engaging experience! \nTuesday 6pm \nPublix Parking Lot\n1395 SW Martin Hwy\nPalm City\, FL
URL:https://www.tcrunning.org/event/tuesday-running-crew-bridge-run-walk/2030-10-15/
LOCATION:1395 sw Martin hwy Palm City\, FL
CATEGORIES:Weekly Running
END:VEVENT
BEGIN:VEVENT
DTSTART;TZID=America/New_York:20301022T180000
DTEND;TZID=America/New_York:20301022T193000
DTSTAMP:20260424T172721
CREATED:20260205T140510Z
LAST-MODIFIED:20260205T140920Z
UID:10006782-1918922400-1918927800@www.tcrunning.org
SUMMARY:Tuesday Running Crew 3 Mile Bridge Run/Walk
DESCRIPTION:3 Mile Bridge Run/Walk \nJoin our Tuesday Running Crew for a fun and engaging experience! \nTuesday 6pm \nPublix Parking Lot\n1395 SW Martin Hwy\nPalm City\, FL
URL:https://www.tcrunning.org/event/tuesday-running-crew-bridge-run-walk/2030-10-22/
LOCATION:1395 sw Martin hwy Palm City\, FL
CATEGORIES:Weekly Running
END:VEVENT
BEGIN:VEVENT
DTSTART;TZID=America/New_York:20301029T180000
DTEND;TZID=America/New_York:20301029T193000
DTSTAMP:20260424T172721
CREATED:20260205T140510Z
LAST-MODIFIED:20260205T140920Z
UID:10006783-1919527200-1919532600@www.tcrunning.org
SUMMARY:Tuesday Running Crew 3 Mile Bridge Run/Walk
DESCRIPTION:3 Mile Bridge Run/Walk \nJoin our Tuesday Running Crew for a fun and engaging experience! \nTuesday 6pm \nPublix Parking Lot\n1395 SW Martin Hwy\nPalm City\, FL
URL:https://www.tcrunning.org/event/tuesday-running-crew-bridge-run-walk/2030-10-29/
LOCATION:1395 sw Martin hwy Palm City\, FL
CATEGORIES:Weekly Running
END:VEVENT
BEGIN:VEVENT
DTSTART;TZID=America/New_York:20301105T180000
DTEND;TZID=America/New_York:20301105T193000
DTSTAMP:20260424T172721
CREATED:20260205T140510Z
LAST-MODIFIED:20260205T140920Z
UID:10006784-1920132000-1920137400@www.tcrunning.org
SUMMARY:Tuesday Running Crew 3 Mile Bridge Run/Walk
DESCRIPTION:3 Mile Bridge Run/Walk \nJoin our Tuesday Running Crew for a fun and engaging experience! \nTuesday 6pm \nPublix Parking Lot\n1395 SW Martin Hwy\nPalm City\, FL
URL:https://www.tcrunning.org/event/tuesday-running-crew-bridge-run-walk/2030-11-05/
LOCATION:1395 sw Martin hwy Palm City\, FL
CATEGORIES:Weekly Running
END:VEVENT
BEGIN:VEVENT
DTSTART;TZID=America/New_York:20301112T180000
DTEND;TZID=America/New_York:20301112T193000
DTSTAMP:20260424T172721
CREATED:20260205T140510Z
LAST-MODIFIED:20260205T140920Z
UID:10006785-1920736800-1920742200@www.tcrunning.org
SUMMARY:Tuesday Running Crew 3 Mile Bridge Run/Walk
DESCRIPTION:3 Mile Bridge Run/Walk \nJoin our Tuesday Running Crew for a fun and engaging experience! \nTuesday 6pm \nPublix Parking Lot\n1395 SW Martin Hwy\nPalm City\, FL
URL:https://www.tcrunning.org/event/tuesday-running-crew-bridge-run-walk/2030-11-12/
LOCATION:1395 sw Martin hwy Palm City\, FL
CATEGORIES:Weekly Running
END:VEVENT
BEGIN:VEVENT
DTSTART;TZID=America/New_York:20301119T180000
DTEND;TZID=America/New_York:20301119T193000
DTSTAMP:20260424T172721
CREATED:20260205T140510Z
LAST-MODIFIED:20260205T140920Z
UID:10006786-1921341600-1921347000@www.tcrunning.org
SUMMARY:Tuesday Running Crew 3 Mile Bridge Run/Walk
DESCRIPTION:3 Mile Bridge Run/Walk \nJoin our Tuesday Running Crew for a fun and engaging experience! \nTuesday 6pm \nPublix Parking Lot\n1395 SW Martin Hwy\nPalm City\, FL
URL:https://www.tcrunning.org/event/tuesday-running-crew-bridge-run-walk/2030-11-19/
LOCATION:1395 sw Martin hwy Palm City\, FL
CATEGORIES:Weekly Running
END:VEVENT
BEGIN:VEVENT
DTSTART;TZID=America/New_York:20301126T180000
DTEND;TZID=America/New_York:20301126T193000
DTSTAMP:20260424T172721
CREATED:20260205T140510Z
LAST-MODIFIED:20260205T140920Z
UID:10006787-1921946400-1921951800@www.tcrunning.org
SUMMARY:Tuesday Running Crew 3 Mile Bridge Run/Walk
DESCRIPTION:3 Mile Bridge Run/Walk \nJoin our Tuesday Running Crew for a fun and engaging experience! \nTuesday 6pm \nPublix Parking Lot\n1395 SW Martin Hwy\nPalm City\, FL
URL:https://www.tcrunning.org/event/tuesday-running-crew-bridge-run-walk/2030-11-26/
LOCATION:1395 sw Martin hwy Palm City\, FL
CATEGORIES:Weekly Running
END:VEVENT
BEGIN:VEVENT
DTSTART;TZID=America/New_York:20301203T180000
DTEND;TZID=America/New_York:20301203T193000
DTSTAMP:20260424T172721
CREATED:20260205T140510Z
LAST-MODIFIED:20260205T140920Z
UID:10006788-1922551200-1922556600@www.tcrunning.org
SUMMARY:Tuesday Running Crew 3 Mile Bridge Run/Walk
DESCRIPTION:3 Mile Bridge Run/Walk \nJoin our Tuesday Running Crew for a fun and engaging experience! \nTuesday 6pm \nPublix Parking Lot\n1395 SW Martin Hwy\nPalm City\, FL
URL:https://www.tcrunning.org/event/tuesday-running-crew-bridge-run-walk/2030-12-03/
LOCATION:1395 sw Martin hwy Palm City\, FL
CATEGORIES:Weekly Running
END:VEVENT
BEGIN:VEVENT
DTSTART;TZID=America/New_York:20301210T180000
DTEND;TZID=America/New_York:20301210T193000
DTSTAMP:20260424T172721
CREATED:20260205T140510Z
LAST-MODIFIED:20260205T140920Z
UID:10006789-1923156000-1923161400@www.tcrunning.org
SUMMARY:Tuesday Running Crew 3 Mile Bridge Run/Walk
DESCRIPTION:3 Mile Bridge Run/Walk \nJoin our Tuesday Running Crew for a fun and engaging experience! \nTuesday 6pm \nPublix Parking Lot\n1395 SW Martin Hwy\nPalm City\, FL
URL:https://www.tcrunning.org/event/tuesday-running-crew-bridge-run-walk/2030-12-10/
LOCATION:1395 sw Martin hwy Palm City\, FL
CATEGORIES:Weekly Running
END:VEVENT
BEGIN:VEVENT
DTSTART;TZID=America/New_York:20301217T180000
DTEND;TZID=America/New_York:20301217T193000
DTSTAMP:20260424T172721
CREATED:20260205T140510Z
LAST-MODIFIED:20260205T140920Z
UID:10006790-1923760800-1923766200@www.tcrunning.org
SUMMARY:Tuesday Running Crew 3 Mile Bridge Run/Walk
DESCRIPTION:3 Mile Bridge Run/Walk \nJoin our Tuesday Running Crew for a fun and engaging experience! \nTuesday 6pm \nPublix Parking Lot\n1395 SW Martin Hwy\nPalm City\, FL
URL:https://www.tcrunning.org/event/tuesday-running-crew-bridge-run-walk/2030-12-17/
LOCATION:1395 sw Martin hwy Palm City\, FL
CATEGORIES:Weekly Running
END:VEVENT
BEGIN:VEVENT
DTSTART;TZID=America/New_York:20301224T180000
DTEND;TZID=America/New_York:20301224T193000
DTSTAMP:20260424T172721
CREATED:20260205T140510Z
LAST-MODIFIED:20260205T140920Z
UID:10006791-1924365600-1924371000@www.tcrunning.org
SUMMARY:Tuesday Running Crew 3 Mile Bridge Run/Walk
DESCRIPTION:3 Mile Bridge Run/Walk \nJoin our Tuesday Running Crew for a fun and engaging experience! \nTuesday 6pm \nPublix Parking Lot\n1395 SW Martin Hwy\nPalm City\, FL
URL:https://www.tcrunning.org/event/tuesday-running-crew-bridge-run-walk/2030-12-24/
LOCATION:1395 sw Martin hwy Palm City\, FL
CATEGORIES:Weekly Running
END:VEVENT
BEGIN:VEVENT
DTSTART;TZID=America/New_York:20301231T180000
DTEND;TZID=America/New_York:20301231T193000
DTSTAMP:20260424T172721
CREATED:20260205T140510Z
LAST-MODIFIED:20260205T140920Z
UID:10006792-1924970400-1924975800@www.tcrunning.org
SUMMARY:Tuesday Running Crew 3 Mile Bridge Run/Walk
DESCRIPTION:3 Mile Bridge Run/Walk \nJoin our Tuesday Running Crew for a fun and engaging experience! \nTuesday 6pm \nPublix Parking Lot\n1395 SW Martin Hwy\nPalm City\, FL
URL:https://www.tcrunning.org/event/tuesday-running-crew-bridge-run-walk/2030-12-31/
LOCATION:1395 sw Martin hwy Palm City\, FL
CATEGORIES:Weekly Running
END:VEVENT
BEGIN:VEVENT
DTSTART;TZID=America/New_York:20310107T180000
DTEND;TZID=America/New_York:20310107T193000
DTSTAMP:20260424T172721
CREATED:20260205T140510Z
LAST-MODIFIED:20260205T140920Z
UID:10006793-1925575200-1925580600@www.tcrunning.org
SUMMARY:Tuesday Running Crew 3 Mile Bridge Run/Walk
DESCRIPTION:3 Mile Bridge Run/Walk \nJoin our Tuesday Running Crew for a fun and engaging experience! \nTuesday 6pm \nPublix Parking Lot\n1395 SW Martin Hwy\nPalm City\, FL
URL:https://www.tcrunning.org/event/tuesday-running-crew-bridge-run-walk/2031-01-07/
LOCATION:1395 sw Martin hwy Palm City\, FL
CATEGORIES:Weekly Running
END:VEVENT
BEGIN:VEVENT
DTSTART;TZID=America/New_York:20310114T180000
DTEND;TZID=America/New_York:20310114T193000
DTSTAMP:20260424T172721
CREATED:20260205T140510Z
LAST-MODIFIED:20260205T140920Z
UID:10006794-1926180000-1926185400@www.tcrunning.org
SUMMARY:Tuesday Running Crew 3 Mile Bridge Run/Walk
DESCRIPTION:3 Mile Bridge Run/Walk \nJoin our Tuesday Running Crew for a fun and engaging experience! \nTuesday 6pm \nPublix Parking Lot\n1395 SW Martin Hwy\nPalm City\, FL
URL:https://www.tcrunning.org/event/tuesday-running-crew-bridge-run-walk/2031-01-14/
LOCATION:1395 sw Martin hwy Palm City\, FL
CATEGORIES:Weekly Running
END:VEVENT
BEGIN:VEVENT
DTSTART;TZID=America/New_York:20310121T180000
DTEND;TZID=America/New_York:20310121T193000
DTSTAMP:20260424T172721
CREATED:20260205T140510Z
LAST-MODIFIED:20260205T140920Z
UID:10006795-1926784800-1926790200@www.tcrunning.org
SUMMARY:Tuesday Running Crew 3 Mile Bridge Run/Walk
DESCRIPTION:3 Mile Bridge Run/Walk \nJoin our Tuesday Running Crew for a fun and engaging experience! \nTuesday 6pm \nPublix Parking Lot\n1395 SW Martin Hwy\nPalm City\, FL
URL:https://www.tcrunning.org/event/tuesday-running-crew-bridge-run-walk/2031-01-21/
LOCATION:1395 sw Martin hwy Palm City\, FL
CATEGORIES:Weekly Running
END:VEVENT
BEGIN:VEVENT
DTSTART;TZID=America/New_York:20310128T180000
DTEND;TZID=America/New_York:20310128T193000
DTSTAMP:20260424T172721
CREATED:20260205T140510Z
LAST-MODIFIED:20260205T140920Z
UID:10006796-1927389600-1927395000@www.tcrunning.org
SUMMARY:Tuesday Running Crew 3 Mile Bridge Run/Walk
DESCRIPTION:3 Mile Bridge Run/Walk \nJoin our Tuesday Running Crew for a fun and engaging experience! \nTuesday 6pm \nPublix Parking Lot\n1395 SW Martin Hwy\nPalm City\, FL
URL:https://www.tcrunning.org/event/tuesday-running-crew-bridge-run-walk/2031-01-28/
LOCATION:1395 sw Martin hwy Palm City\, FL
CATEGORIES:Weekly Running
END:VEVENT
BEGIN:VEVENT
DTSTART;TZID=America/New_York:20310204T180000
DTEND;TZID=America/New_York:20310204T193000
DTSTAMP:20260424T172721
CREATED:20260205T140510Z
LAST-MODIFIED:20260205T140920Z
UID:10006797-1927994400-1927999800@www.tcrunning.org
SUMMARY:Tuesday Running Crew 3 Mile Bridge Run/Walk
DESCRIPTION:3 Mile Bridge Run/Walk \nJoin our Tuesday Running Crew for a fun and engaging experience! \nTuesday 6pm \nPublix Parking Lot\n1395 SW Martin Hwy\nPalm City\, FL
URL:https://www.tcrunning.org/event/tuesday-running-crew-bridge-run-walk/2031-02-04/
LOCATION:1395 sw Martin hwy Palm City\, FL
CATEGORIES:Weekly Running
END:VEVENT
END:VCALENDAR