BEGIN:VCALENDAR
VERSION:2.0
PRODID:-//Treasure Coast Running - ECPv6.15.20//NONSGML v1.0//EN
CALSCALE:GREGORIAN
METHOD:PUBLISH
X-ORIGINAL-URL:https://www.tcrunning.org
X-WR-CALDESC:Events for Treasure Coast Running
REFRESH-INTERVAL;VALUE=DURATION:PT1H
X-Robots-Tag:noindex
X-PUBLISHED-TTL:PT1H
BEGIN:VTIMEZONE
TZID:America/New_York
BEGIN:DAYLIGHT
TZOFFSETFROM:-0500
TZOFFSETTO:-0400
TZNAME:EDT
DTSTART:20280312T070000
END:DAYLIGHT
BEGIN:STANDARD
TZOFFSETFROM:-0400
TZOFFSETTO:-0500
TZNAME:EST
DTSTART:20281105T060000
END:STANDARD
BEGIN:DAYLIGHT
TZOFFSETFROM:-0500
TZOFFSETTO:-0400
TZNAME:EDT
DTSTART:20290311T070000
END:DAYLIGHT
BEGIN:STANDARD
TZOFFSETFROM:-0400
TZOFFSETTO:-0500
TZNAME:EST
DTSTART:20291104T060000
END:STANDARD
BEGIN:DAYLIGHT
TZOFFSETFROM:-0500
TZOFFSETTO:-0400
TZNAME:EDT
DTSTART:20300310T070000
END:DAYLIGHT
BEGIN:STANDARD
TZOFFSETFROM:-0400
TZOFFSETTO:-0500
TZNAME:EST
DTSTART:20301103T060000
END:STANDARD
END:VTIMEZONE
BEGIN:VEVENT
DTSTART;TZID=America/New_York:20290410T180000
DTEND;TZID=America/New_York:20290410T193000
DTSTAMP:20260422T070405
CREATED:20260205T140510Z
LAST-MODIFIED:20260205T140920Z
UID:10006702-1870538400-1870543800@www.tcrunning.org
SUMMARY:Tuesday Running Crew 3 Mile Bridge Run/Walk
DESCRIPTION:3 Mile Bridge Run/Walk \nJoin our Tuesday Running Crew for a fun and engaging experience! \nTuesday 6pm \nPublix Parking Lot\n1395 SW Martin Hwy\nPalm City\, FL
URL:https://www.tcrunning.org/event/tuesday-running-crew-bridge-run-walk/2029-04-10/
LOCATION:1395 sw Martin hwy Palm City\, FL
CATEGORIES:Weekly Running
END:VEVENT
BEGIN:VEVENT
DTSTART;TZID=America/New_York:20290417T180000
DTEND;TZID=America/New_York:20290417T193000
DTSTAMP:20260422T070405
CREATED:20260205T140510Z
LAST-MODIFIED:20260205T140920Z
UID:10006703-1871143200-1871148600@www.tcrunning.org
SUMMARY:Tuesday Running Crew 3 Mile Bridge Run/Walk
DESCRIPTION:3 Mile Bridge Run/Walk \nJoin our Tuesday Running Crew for a fun and engaging experience! \nTuesday 6pm \nPublix Parking Lot\n1395 SW Martin Hwy\nPalm City\, FL
URL:https://www.tcrunning.org/event/tuesday-running-crew-bridge-run-walk/2029-04-17/
LOCATION:1395 sw Martin hwy Palm City\, FL
CATEGORIES:Weekly Running
END:VEVENT
BEGIN:VEVENT
DTSTART;TZID=America/New_York:20290424T180000
DTEND;TZID=America/New_York:20290424T193000
DTSTAMP:20260422T070405
CREATED:20260205T140510Z
LAST-MODIFIED:20260205T140920Z
UID:10006704-1871748000-1871753400@www.tcrunning.org
SUMMARY:Tuesday Running Crew 3 Mile Bridge Run/Walk
DESCRIPTION:3 Mile Bridge Run/Walk \nJoin our Tuesday Running Crew for a fun and engaging experience! \nTuesday 6pm \nPublix Parking Lot\n1395 SW Martin Hwy\nPalm City\, FL
URL:https://www.tcrunning.org/event/tuesday-running-crew-bridge-run-walk/2029-04-24/
LOCATION:1395 sw Martin hwy Palm City\, FL
CATEGORIES:Weekly Running
END:VEVENT
BEGIN:VEVENT
DTSTART;TZID=America/New_York:20290501T180000
DTEND;TZID=America/New_York:20290501T193000
DTSTAMP:20260422T070405
CREATED:20260205T140510Z
LAST-MODIFIED:20260205T140920Z
UID:10006705-1872352800-1872358200@www.tcrunning.org
SUMMARY:Tuesday Running Crew 3 Mile Bridge Run/Walk
DESCRIPTION:3 Mile Bridge Run/Walk \nJoin our Tuesday Running Crew for a fun and engaging experience! \nTuesday 6pm \nPublix Parking Lot\n1395 SW Martin Hwy\nPalm City\, FL
URL:https://www.tcrunning.org/event/tuesday-running-crew-bridge-run-walk/2029-05-01/
LOCATION:1395 sw Martin hwy Palm City\, FL
CATEGORIES:Weekly Running
END:VEVENT
BEGIN:VEVENT
DTSTART;TZID=America/New_York:20290508T180000
DTEND;TZID=America/New_York:20290508T193000
DTSTAMP:20260422T070405
CREATED:20260205T140510Z
LAST-MODIFIED:20260205T140920Z
UID:10006706-1872957600-1872963000@www.tcrunning.org
SUMMARY:Tuesday Running Crew 3 Mile Bridge Run/Walk
DESCRIPTION:3 Mile Bridge Run/Walk \nJoin our Tuesday Running Crew for a fun and engaging experience! \nTuesday 6pm \nPublix Parking Lot\n1395 SW Martin Hwy\nPalm City\, FL
URL:https://www.tcrunning.org/event/tuesday-running-crew-bridge-run-walk/2029-05-08/
LOCATION:1395 sw Martin hwy Palm City\, FL
CATEGORIES:Weekly Running
END:VEVENT
BEGIN:VEVENT
DTSTART;TZID=America/New_York:20290515T180000
DTEND;TZID=America/New_York:20290515T193000
DTSTAMP:20260422T070405
CREATED:20260205T140510Z
LAST-MODIFIED:20260205T140920Z
UID:10006707-1873562400-1873567800@www.tcrunning.org
SUMMARY:Tuesday Running Crew 3 Mile Bridge Run/Walk
DESCRIPTION:3 Mile Bridge Run/Walk \nJoin our Tuesday Running Crew for a fun and engaging experience! \nTuesday 6pm \nPublix Parking Lot\n1395 SW Martin Hwy\nPalm City\, FL
URL:https://www.tcrunning.org/event/tuesday-running-crew-bridge-run-walk/2029-05-15/
LOCATION:1395 sw Martin hwy Palm City\, FL
CATEGORIES:Weekly Running
END:VEVENT
BEGIN:VEVENT
DTSTART;TZID=America/New_York:20290522T180000
DTEND;TZID=America/New_York:20290522T193000
DTSTAMP:20260422T070405
CREATED:20260205T140510Z
LAST-MODIFIED:20260205T140920Z
UID:10006708-1874167200-1874172600@www.tcrunning.org
SUMMARY:Tuesday Running Crew 3 Mile Bridge Run/Walk
DESCRIPTION:3 Mile Bridge Run/Walk \nJoin our Tuesday Running Crew for a fun and engaging experience! \nTuesday 6pm \nPublix Parking Lot\n1395 SW Martin Hwy\nPalm City\, FL
URL:https://www.tcrunning.org/event/tuesday-running-crew-bridge-run-walk/2029-05-22/
LOCATION:1395 sw Martin hwy Palm City\, FL
CATEGORIES:Weekly Running
END:VEVENT
BEGIN:VEVENT
DTSTART;TZID=America/New_York:20290529T180000
DTEND;TZID=America/New_York:20290529T193000
DTSTAMP:20260422T070405
CREATED:20260205T140510Z
LAST-MODIFIED:20260205T140920Z
UID:10006709-1874772000-1874777400@www.tcrunning.org
SUMMARY:Tuesday Running Crew 3 Mile Bridge Run/Walk
DESCRIPTION:3 Mile Bridge Run/Walk \nJoin our Tuesday Running Crew for a fun and engaging experience! \nTuesday 6pm \nPublix Parking Lot\n1395 SW Martin Hwy\nPalm City\, FL
URL:https://www.tcrunning.org/event/tuesday-running-crew-bridge-run-walk/2029-05-29/
LOCATION:1395 sw Martin hwy Palm City\, FL
CATEGORIES:Weekly Running
END:VEVENT
BEGIN:VEVENT
DTSTART;TZID=America/New_York:20290605T180000
DTEND;TZID=America/New_York:20290605T193000
DTSTAMP:20260422T070405
CREATED:20260205T140510Z
LAST-MODIFIED:20260205T140920Z
UID:10006710-1875376800-1875382200@www.tcrunning.org
SUMMARY:Tuesday Running Crew 3 Mile Bridge Run/Walk
DESCRIPTION:3 Mile Bridge Run/Walk \nJoin our Tuesday Running Crew for a fun and engaging experience! \nTuesday 6pm \nPublix Parking Lot\n1395 SW Martin Hwy\nPalm City\, FL
URL:https://www.tcrunning.org/event/tuesday-running-crew-bridge-run-walk/2029-06-05/
LOCATION:1395 sw Martin hwy Palm City\, FL
CATEGORIES:Weekly Running
END:VEVENT
BEGIN:VEVENT
DTSTART;TZID=America/New_York:20290612T180000
DTEND;TZID=America/New_York:20290612T193000
DTSTAMP:20260422T070405
CREATED:20260205T140510Z
LAST-MODIFIED:20260205T140920Z
UID:10006711-1875981600-1875987000@www.tcrunning.org
SUMMARY:Tuesday Running Crew 3 Mile Bridge Run/Walk
DESCRIPTION:3 Mile Bridge Run/Walk \nJoin our Tuesday Running Crew for a fun and engaging experience! \nTuesday 6pm \nPublix Parking Lot\n1395 SW Martin Hwy\nPalm City\, FL
URL:https://www.tcrunning.org/event/tuesday-running-crew-bridge-run-walk/2029-06-12/
LOCATION:1395 sw Martin hwy Palm City\, FL
CATEGORIES:Weekly Running
END:VEVENT
BEGIN:VEVENT
DTSTART;TZID=America/New_York:20290619T180000
DTEND;TZID=America/New_York:20290619T193000
DTSTAMP:20260422T070405
CREATED:20260205T140510Z
LAST-MODIFIED:20260205T140920Z
UID:10006712-1876586400-1876591800@www.tcrunning.org
SUMMARY:Tuesday Running Crew 3 Mile Bridge Run/Walk
DESCRIPTION:3 Mile Bridge Run/Walk \nJoin our Tuesday Running Crew for a fun and engaging experience! \nTuesday 6pm \nPublix Parking Lot\n1395 SW Martin Hwy\nPalm City\, FL
URL:https://www.tcrunning.org/event/tuesday-running-crew-bridge-run-walk/2029-06-19/
LOCATION:1395 sw Martin hwy Palm City\, FL
CATEGORIES:Weekly Running
END:VEVENT
BEGIN:VEVENT
DTSTART;TZID=America/New_York:20290626T180000
DTEND;TZID=America/New_York:20290626T193000
DTSTAMP:20260422T070405
CREATED:20260205T140510Z
LAST-MODIFIED:20260205T140920Z
UID:10006713-1877191200-1877196600@www.tcrunning.org
SUMMARY:Tuesday Running Crew 3 Mile Bridge Run/Walk
DESCRIPTION:3 Mile Bridge Run/Walk \nJoin our Tuesday Running Crew for a fun and engaging experience! \nTuesday 6pm \nPublix Parking Lot\n1395 SW Martin Hwy\nPalm City\, FL
URL:https://www.tcrunning.org/event/tuesday-running-crew-bridge-run-walk/2029-06-26/
LOCATION:1395 sw Martin hwy Palm City\, FL
CATEGORIES:Weekly Running
END:VEVENT
BEGIN:VEVENT
DTSTART;TZID=America/New_York:20290703T180000
DTEND;TZID=America/New_York:20290703T193000
DTSTAMP:20260422T070405
CREATED:20260205T140510Z
LAST-MODIFIED:20260205T140920Z
UID:10006714-1877796000-1877801400@www.tcrunning.org
SUMMARY:Tuesday Running Crew 3 Mile Bridge Run/Walk
DESCRIPTION:3 Mile Bridge Run/Walk \nJoin our Tuesday Running Crew for a fun and engaging experience! \nTuesday 6pm \nPublix Parking Lot\n1395 SW Martin Hwy\nPalm City\, FL
URL:https://www.tcrunning.org/event/tuesday-running-crew-bridge-run-walk/2029-07-03/
LOCATION:1395 sw Martin hwy Palm City\, FL
CATEGORIES:Weekly Running
END:VEVENT
BEGIN:VEVENT
DTSTART;TZID=America/New_York:20290710T180000
DTEND;TZID=America/New_York:20290710T193000
DTSTAMP:20260422T070405
CREATED:20260205T140510Z
LAST-MODIFIED:20260205T140920Z
UID:10006715-1878400800-1878406200@www.tcrunning.org
SUMMARY:Tuesday Running Crew 3 Mile Bridge Run/Walk
DESCRIPTION:3 Mile Bridge Run/Walk \nJoin our Tuesday Running Crew for a fun and engaging experience! \nTuesday 6pm \nPublix Parking Lot\n1395 SW Martin Hwy\nPalm City\, FL
URL:https://www.tcrunning.org/event/tuesday-running-crew-bridge-run-walk/2029-07-10/
LOCATION:1395 sw Martin hwy Palm City\, FL
CATEGORIES:Weekly Running
END:VEVENT
BEGIN:VEVENT
DTSTART;TZID=America/New_York:20290717T180000
DTEND;TZID=America/New_York:20290717T193000
DTSTAMP:20260422T070405
CREATED:20260205T140510Z
LAST-MODIFIED:20260205T140920Z
UID:10006716-1879005600-1879011000@www.tcrunning.org
SUMMARY:Tuesday Running Crew 3 Mile Bridge Run/Walk
DESCRIPTION:3 Mile Bridge Run/Walk \nJoin our Tuesday Running Crew for a fun and engaging experience! \nTuesday 6pm \nPublix Parking Lot\n1395 SW Martin Hwy\nPalm City\, FL
URL:https://www.tcrunning.org/event/tuesday-running-crew-bridge-run-walk/2029-07-17/
LOCATION:1395 sw Martin hwy Palm City\, FL
CATEGORIES:Weekly Running
END:VEVENT
BEGIN:VEVENT
DTSTART;TZID=America/New_York:20290724T180000
DTEND;TZID=America/New_York:20290724T193000
DTSTAMP:20260422T070405
CREATED:20260205T140510Z
LAST-MODIFIED:20260205T140920Z
UID:10006717-1879610400-1879615800@www.tcrunning.org
SUMMARY:Tuesday Running Crew 3 Mile Bridge Run/Walk
DESCRIPTION:3 Mile Bridge Run/Walk \nJoin our Tuesday Running Crew for a fun and engaging experience! \nTuesday 6pm \nPublix Parking Lot\n1395 SW Martin Hwy\nPalm City\, FL
URL:https://www.tcrunning.org/event/tuesday-running-crew-bridge-run-walk/2029-07-24/
LOCATION:1395 sw Martin hwy Palm City\, FL
CATEGORIES:Weekly Running
END:VEVENT
BEGIN:VEVENT
DTSTART;TZID=America/New_York:20290731T180000
DTEND;TZID=America/New_York:20290731T193000
DTSTAMP:20260422T070405
CREATED:20260205T140510Z
LAST-MODIFIED:20260205T140920Z
UID:10006718-1880215200-1880220600@www.tcrunning.org
SUMMARY:Tuesday Running Crew 3 Mile Bridge Run/Walk
DESCRIPTION:3 Mile Bridge Run/Walk \nJoin our Tuesday Running Crew for a fun and engaging experience! \nTuesday 6pm \nPublix Parking Lot\n1395 SW Martin Hwy\nPalm City\, FL
URL:https://www.tcrunning.org/event/tuesday-running-crew-bridge-run-walk/2029-07-31/
LOCATION:1395 sw Martin hwy Palm City\, FL
CATEGORIES:Weekly Running
END:VEVENT
BEGIN:VEVENT
DTSTART;TZID=America/New_York:20290807T180000
DTEND;TZID=America/New_York:20290807T193000
DTSTAMP:20260422T070405
CREATED:20260205T140510Z
LAST-MODIFIED:20260205T140920Z
UID:10006719-1880820000-1880825400@www.tcrunning.org
SUMMARY:Tuesday Running Crew 3 Mile Bridge Run/Walk
DESCRIPTION:3 Mile Bridge Run/Walk \nJoin our Tuesday Running Crew for a fun and engaging experience! \nTuesday 6pm \nPublix Parking Lot\n1395 SW Martin Hwy\nPalm City\, FL
URL:https://www.tcrunning.org/event/tuesday-running-crew-bridge-run-walk/2029-08-07/
LOCATION:1395 sw Martin hwy Palm City\, FL
CATEGORIES:Weekly Running
END:VEVENT
BEGIN:VEVENT
DTSTART;TZID=America/New_York:20290814T180000
DTEND;TZID=America/New_York:20290814T193000
DTSTAMP:20260422T070405
CREATED:20260205T140510Z
LAST-MODIFIED:20260205T140920Z
UID:10006720-1881424800-1881430200@www.tcrunning.org
SUMMARY:Tuesday Running Crew 3 Mile Bridge Run/Walk
DESCRIPTION:3 Mile Bridge Run/Walk \nJoin our Tuesday Running Crew for a fun and engaging experience! \nTuesday 6pm \nPublix Parking Lot\n1395 SW Martin Hwy\nPalm City\, FL
URL:https://www.tcrunning.org/event/tuesday-running-crew-bridge-run-walk/2029-08-14/
LOCATION:1395 sw Martin hwy Palm City\, FL
CATEGORIES:Weekly Running
END:VEVENT
BEGIN:VEVENT
DTSTART;TZID=America/New_York:20290821T180000
DTEND;TZID=America/New_York:20290821T193000
DTSTAMP:20260422T070405
CREATED:20260205T140510Z
LAST-MODIFIED:20260205T140920Z
UID:10006721-1882029600-1882035000@www.tcrunning.org
SUMMARY:Tuesday Running Crew 3 Mile Bridge Run/Walk
DESCRIPTION:3 Mile Bridge Run/Walk \nJoin our Tuesday Running Crew for a fun and engaging experience! \nTuesday 6pm \nPublix Parking Lot\n1395 SW Martin Hwy\nPalm City\, FL
URL:https://www.tcrunning.org/event/tuesday-running-crew-bridge-run-walk/2029-08-21/
LOCATION:1395 sw Martin hwy Palm City\, FL
CATEGORIES:Weekly Running
END:VEVENT
BEGIN:VEVENT
DTSTART;TZID=America/New_York:20290828T180000
DTEND;TZID=America/New_York:20290828T193000
DTSTAMP:20260422T070405
CREATED:20260205T140510Z
LAST-MODIFIED:20260205T140920Z
UID:10006722-1882634400-1882639800@www.tcrunning.org
SUMMARY:Tuesday Running Crew 3 Mile Bridge Run/Walk
DESCRIPTION:3 Mile Bridge Run/Walk \nJoin our Tuesday Running Crew for a fun and engaging experience! \nTuesday 6pm \nPublix Parking Lot\n1395 SW Martin Hwy\nPalm City\, FL
URL:https://www.tcrunning.org/event/tuesday-running-crew-bridge-run-walk/2029-08-28/
LOCATION:1395 sw Martin hwy Palm City\, FL
CATEGORIES:Weekly Running
END:VEVENT
BEGIN:VEVENT
DTSTART;TZID=America/New_York:20290904T180000
DTEND;TZID=America/New_York:20290904T193000
DTSTAMP:20260422T070405
CREATED:20260205T140510Z
LAST-MODIFIED:20260205T140920Z
UID:10006723-1883239200-1883244600@www.tcrunning.org
SUMMARY:Tuesday Running Crew 3 Mile Bridge Run/Walk
DESCRIPTION:3 Mile Bridge Run/Walk \nJoin our Tuesday Running Crew for a fun and engaging experience! \nTuesday 6pm \nPublix Parking Lot\n1395 SW Martin Hwy\nPalm City\, FL
URL:https://www.tcrunning.org/event/tuesday-running-crew-bridge-run-walk/2029-09-04/
LOCATION:1395 sw Martin hwy Palm City\, FL
CATEGORIES:Weekly Running
END:VEVENT
BEGIN:VEVENT
DTSTART;TZID=America/New_York:20290911T180000
DTEND;TZID=America/New_York:20290911T193000
DTSTAMP:20260422T070405
CREATED:20260205T140510Z
LAST-MODIFIED:20260205T140920Z
UID:10006724-1883844000-1883849400@www.tcrunning.org
SUMMARY:Tuesday Running Crew 3 Mile Bridge Run/Walk
DESCRIPTION:3 Mile Bridge Run/Walk \nJoin our Tuesday Running Crew for a fun and engaging experience! \nTuesday 6pm \nPublix Parking Lot\n1395 SW Martin Hwy\nPalm City\, FL
URL:https://www.tcrunning.org/event/tuesday-running-crew-bridge-run-walk/2029-09-11/
LOCATION:1395 sw Martin hwy Palm City\, FL
CATEGORIES:Weekly Running
END:VEVENT
BEGIN:VEVENT
DTSTART;TZID=America/New_York:20290918T180000
DTEND;TZID=America/New_York:20290918T193000
DTSTAMP:20260422T070405
CREATED:20260205T140510Z
LAST-MODIFIED:20260205T140920Z
UID:10006725-1884448800-1884454200@www.tcrunning.org
SUMMARY:Tuesday Running Crew 3 Mile Bridge Run/Walk
DESCRIPTION:3 Mile Bridge Run/Walk \nJoin our Tuesday Running Crew for a fun and engaging experience! \nTuesday 6pm \nPublix Parking Lot\n1395 SW Martin Hwy\nPalm City\, FL
URL:https://www.tcrunning.org/event/tuesday-running-crew-bridge-run-walk/2029-09-18/
LOCATION:1395 sw Martin hwy Palm City\, FL
CATEGORIES:Weekly Running
END:VEVENT
BEGIN:VEVENT
DTSTART;TZID=America/New_York:20290925T180000
DTEND;TZID=America/New_York:20290925T193000
DTSTAMP:20260422T070405
CREATED:20260205T140510Z
LAST-MODIFIED:20260205T140920Z
UID:10006726-1885053600-1885059000@www.tcrunning.org
SUMMARY:Tuesday Running Crew 3 Mile Bridge Run/Walk
DESCRIPTION:3 Mile Bridge Run/Walk \nJoin our Tuesday Running Crew for a fun and engaging experience! \nTuesday 6pm \nPublix Parking Lot\n1395 SW Martin Hwy\nPalm City\, FL
URL:https://www.tcrunning.org/event/tuesday-running-crew-bridge-run-walk/2029-09-25/
LOCATION:1395 sw Martin hwy Palm City\, FL
CATEGORIES:Weekly Running
END:VEVENT
BEGIN:VEVENT
DTSTART;TZID=America/New_York:20291002T180000
DTEND;TZID=America/New_York:20291002T193000
DTSTAMP:20260422T070405
CREATED:20260205T140510Z
LAST-MODIFIED:20260205T140920Z
UID:10006727-1885658400-1885663800@www.tcrunning.org
SUMMARY:Tuesday Running Crew 3 Mile Bridge Run/Walk
DESCRIPTION:3 Mile Bridge Run/Walk \nJoin our Tuesday Running Crew for a fun and engaging experience! \nTuesday 6pm \nPublix Parking Lot\n1395 SW Martin Hwy\nPalm City\, FL
URL:https://www.tcrunning.org/event/tuesday-running-crew-bridge-run-walk/2029-10-02/
LOCATION:1395 sw Martin hwy Palm City\, FL
CATEGORIES:Weekly Running
END:VEVENT
BEGIN:VEVENT
DTSTART;TZID=America/New_York:20291009T180000
DTEND;TZID=America/New_York:20291009T193000
DTSTAMP:20260422T070405
CREATED:20260205T140510Z
LAST-MODIFIED:20260205T140920Z
UID:10006728-1886263200-1886268600@www.tcrunning.org
SUMMARY:Tuesday Running Crew 3 Mile Bridge Run/Walk
DESCRIPTION:3 Mile Bridge Run/Walk \nJoin our Tuesday Running Crew for a fun and engaging experience! \nTuesday 6pm \nPublix Parking Lot\n1395 SW Martin Hwy\nPalm City\, FL
URL:https://www.tcrunning.org/event/tuesday-running-crew-bridge-run-walk/2029-10-09/
LOCATION:1395 sw Martin hwy Palm City\, FL
CATEGORIES:Weekly Running
END:VEVENT
BEGIN:VEVENT
DTSTART;TZID=America/New_York:20291016T180000
DTEND;TZID=America/New_York:20291016T193000
DTSTAMP:20260422T070405
CREATED:20260205T140510Z
LAST-MODIFIED:20260205T140920Z
UID:10006729-1886868000-1886873400@www.tcrunning.org
SUMMARY:Tuesday Running Crew 3 Mile Bridge Run/Walk
DESCRIPTION:3 Mile Bridge Run/Walk \nJoin our Tuesday Running Crew for a fun and engaging experience! \nTuesday 6pm \nPublix Parking Lot\n1395 SW Martin Hwy\nPalm City\, FL
URL:https://www.tcrunning.org/event/tuesday-running-crew-bridge-run-walk/2029-10-16/
LOCATION:1395 sw Martin hwy Palm City\, FL
CATEGORIES:Weekly Running
END:VEVENT
BEGIN:VEVENT
DTSTART;TZID=America/New_York:20291023T180000
DTEND;TZID=America/New_York:20291023T193000
DTSTAMP:20260422T070405
CREATED:20260205T140510Z
LAST-MODIFIED:20260205T140920Z
UID:10006730-1887472800-1887478200@www.tcrunning.org
SUMMARY:Tuesday Running Crew 3 Mile Bridge Run/Walk
DESCRIPTION:3 Mile Bridge Run/Walk \nJoin our Tuesday Running Crew for a fun and engaging experience! \nTuesday 6pm \nPublix Parking Lot\n1395 SW Martin Hwy\nPalm City\, FL
URL:https://www.tcrunning.org/event/tuesday-running-crew-bridge-run-walk/2029-10-23/
LOCATION:1395 sw Martin hwy Palm City\, FL
CATEGORIES:Weekly Running
END:VEVENT
BEGIN:VEVENT
DTSTART;TZID=America/New_York:20291030T180000
DTEND;TZID=America/New_York:20291030T193000
DTSTAMP:20260422T070405
CREATED:20260205T140510Z
LAST-MODIFIED:20260205T140920Z
UID:10006731-1888077600-1888083000@www.tcrunning.org
SUMMARY:Tuesday Running Crew 3 Mile Bridge Run/Walk
DESCRIPTION:3 Mile Bridge Run/Walk \nJoin our Tuesday Running Crew for a fun and engaging experience! \nTuesday 6pm \nPublix Parking Lot\n1395 SW Martin Hwy\nPalm City\, FL
URL:https://www.tcrunning.org/event/tuesday-running-crew-bridge-run-walk/2029-10-30/
LOCATION:1395 sw Martin hwy Palm City\, FL
CATEGORIES:Weekly Running
END:VEVENT
END:VCALENDAR