BEGIN:VCALENDAR
VERSION:2.0
PRODID:-//Treasure Coast Running - ECPv6.15.20//NONSGML v1.0//EN
CALSCALE:GREGORIAN
METHOD:PUBLISH
X-WR-CALNAME:Treasure Coast Running
X-ORIGINAL-URL:https://www.tcrunning.org
X-WR-CALDESC:Events for Treasure Coast Running
REFRESH-INTERVAL;VALUE=DURATION:PT1H
X-Robots-Tag:noindex
X-PUBLISHED-TTL:PT1H
BEGIN:VTIMEZONE
TZID:America/New_York
BEGIN:DAYLIGHT
TZOFFSETFROM:-0500
TZOFFSETTO:-0400
TZNAME:EDT
DTSTART:20250309T070000
END:DAYLIGHT
BEGIN:STANDARD
TZOFFSETFROM:-0400
TZOFFSETTO:-0500
TZNAME:EST
DTSTART:20251102T060000
END:STANDARD
BEGIN:DAYLIGHT
TZOFFSETFROM:-0500
TZOFFSETTO:-0400
TZNAME:EDT
DTSTART:20260308T070000
END:DAYLIGHT
BEGIN:STANDARD
TZOFFSETFROM:-0400
TZOFFSETTO:-0500
TZNAME:EST
DTSTART:20261101T060000
END:STANDARD
BEGIN:DAYLIGHT
TZOFFSETFROM:-0500
TZOFFSETTO:-0400
TZNAME:EDT
DTSTART:20270314T070000
END:DAYLIGHT
BEGIN:STANDARD
TZOFFSETFROM:-0400
TZOFFSETTO:-0500
TZNAME:EST
DTSTART:20271107T060000
END:STANDARD
END:VTIMEZONE
BEGIN:VEVENT
DTSTART;TZID=America/New_York:20260101T044500
DTEND;TZID=America/New_York:20260101T064500
DTSTAMP:20260424T090738
CREATED:20250512T122246Z
LAST-MODIFIED:20260206T195459Z
UID:10008392-1767242700-1767249900@www.tcrunning.org
SUMMARY:Thurs Dark and Early Downtown Stuart
DESCRIPTION:Pace: All Paces\nDistance: 3–6 miles \norganizer: https://www.facebook.com/frankfender
URL:https://www.tcrunning.org/event/thurs-dark-and-early-downtown-stuart/2026-01-01/
LOCATION:Stuart City Hall\, 121 SW Flagler Ave\, Stuart\, FL\, 34994\, United States
CATEGORIES:Weekly Running
END:VEVENT
BEGIN:VEVENT
DTSTART;TZID=America/New_York:20260101T063000
DTEND;TZID=America/New_York:20260101T083000
DTSTAMP:20260424T090738
CREATED:20250511T220528Z
LAST-MODIFIED:20250511T220529Z
UID:10001870-1767249000-1767256200@www.tcrunning.org
SUMMARY:Thr Googan Coffee Run
DESCRIPTION:Pace: Walk/Run\nDistance: 5-Mile Loop
URL:https://www.tcrunning.org/event/googan-coffee-run-3/2026-01-01/
LOCATION:1917 SW Federal Hwy\, 1917 SW Federal Hwy\, Stuart\, FL\, 34994\, United States
CATEGORIES:Weekly Running
END:VEVENT
BEGIN:VEVENT
DTSTART;TZID=America/New_York:20260101T080000
DTEND;TZID=America/New_York:20260101T100000
DTSTAMP:20260424T090738
CREATED:20251214T180114Z
LAST-MODIFIED:20251214T182139Z
UID:10003557-1767254400-1767261600@www.tcrunning.org
SUMMARY:TC Running New Year's Day Run
DESCRIPTION:TC Running New Year’s Day Run \nStart the New Year on the right foot with a fun\, social run with YC Running. \n📍 Location: Flagler Park\, Stuart🕗 Time: 8:00 AM start \nAll paces are welcome. This is a relaxed group run focused on community and kicking off the year together. \n☕ Coffee and water will be provided🍪 Bring a treat to share if you’d like \nCome run\, connect\, and celebrate the first miles of the New Year with friends.
URL:https://www.tcrunning.org/event/tc-running-new-years-day-run/
CATEGORIES:Non Race Series Races
ATTACH;FMTTYPE=image/jpeg:https://www.tcrunning.org/wp-content/uploads/2025/12/new-year.jpeg
END:VEVENT
BEGIN:VEVENT
DTSTART;TZID=America/New_York:20260101T110000
DTEND;TZID=America/New_York:20260101T113000
DTSTAMP:20260424T090738
CREATED:20251214T181414Z
LAST-MODIFIED:20251214T181535Z
UID:10003558-1767265200-1767267000@www.tcrunning.org
SUMMARY:Polar Plunge New Year’s Day at Stuart Beach
DESCRIPTION:Kick off 2026 with a bold move and a cold splash at the annual Polar Plunge. \n📍 Location: Stuart Beach825 NE Ocean Blvd\, Stuart\, FL🕚 Time: 11:00 AM📅 Date: New Year’s Day \nDive headfirst into the New Year with a full ocean plunge alongside fellow brave souls. The water will be cold\, the reactions loud\, and the memories unforgettable. Bathing suits are required\, courage is encouraged\, and full submersion is strongly expected. \nThis is a fun\, lighthearted community event full of laughs\, screams\, and post plunge bragging rights that last far longer than your numb toes. \nHosted by Jason Marc Cohen and June AnnOpen to the public \nSee you in the surf… if you’re brave enough. 🥶🌊
URL:https://www.tcrunning.org/event/polar-plunge-new-years-day-at-stuart-beach/
CATEGORIES:Non Race Series Races
ATTACH;FMTTYPE=image/jpeg:https://www.tcrunning.org/wp-content/uploads/2025/12/Polar-Plunge-copy.jpg
END:VEVENT
BEGIN:VEVENT
DTSTART;TZID=America/New_York:20260101T174500
DTEND;TZID=America/New_York:20260101T190000
DTSTAMP:20260424T090738
CREATED:20250511T212831Z
LAST-MODIFIED:20260206T194159Z
UID:10006798-1767289500-1767294000@www.tcrunning.org
SUMMARY:Thr Jogging with the Doctor
DESCRIPTION:Pace: All Paces\nDistance: All Distances\nLocation: Tradition Square \n 
URL:https://www.tcrunning.org/event/jogging-with-the-doctor-2/2026-01-01/
LOCATION:Tradition Square\, Tradition Square\, Port St. Lucie\, FL\, 34987\, United States
CATEGORIES:Weekly Running
END:VEVENT
BEGIN:VEVENT
DTSTART;TZID=America/New_York:20260102T054500
DTEND;TZID=America/New_York:20260102T070000
DTSTAMP:20260424T090738
CREATED:20250511T230113Z
LAST-MODIFIED:20250513T194434Z
UID:10003014-1767332700-1767337200@www.tcrunning.org
SUMMARY:Fri World's Okayest Runners
DESCRIPTION:Friday Mornings. Meetup at 5:45am. Start at 6am. \nRotating start locations at local coffee shops to support local businesses. \nContact Haley McCartney on Facebook
URL:https://www.tcrunning.org/event/fri-worlds-okayest-runners/2026-01-02/
CATEGORIES:Weekly Running
END:VEVENT
BEGIN:VEVENT
DTSTART;TZID=America/New_York:20260102T063000
DTEND;TZID=America/New_York:20260102T073000
DTSTAMP:20260424T090738
CREATED:20250910T124816Z
LAST-MODIFIED:20260227T203053Z
UID:10003282-1767335400-1767339000@www.tcrunning.org
SUMMARY:Mulligan's Milers Bridge Break Friday
DESCRIPTION:Mulligans Milers of Jensen Beach meets at the waterfront parking lot near Fredgie’s Food truck and walk or run (all paces welcome) over the Jensen Beach causeway bridge and back for a 5K every Friday. \nFredgie’s address: 3251 N. E. Indian River Drive. (On the river)\, Jensen Beach\, FL\, United States\, Florida \nHost:\nhttps://www.facebook.com/groups/369410335884239
URL:https://www.tcrunning.org/event/bridge-break-friday/2026-01-02/
LOCATION:3251 N. E. Indian River Drive.\, Jensen Beach\, FL\, United States\, Florida
CATEGORIES:Weekly Running
END:VEVENT
BEGIN:VEVENT
DTSTART;TZID=America/New_York:20260103T064500
DTEND;TZID=America/New_York:20260103T083000
DTSTAMP:20260424T090738
CREATED:20251216T131919Z
LAST-MODIFIED:20251216T132851Z
UID:10003561-1767422700-1767429000@www.tcrunning.org
SUMMARY:Sat Hobe Sound Run Club
DESCRIPTION:Hobe Sound Run Club \nGroup Run: Saturday mornings @ Hobe Sound Social & Coffee\n11844 SE Dixie Hwy ste a\,\nHobe Sound\, FL 33455 \nMeetup at 6:45 am. Run starts at 7:00 am. \n3-mile route to the beach and back. Longer route options available. \nContact Hobe Sound Run Club on Facebook or Instagram (IG: @hobesoundruns)
URL:https://www.tcrunning.org/event/sat-hobe-sound-run-club/2026-01-03/
LOCATION:Hobe Sound Social & Coffee\, 11844 SE Dixie Hwy Suite A\, Hobe Sound\, FL\, 33455
CATEGORIES:Weekly Running
ORGANIZER;CN="Meredith Wilcox":MAILTO:meredith.wilcox@yahoo.com
END:VEVENT
BEGIN:VEVENT
DTSTART;TZID=America/New_York:20260103T073000
DTEND;TZID=America/New_York:20260103T093000
DTSTAMP:20260424T090738
CREATED:20251231T161803Z
LAST-MODIFIED:20251231T162031Z
UID:10004342-1767425400-1767432600@www.tcrunning.org
SUMMARY:Sapp’s Elite New Year’s Fun Run
DESCRIPTION:We are excited to announce the launch of Sapp’s Elite Run Club and are kicking things off with a New Year’s Fun Run Event\, a fun\, non-competitive run (not a race) on Saturday\, Jan 3rd\, 2026 from 7:30 – 9:30am! \nThis free event will take place at the Mid Florida Event Center\, located in the future downtown PSL entertainment hub called Walton and One. \nAll levels of fitness are welcome\, from 6:00 mile runners to walkers. A convenient 4-mile loop has been mapped out\, starting and ending at the fountain in the Mid Florida Event Center common area\, with water available at the start/finish and the halfway point. \nCox Chiropractic\, UR Massage Place\, and Style and Slay (Braid and Loc Specialist) will be joining us onsite\, offering complimentary services! After the run\, stick around for a potluck-style breakfast—if you intend on bringing a dish\, please message us to let us know what you’ll be bringing.
URL:https://www.tcrunning.org/event/sapps-elite-new-years-fun-run/
CATEGORIES:Non Race Series Races
ATTACH;FMTTYPE=image/jpeg:https://www.tcrunning.org/wp-content/uploads/2025/12/fun-run-copy.jpg
END:VEVENT
BEGIN:VEVENT
DTSTART;TZID=America/New_York:20260103T080000
DTEND;TZID=America/New_York:20260103T220000
DTSTAMP:20260424T090738
CREATED:20251022T150930Z
LAST-MODIFIED:20251022T151227Z
UID:10003547-1767427200-1767477600@www.tcrunning.org
SUMMARY:A New Beginning 5k Run/Walk
DESCRIPTION:Start the new year with a healthy 5K Run/Walk to help raise funds to support pediatric cancer patients and their families in their battle with cancer. Frances Foundation is a non-profit 501C created to bring smiles to the children dealing with pediatric cancer. \nFor over 20 years the Frances Foundation For Kids Fighting Cancer has supported families in the Northeast.  Please welcome the new Vero Beach chapter and their efforts to support our local “Warriors”. \nPacket Pickup \nFriday\, January 2\, 2026:  2:00-5:00 PM Early Pick Up \nLocation: Indian River County Main Library /1600 21st Street /Vero Beach\, FL 32960/ Pelican Room (1st Floor\, next to Gift Shop) \nSaturday\, January 3\, 2026: Riverside Park (Large Picnic Pavilion) \n6:45 AM: Late Registration and packet pickup Opens \n7:30 AM: Late Registration Closes \nLate Registration Fee: $40 \n8:00 AM: 5K Run/Walk Starts (walkers please line up behind runners) \nAwards distributed after race (Large Picnic Pavilion) \nAmenities: \n\nThis highly desired T-shirt will be available to the first 200 registrants (5K Run only). Don’t wait\, sign up early!\nProfessional timing for all 5K participants\nMusic and motivation provided by DJ Joe\nFood and Beverage at the race\n\nAwards: \n\nOverall Top Male & Female\n\nAge Group (Top 3 M & F): 14 and under\, 15-25\, 26-35\, 36-45\, 46-55\, 56-65\, 66-75\, 76+ \nDonations encouraged at race!! Find donation box at the pavilion.
URL:https://www.tcrunning.org/event/a-new-beginning-5k-run-walk/
CATEGORIES:Non Race Series Races
ATTACH;FMTTYPE=image/jpeg:https://www.tcrunning.org/wp-content/uploads/2025/10/francis-foundation.jpg
END:VEVENT
BEGIN:VEVENT
DTSTART;TZID=America/New_York:20260104T080000
DTEND;TZID=America/New_York:20260104T100000
DTSTAMP:20260424T090738
CREATED:20250505T070949Z
LAST-MODIFIED:20250511T220106Z
UID:10000988-1767513600-1767520800@www.tcrunning.org
SUMMARY:Sun Crosstown – Port St. Lucie
DESCRIPTION:Pace: Walk/Run\nDistance: All Distances\nLocation: Submarine Veterans Park (Floresta & Crosstown)
URL:https://www.tcrunning.org/event/crosstown-port-st-lucie-2/2026-01-04/
LOCATION:Submarine Veterans Park\, SE Floresta Dr & SE Crosstown Pkwy\, Port St. Lucie\, FL\, 34983\, United States
CATEGORIES:Weekly Running
END:VEVENT
BEGIN:VEVENT
DTSTART;TZID=America/New_York:20260105T183000
DTEND;TZID=America/New_York:20260105T203000
DTSTAMP:20260424T090738
CREATED:20250503T200834Z
LAST-MODIFIED:20260206T195127Z
UID:10008126-1767637800-1767645000@www.tcrunning.org
SUMMARY:Mon Old Skool Run Group – Stuart
DESCRIPTION:Pace: Mid to low 7’s
URL:https://www.tcrunning.org/event/old-skool-group-stuart/2026-01-05/
LOCATION:Pete Weiler’s Office\, 515 SW Camden Ave\, Stuart\, FL\, 34994\, United States
CATEGORIES:Weekly Running
ORGANIZER;CN="Mike Melton":MAILTO:mcmelton57@gmail.com
END:VEVENT
BEGIN:VEVENT
DTSTART;TZID=America/New_York:20260105T183000
DTEND;TZID=America/New_York:20260105T203000
DTSTAMP:20260424T090738
CREATED:20250511T223119Z
LAST-MODIFIED:20260206T194736Z
UID:10007594-1767637800-1767645000@www.tcrunning.org
SUMMARY:Mon Fleet Feet – Tradition
DESCRIPTION:
URL:https://www.tcrunning.org/event/fleet-feet-stuart-2/2026-01-05/
LOCATION:Tradition Fleet Feet\, 11586 SW Village Pkwy\, Port St. Lucie\, FL\, 34987
CATEGORIES:Weekly Running
END:VEVENT
BEGIN:VEVENT
DTSTART;TZID=America/New_York:20260106T044500
DTEND;TZID=America/New_York:20260106T064500
DTSTAMP:20260424T090738
CREATED:20250505T045445Z
LAST-MODIFIED:20260206T195648Z
UID:10008659-1767674700-1767681900@www.tcrunning.org
SUMMARY:Tues Dark and Early Downtown Stuart
DESCRIPTION:Pace: All Paces\nDistance: 3–6 miles \nOrganizer: https://www.facebook.com/frankfender
URL:https://www.tcrunning.org/event/treasure-coast-runners-downtown-stuart/2026-01-06/
LOCATION:Stuart City Hall\, 121 SW Flagler Ave\, Stuart\, FL\, 34994\, United States
CATEGORIES:Weekly Running
END:VEVENT
BEGIN:VEVENT
DTSTART;TZID=America/New_York:20260106T061500
DTEND;TZID=America/New_York:20260106T083000
DTSTAMP:20260424T090738
CREATED:20250511T221226Z
LAST-MODIFIED:20260206T195858Z
UID:10008925-1767680100-1767688200@www.tcrunning.org
SUMMARY:Tue 10th St. Track
DESCRIPTION:Pace: Walk/Run\nDistance: Any\nParking east of Guy Davis Field off of 10th Street.
URL:https://www.tcrunning.org/event/tue-10th-st-track/2026-01-06/
LOCATION:10th St. Track\, Russell Holloway Jr. Track\, Stuart\, FL
CATEGORIES:Weekly Running
END:VEVENT
BEGIN:VEVENT
DTSTART;TZID=America/New_York:20260106T174500
DTEND;TZID=America/New_York:20260106T190000
DTSTAMP:20260424T090738
CREATED:20250503T204616Z
LAST-MODIFIED:20260206T194342Z
UID:10007065-1767721500-1767726000@www.tcrunning.org
SUMMARY:Tue Jogging with the Doctor
DESCRIPTION:Pace: All Paces\nDistance: All Distances\nLocation: Tradition Square
URL:https://www.tcrunning.org/event/jogging-with-the-doctor/2026-01-06/
LOCATION:Tradition Square\, Tradition Square\, Port St. Lucie\, FL\, 34987\, United States
CATEGORIES:Weekly Running
END:VEVENT
BEGIN:VEVENT
DTSTART;TZID=America/New_York:20260106T180000
DTEND;TZID=America/New_York:20260106T193000
DTSTAMP:20260424T090738
CREATED:20250503T205022Z
LAST-MODIFIED:20260206T201124Z
UID:10001611-1767722400-1767727800@www.tcrunning.org
SUMMARY:Tue Sailfish Brewery – Fort Pierce
DESCRIPTION:Looking for motivation\, community\, and a great way to break up the week? This is it.  Join our Run Club every Tuesday at 6PM for an energizing group run filled with good vibes\, strong strides\, and even better people.\n\n\n\nAll paces are welcome — whether you’re a seasoned runner\, just getting started\, or somewhere in between. Come move your body\, challenge yourself\, and have fun doing it. \n\n\n\nAnd the best part? Stick around after the run to grab a drink and enjoy some delicious food.  You’ve earned it.\n\n\nNo pressure. No egos. Just movement\, community\, and a great post-run hang.\n\n Lace up\, bring a friend\, and come join the run — every Tuesday at 6PM!
URL:https://www.tcrunning.org/event/sailfish-brewery-fort-pierce/2026-01-06/
LOCATION:Sailfish Brewery\, 130 N 2nd St\, Fort Pierce\, FL\, 34950\, United States
CATEGORIES:Weekly Running
END:VEVENT
BEGIN:VEVENT
DTSTART;TZID=America/New_York:20260106T183000
DTEND;TZID=America/New_York:20260106T203000
DTSTAMP:20260424T090738
CREATED:20250511T223517Z
LAST-MODIFIED:20260206T194830Z
UID:10007860-1767724200-1767731400@www.tcrunning.org
SUMMARY:Tue Fleet Feet – Tidehouse
DESCRIPTION:
URL:https://www.tcrunning.org/event/tue-fleet-feet-tidehouse/2026-01-06/
LOCATION:Tidehouse\, 915 NW Flagler Ave\, Stuart\, FL\, 34994
CATEGORIES:Weekly Running
END:VEVENT
BEGIN:VEVENT
DTSTART;TZID=America/New_York:20260107T063000
DTEND;TZID=America/New_York:20260107T083000
DTSTAMP:20260424T090738
CREATED:20250511T225810Z
LAST-MODIFIED:20260130T165133Z
UID:10002143-1767767400-1767774600@www.tcrunning.org
SUMMARY:Wed Mulligan Milers Run
DESCRIPTION:Mulligan’s Milers \n\n\nLooking for a fun\, supportive way to start your morning? Come join us! All paces are welcome — walk\, run\, or a mix of both. The goal is simply to move\, connect\, and enjoy the miles together. Fridays are for bridges!\n\n\nWhether you’re a seasoned runner or just getting started\, you’ll fit right in with our crew. We’d love to meet you and have you join us!\n\n\nBring a friend and come see what Mulligan’s Milers is all about! \n\n\nWe meet at Indian Riverside Park
URL:https://www.tcrunning.org/event/wed-mulligan-milers/2026-01-07/
LOCATION:Indian Riverside Park\, 1707 NE Indian River Dr\, Jensen Beach\, FL\, 34957
CATEGORIES:Weekly Running
END:VEVENT
BEGIN:VEVENT
DTSTART;TZID=America/New_York:20260107T180000
DTEND;TZID=America/New_York:20260107T193000
DTSTAMP:20260424T090738
CREATED:20251222T161926Z
LAST-MODIFIED:20260407T171939Z
UID:10009244-1767808800-1767814200@www.tcrunning.org
SUMMARY:Wed Hobe Sound Run Club
DESCRIPTION:Hobe Sound Run Club \nWednesday mornings @ Sound Brewing Company\n9126B SE Bridge Rd\,\nHobe Sound\, FL 33455 \n3-mile route to the beach and back. Longer route options available. \nContact Hobe Sound Run Club on Facebook or Instagram (IG: @hobesoundruns).
URL:https://www.tcrunning.org/event/wed-hobe-sound-run-club-2/2026-01-07/
LOCATION:Sound Brewing Company\, 9126B SE Bridge Rd\, Hobe Sound\, FL\, 33455
CATEGORIES:Weekly Running
ORGANIZER;CN="Meredith Wilcox":MAILTO:meredith.wilcox@yahoo.com
END:VEVENT
BEGIN:VEVENT
DTSTART;TZID=America/New_York:20260108T044500
DTEND;TZID=America/New_York:20260108T064500
DTSTAMP:20260424T090738
CREATED:20250512T122246Z
LAST-MODIFIED:20260206T195459Z
UID:10008393-1767847500-1767854700@www.tcrunning.org
SUMMARY:Thurs Dark and Early Downtown Stuart
DESCRIPTION:Pace: All Paces\nDistance: 3–6 miles \norganizer: https://www.facebook.com/frankfender
URL:https://www.tcrunning.org/event/thurs-dark-and-early-downtown-stuart/2026-01-08/
LOCATION:Stuart City Hall\, 121 SW Flagler Ave\, Stuart\, FL\, 34994\, United States
CATEGORIES:Weekly Running
END:VEVENT
BEGIN:VEVENT
DTSTART;TZID=America/New_York:20260108T174500
DTEND;TZID=America/New_York:20260108T190000
DTSTAMP:20260424T090738
CREATED:20250511T212831Z
LAST-MODIFIED:20260206T194159Z
UID:10006799-1767894300-1767898800@www.tcrunning.org
SUMMARY:Thr Jogging with the Doctor
DESCRIPTION:Pace: All Paces\nDistance: All Distances\nLocation: Tradition Square \n 
URL:https://www.tcrunning.org/event/jogging-with-the-doctor-2/2026-01-08/
LOCATION:Tradition Square\, Tradition Square\, Port St. Lucie\, FL\, 34987\, United States
CATEGORIES:Weekly Running
END:VEVENT
BEGIN:VEVENT
DTSTART;TZID=America/New_York:20260109T054500
DTEND;TZID=America/New_York:20260109T070000
DTSTAMP:20260424T090738
CREATED:20250511T230113Z
LAST-MODIFIED:20250513T194434Z
UID:10003015-1767937500-1767942000@www.tcrunning.org
SUMMARY:Fri World's Okayest Runners
DESCRIPTION:Friday Mornings. Meetup at 5:45am. Start at 6am. \nRotating start locations at local coffee shops to support local businesses. \nContact Haley McCartney on Facebook
URL:https://www.tcrunning.org/event/fri-worlds-okayest-runners/2026-01-09/
CATEGORIES:Weekly Running
END:VEVENT
BEGIN:VEVENT
DTSTART;TZID=America/New_York:20260109T063000
DTEND;TZID=America/New_York:20260109T073000
DTSTAMP:20260424T090738
CREATED:20250910T124816Z
LAST-MODIFIED:20260227T203053Z
UID:10003283-1767940200-1767943800@www.tcrunning.org
SUMMARY:Mulligan's Milers Bridge Break Friday
DESCRIPTION:Mulligans Milers of Jensen Beach meets at the waterfront parking lot near Fredgie’s Food truck and walk or run (all paces welcome) over the Jensen Beach causeway bridge and back for a 5K every Friday. \nFredgie’s address: 3251 N. E. Indian River Drive. (On the river)\, Jensen Beach\, FL\, United States\, Florida \nHost:\nhttps://www.facebook.com/groups/369410335884239
URL:https://www.tcrunning.org/event/bridge-break-friday/2026-01-09/
LOCATION:3251 N. E. Indian River Drive.\, Jensen Beach\, FL\, United States\, Florida
CATEGORIES:Weekly Running
END:VEVENT
BEGIN:VEVENT
DTSTART;TZID=America/New_York:20260110T064500
DTEND;TZID=America/New_York:20260110T083000
DTSTAMP:20260424T090738
CREATED:20251216T131919Z
LAST-MODIFIED:20251216T132851Z
UID:10003562-1768027500-1768033800@www.tcrunning.org
SUMMARY:Sat Hobe Sound Run Club
DESCRIPTION:Hobe Sound Run Club \nGroup Run: Saturday mornings @ Hobe Sound Social & Coffee\n11844 SE Dixie Hwy ste a\,\nHobe Sound\, FL 33455 \nMeetup at 6:45 am. Run starts at 7:00 am. \n3-mile route to the beach and back. Longer route options available. \nContact Hobe Sound Run Club on Facebook or Instagram (IG: @hobesoundruns)
URL:https://www.tcrunning.org/event/sat-hobe-sound-run-club/2026-01-10/
LOCATION:Hobe Sound Social & Coffee\, 11844 SE Dixie Hwy Suite A\, Hobe Sound\, FL\, 33455
CATEGORIES:Weekly Running
ORGANIZER;CN="Meredith Wilcox":MAILTO:meredith.wilcox@yahoo.com
END:VEVENT
BEGIN:VEVENT
DTSTART;TZID=America/New_York:20260110T073000
DTEND;TZID=America/New_York:20260110T100000
DTSTAMP:20260424T090738
CREATED:20251211T152506Z
LAST-MODIFIED:20251211T152657Z
UID:10003554-1768030200-1768039200@www.tcrunning.org
SUMMARY:43rd Annual Bridge Buster 5k
DESCRIPTION:Sponsored by the Fort Pierce Sunrise Kiwanis Club\, this run/race/walk event is the oldest footrace in St. Lucie County! The event starts at 7:30 AM on Saturday\, January 10\, 2026. Registration will take place on-site beginning at 6:30 AM. Participants will race out & back over the South Bridge\, starting and finishing at the River Walk Center. Individual water bottles and snacks will be provided. This run is the perfect New Year’s Resolution! Join us for the 43rd Annual Bridge Buster 5k! \nEntry Fee: $35 received on or before November 30\, 2025; $40 after this date; Student Fee (19 and under): $25 (no other discount applies) on or before November 30\, 2025\, $30 after this date; Entry fees are non-refundable. \nRegistration: Online here at RunSignup\, online at www.fpsunrisekiwanis.com\, or mail the completed application with check/money order to Fort Pierce Sunrise Kiwanis Club\, 600 Citrus Avenue\, Suite 200\, Fort Pierce\, FL 34950. \nPlace \nFort Pierce River Walk Center\n600 N. Indian River Drive\nFort Pierce\, FL US 34950
URL:https://www.tcrunning.org/event/43rd-annual-bridge-buster-5k/
CATEGORIES:Non Race Series Races
ATTACH;FMTTYPE=image/png:https://www.tcrunning.org/wp-content/uploads/2025/12/BridgeLogo.png
END:VEVENT
BEGIN:VEVENT
DTSTART;TZID=America/New_York:20260112T183000
DTEND;TZID=America/New_York:20260112T203000
DTSTAMP:20260424T090738
CREATED:20250503T200834Z
LAST-MODIFIED:20260206T195127Z
UID:10008127-1768242600-1768249800@www.tcrunning.org
SUMMARY:Mon Old Skool Run Group – Stuart
DESCRIPTION:Pace: Mid to low 7’s
URL:https://www.tcrunning.org/event/old-skool-group-stuart/2026-01-12/
LOCATION:Pete Weiler’s Office\, 515 SW Camden Ave\, Stuart\, FL\, 34994\, United States
CATEGORIES:Weekly Running
ORGANIZER;CN="Mike Melton":MAILTO:mcmelton57@gmail.com
END:VEVENT
BEGIN:VEVENT
DTSTART;TZID=America/New_York:20260112T183000
DTEND;TZID=America/New_York:20260112T203000
DTSTAMP:20260424T090738
CREATED:20250511T223119Z
LAST-MODIFIED:20260206T194736Z
UID:10007595-1768242600-1768249800@www.tcrunning.org
SUMMARY:Mon Fleet Feet – Tradition
DESCRIPTION:
URL:https://www.tcrunning.org/event/fleet-feet-stuart-2/2026-01-12/
LOCATION:Tradition Fleet Feet\, 11586 SW Village Pkwy\, Port St. Lucie\, FL\, 34987
CATEGORIES:Weekly Running
END:VEVENT
BEGIN:VEVENT
DTSTART;TZID=America/New_York:20260113T044500
DTEND;TZID=America/New_York:20260113T064500
DTSTAMP:20260424T090738
CREATED:20250505T045445Z
LAST-MODIFIED:20260206T195648Z
UID:10008660-1768279500-1768286700@www.tcrunning.org
SUMMARY:Tues Dark and Early Downtown Stuart
DESCRIPTION:Pace: All Paces\nDistance: 3–6 miles \nOrganizer: https://www.facebook.com/frankfender
URL:https://www.tcrunning.org/event/treasure-coast-runners-downtown-stuart/2026-01-13/
LOCATION:Stuart City Hall\, 121 SW Flagler Ave\, Stuart\, FL\, 34994\, United States
CATEGORIES:Weekly Running
END:VEVENT
BEGIN:VEVENT
DTSTART;TZID=America/New_York:20260113T061500
DTEND;TZID=America/New_York:20260113T083000
DTSTAMP:20260424T090738
CREATED:20250511T221226Z
LAST-MODIFIED:20260206T195858Z
UID:10008926-1768284900-1768293000@www.tcrunning.org
SUMMARY:Tue 10th St. Track
DESCRIPTION:Pace: Walk/Run\nDistance: Any\nParking east of Guy Davis Field off of 10th Street.
URL:https://www.tcrunning.org/event/tue-10th-st-track/2026-01-13/
LOCATION:10th St. Track\, Russell Holloway Jr. Track\, Stuart\, FL
CATEGORIES:Weekly Running
END:VEVENT
END:VCALENDAR