BEGIN:VCALENDAR
VERSION:2.0
PRODID:-//Treasure Coast Running - ECPv6.15.20//NONSGML v1.0//EN
CALSCALE:GREGORIAN
METHOD:PUBLISH
X-WR-CALNAME:Treasure Coast Running
X-ORIGINAL-URL:https://www.tcrunning.org
X-WR-CALDESC:Events for Treasure Coast Running
REFRESH-INTERVAL;VALUE=DURATION:PT1H
X-Robots-Tag:noindex
X-PUBLISHED-TTL:PT1H
BEGIN:VTIMEZONE
TZID:America/New_York
BEGIN:DAYLIGHT
TZOFFSETFROM:-0500
TZOFFSETTO:-0400
TZNAME:EDT
DTSTART:20240310T070000
END:DAYLIGHT
BEGIN:STANDARD
TZOFFSETFROM:-0400
TZOFFSETTO:-0500
TZNAME:EST
DTSTART:20241103T060000
END:STANDARD
BEGIN:DAYLIGHT
TZOFFSETFROM:-0500
TZOFFSETTO:-0400
TZNAME:EDT
DTSTART:20250309T070000
END:DAYLIGHT
BEGIN:STANDARD
TZOFFSETFROM:-0400
TZOFFSETTO:-0500
TZNAME:EST
DTSTART:20251102T060000
END:STANDARD
BEGIN:DAYLIGHT
TZOFFSETFROM:-0500
TZOFFSETTO:-0400
TZNAME:EDT
DTSTART:20260308T070000
END:DAYLIGHT
BEGIN:STANDARD
TZOFFSETFROM:-0400
TZOFFSETTO:-0500
TZNAME:EST
DTSTART:20261101T060000
END:STANDARD
END:VTIMEZONE
BEGIN:VEVENT
DTSTART;TZID=America/New_York:20250928T054500
DTEND;TZID=America/New_York:20250928T083000
DTSTAMP:20260425T065430
CREATED:20250511T220807Z
LAST-MODIFIED:20250512T115935Z
UID:10001924-1759038300-1759048200@www.tcrunning.org
SUMMARY:Sun Googan Long Run
DESCRIPTION:Pace: Walk/Run\nDistance: Any
URL:https://www.tcrunning.org/event/sun-googan-long-run/2025-09-28/
LOCATION:Downtown Stuart\, 47 SW Osceola\, Stuart\, FL\, United States
CATEGORIES:Weekly Running
END:VEVENT
BEGIN:VEVENT
DTSTART;TZID=America/New_York:20250926T063000
DTEND;TZID=America/New_York:20250926T073000
DTSTAMP:20260425T065430
CREATED:20250910T124816Z
LAST-MODIFIED:20260227T203053Z
UID:10003268-1758868200-1758871800@www.tcrunning.org
SUMMARY:Mulligan's Milers Bridge Break Friday
DESCRIPTION:Mulligans Milers of Jensen Beach meets at the waterfront parking lot near Fredgie’s Food truck and walk or run (all paces welcome) over the Jensen Beach causeway bridge and back for a 5K every Friday. \nFredgie’s address: 3251 N. E. Indian River Drive. (On the river)\, Jensen Beach\, FL\, United States\, Florida \nHost:\nhttps://www.facebook.com/groups/369410335884239
URL:https://www.tcrunning.org/event/bridge-break-friday/2025-09-26/
LOCATION:3251 N. E. Indian River Drive.\, Jensen Beach\, FL\, United States\, Florida
CATEGORIES:Weekly Running
END:VEVENT
BEGIN:VEVENT
DTSTART;TZID=America/New_York:20250926T054500
DTEND;TZID=America/New_York:20250926T070000
DTSTAMP:20260425T065430
CREATED:20250511T230113Z
LAST-MODIFIED:20250513T194434Z
UID:10003000-1758865500-1758870000@www.tcrunning.org
SUMMARY:Fri World's Okayest Runners
DESCRIPTION:Friday Mornings. Meetup at 5:45am. Start at 6am. \nRotating start locations at local coffee shops to support local businesses. \nContact Haley McCartney on Facebook
URL:https://www.tcrunning.org/event/fri-worlds-okayest-runners/2025-09-26/
CATEGORIES:Weekly Running
END:VEVENT
BEGIN:VEVENT
DTSTART;TZID=America/New_York:20250925T174500
DTEND;TZID=America/New_York:20250925T190000
DTSTAMP:20260425T065430
CREATED:20250511T212831Z
LAST-MODIFIED:20260206T194159Z
UID:10001549-1758822300-1758826800@www.tcrunning.org
SUMMARY:Thr Jogging with the Doctor
DESCRIPTION:Pace: All Paces\nDistance: All Distances\nLocation: Tradition Square \n 
URL:https://www.tcrunning.org/event/jogging-with-the-doctor-2/2025-09-25/
LOCATION:Tradition Square\, Tradition Square\, Port St. Lucie\, FL\, 34987\, United States
CATEGORIES:Weekly Running
END:VEVENT
BEGIN:VEVENT
DTSTART;TZID=America/New_York:20250925T063000
DTEND;TZID=America/New_York:20250925T083000
DTSTAMP:20260425T065431
CREATED:20250511T220528Z
LAST-MODIFIED:20250511T220529Z
UID:10001856-1758781800-1758789000@www.tcrunning.org
SUMMARY:Thr Googan Coffee Run
DESCRIPTION:Pace: Walk/Run\nDistance: 5-Mile Loop
URL:https://www.tcrunning.org/event/googan-coffee-run-3/2025-09-25/
LOCATION:1917 SW Federal Hwy\, 1917 SW Federal Hwy\, Stuart\, FL\, 34994\, United States
CATEGORIES:Weekly Running
END:VEVENT
BEGIN:VEVENT
DTSTART;TZID=America/New_York:20250925T044500
DTEND;TZID=America/New_York:20250925T064500
DTSTAMP:20260425T065431
CREATED:20250512T122246Z
LAST-MODIFIED:20260206T195459Z
UID:10002702-1758775500-1758782700@www.tcrunning.org
SUMMARY:Thurs Dark and Early Downtown Stuart
DESCRIPTION:Pace: All Paces\nDistance: 3–6 miles \norganizer: https://www.facebook.com/frankfender
URL:https://www.tcrunning.org/event/thurs-dark-and-early-downtown-stuart/2025-09-25/
LOCATION:Stuart City Hall\, 121 SW Flagler Ave\, Stuart\, FL\, 34994\, United States
CATEGORIES:Weekly Running
END:VEVENT
BEGIN:VEVENT
DTSTART;TZID=America/New_York:20250924T180000
DTEND;TZID=America/New_York:20250924T200000
DTSTAMP:20260425T065431
CREATED:20250505T062412Z
LAST-MODIFIED:20250512T120730Z
UID:10000539-1758736800-1758744000@www.tcrunning.org
SUMMARY:Wed Crosstown – Port St. Lucie
DESCRIPTION:Location: Mako Soccer Club next to McChesney Park
URL:https://www.tcrunning.org/event/crosstown-port-st-lucie/2025-09-24/
LOCATION:McChesney Park\, Port St Lucie
CATEGORIES:Weekly Running
END:VEVENT
BEGIN:VEVENT
DTSTART;TZID=America/New_York:20250924T063000
DTEND;TZID=America/New_York:20250924T083000
DTSTAMP:20260425T065431
CREATED:20250511T225810Z
LAST-MODIFIED:20260130T165133Z
UID:10002128-1758695400-1758702600@www.tcrunning.org
SUMMARY:Wed Mulligan Milers Run
DESCRIPTION:Mulligan’s Milers \n\n\nLooking for a fun\, supportive way to start your morning? Come join us! All paces are welcome — walk\, run\, or a mix of both. The goal is simply to move\, connect\, and enjoy the miles together. Fridays are for bridges!\n\n\nWhether you’re a seasoned runner or just getting started\, you’ll fit right in with our crew. We’d love to meet you and have you join us!\n\n\nBring a friend and come see what Mulligan’s Milers is all about! \n\n\nWe meet at Indian Riverside Park
URL:https://www.tcrunning.org/event/wed-mulligan-milers/2025-09-24/
LOCATION:Indian Riverside Park\, 1707 NE Indian River Dr\, Jensen Beach\, FL\, 34957
CATEGORIES:Weekly Running
END:VEVENT
BEGIN:VEVENT
DTSTART;TZID=America/New_York:20250923T183000
DTEND;TZID=America/New_York:20250923T203000
DTSTAMP:20260425T065431
CREATED:20250511T223517Z
LAST-MODIFIED:20260206T194830Z
UID:10002023-1758652200-1758659400@www.tcrunning.org
SUMMARY:Tue Fleet Feet – Tidehouse
DESCRIPTION:
URL:https://www.tcrunning.org/event/tue-fleet-feet-tidehouse/2025-09-23/
LOCATION:Tidehouse\, 915 NW Flagler Ave\, Stuart\, FL\, 34994
CATEGORIES:Weekly Running
END:VEVENT
BEGIN:VEVENT
DTSTART;TZID=America/New_York:20250923T180000
DTEND;TZID=America/New_York:20250923T193000
DTSTAMP:20260425T065431
CREATED:20250503T205022Z
LAST-MODIFIED:20260206T201124Z
UID:10001596-1758650400-1758655800@www.tcrunning.org
SUMMARY:Tue Sailfish Brewery – Fort Pierce
DESCRIPTION:Looking for motivation\, community\, and a great way to break up the week? This is it.  Join our Run Club every Tuesday at 6PM for an energizing group run filled with good vibes\, strong strides\, and even better people.\n\n\n\nAll paces are welcome — whether you’re a seasoned runner\, just getting started\, or somewhere in between. Come move your body\, challenge yourself\, and have fun doing it. \n\n\n\nAnd the best part? Stick around after the run to grab a drink and enjoy some delicious food.  You’ve earned it.\n\n\nNo pressure. No egos. Just movement\, community\, and a great post-run hang.\n\n Lace up\, bring a friend\, and come join the run — every Tuesday at 6PM!
URL:https://www.tcrunning.org/event/sailfish-brewery-fort-pierce/2025-09-23/
LOCATION:Sailfish Brewery\, 130 N 2nd St\, Fort Pierce\, FL\, 34950\, United States
CATEGORIES:Weekly Running
END:VEVENT
BEGIN:VEVENT
DTSTART;TZID=America/New_York:20250923T174500
DTEND;TZID=America/New_York:20250923T190000
DTSTAMP:20260425T065431
CREATED:20250503T204616Z
LAST-MODIFIED:20260206T194342Z
UID:10001269-1758649500-1758654000@www.tcrunning.org
SUMMARY:Tue Jogging with the Doctor
DESCRIPTION:Pace: All Paces\nDistance: All Distances\nLocation: Tradition Square
URL:https://www.tcrunning.org/event/jogging-with-the-doctor/2025-09-23/
LOCATION:Tradition Square\, Tradition Square\, Port St. Lucie\, FL\, 34987\, United States
CATEGORIES:Weekly Running
END:VEVENT
BEGIN:VEVENT
DTSTART;TZID=America/New_York:20250923T061500
DTEND;TZID=America/New_York:20250923T083000
DTSTAMP:20260425T065431
CREATED:20250511T221226Z
LAST-MODIFIED:20260206T195858Z
UID:10002631-1758608100-1758616200@www.tcrunning.org
SUMMARY:Tue 10th St. Track
DESCRIPTION:Pace: Walk/Run\nDistance: Any\nParking east of Guy Davis Field off of 10th Street.
URL:https://www.tcrunning.org/event/tue-10th-st-track/2025-09-23/
LOCATION:10th St. Track\, Russell Holloway Jr. Track\, Stuart\, FL
CATEGORIES:Weekly Running
END:VEVENT
BEGIN:VEVENT
DTSTART;TZID=America/New_York:20250923T050000
DTEND;TZID=America/New_York:20250923T063000
DTSTAMP:20260425T065431
CREATED:20250503T203842Z
LAST-MODIFIED:20250511T232332Z
UID:10000469-1758603600-1758609000@www.tcrunning.org
SUMMARY:Tuesday Running Crew
DESCRIPTION:By the Post Office in the Old Palm City Shopping Plaza (1395 SW Martin Hwy)
URL:https://www.tcrunning.org/event/hobe-sound-runners/2025-09-23/
LOCATION:Publix – Palm City\, 1395 SW Martin Hwy\, Palm City\, FL\, 34990\, United States
CATEGORIES:Weekly Running
END:VEVENT
BEGIN:VEVENT
DTSTART;TZID=America/New_York:20250923T044500
DTEND;TZID=America/New_York:20250923T064500
DTSTAMP:20260425T065431
CREATED:20250505T045445Z
LAST-MODIFIED:20260206T195648Z
UID:10002481-1758602700-1758609900@www.tcrunning.org
SUMMARY:Tues Dark and Early Downtown Stuart
DESCRIPTION:Pace: All Paces\nDistance: 3–6 miles \nOrganizer: https://www.facebook.com/frankfender
URL:https://www.tcrunning.org/event/treasure-coast-runners-downtown-stuart/2025-09-23/
LOCATION:Stuart City Hall\, 121 SW Flagler Ave\, Stuart\, FL\, 34994\, United States
CATEGORIES:Weekly Running
END:VEVENT
BEGIN:VEVENT
DTSTART;TZID=America/New_York:20250923T044500
DTEND;TZID=America/New_York:20250923T064500
DTSTAMP:20260425T065431
CREATED:20250503T203526Z
LAST-MODIFIED:20250511T232120Z
UID:10002426-1758602700-1758609900@www.tcrunning.org
SUMMARY:Tue Dark and Early Southside
DESCRIPTION:Pace: 7:30–8:30 min/mile
URL:https://www.tcrunning.org/event/tcr-downtown-stuart/2025-09-23/
LOCATION:Peace Presbyterian Church\, 4881 SE Cove Rd\, Stuart\, FL\, 34997\, United States
CATEGORIES:Weekly Running
END:VEVENT
BEGIN:VEVENT
DTSTART;TZID=America/New_York:20250922T183000
DTEND;TZID=America/New_York:20250922T203000
DTSTAMP:20260425T065431
CREATED:20250511T223119Z
LAST-MODIFIED:20260206T194736Z
UID:10002529-1758565800-1758573000@www.tcrunning.org
SUMMARY:Mon Fleet Feet – Tradition
DESCRIPTION:
URL:https://www.tcrunning.org/event/fleet-feet-stuart-2/2025-09-22/
LOCATION:Tradition Fleet Feet\, 11586 SW Village Pkwy\, Port St. Lucie\, FL\, 34987
CATEGORIES:Weekly Running
END:VEVENT
BEGIN:VEVENT
DTSTART;TZID=America/New_York:20250922T183000
DTEND;TZID=America/New_York:20250922T203000
DTSTAMP:20260425T065431
CREATED:20250503T200834Z
LAST-MODIFIED:20260206T195127Z
UID:10000296-1758565800-1758573000@www.tcrunning.org
SUMMARY:Mon Old Skool Run Group – Stuart
DESCRIPTION:Pace: Mid to low 7’s
URL:https://www.tcrunning.org/event/old-skool-group-stuart/2025-09-22/
LOCATION:Pete Weiler’s Office\, 515 SW Camden Ave\, Stuart\, FL\, 34994\, United States
CATEGORIES:Weekly Running
ORGANIZER;CN="Mike Melton":MAILTO:mcmelton57@gmail.com
END:VEVENT
BEGIN:VEVENT
DTSTART;TZID=America/New_York:20250921T080000
DTEND;TZID=America/New_York:20250921T100000
DTSTAMP:20260425T065431
CREATED:20250505T070949Z
LAST-MODIFIED:20250511T220106Z
UID:10000973-1758441600-1758448800@www.tcrunning.org
SUMMARY:Sun Crosstown – Port St. Lucie
DESCRIPTION:Pace: Walk/Run\nDistance: All Distances\nLocation: Submarine Veterans Park (Floresta & Crosstown)
URL:https://www.tcrunning.org/event/crosstown-port-st-lucie-2/2025-09-21/
LOCATION:Submarine Veterans Park\, SE Floresta Dr & SE Crosstown Pkwy\, Port St. Lucie\, FL\, 34983\, United States
CATEGORIES:Weekly Running
END:VEVENT
BEGIN:VEVENT
DTSTART;TZID=America/New_York:20250921T054500
DTEND;TZID=America/New_York:20250921T083000
DTSTAMP:20260425T065431
CREATED:20250511T220807Z
LAST-MODIFIED:20250512T115935Z
UID:10001923-1758433500-1758443400@www.tcrunning.org
SUMMARY:Sun Googan Long Run
DESCRIPTION:Pace: Walk/Run\nDistance: Any
URL:https://www.tcrunning.org/event/sun-googan-long-run/2025-09-21/
LOCATION:Downtown Stuart\, 47 SW Osceola\, Stuart\, FL\, United States
CATEGORIES:Weekly Running
END:VEVENT
BEGIN:VEVENT
DTSTART;TZID=America/New_York:20250920T080000
DTEND;TZID=America/New_York:20250920T170000
DTSTAMP:20260425T065431
CREATED:20250522T113053Z
LAST-MODIFIED:20250522T113152Z
UID:10003245-1758355200-1758387600@www.tcrunning.org
SUMMARY:The Osprey Trail Run 8k+25k
DESCRIPTION:
URL:https://www.tcrunning.org/event/the-osprey-trail-run-8k25k/
LOCATION:George Lestrange preserve\, 4911 Ralls Road\, Fort Pierce\, FL
CATEGORIES:2025 TCR Race Series
ATTACH;FMTTYPE=image/png:https://www.tcrunning.org/wp-content/uploads/2025/05/Osprey.png
END:VEVENT
BEGIN:VEVENT
DTSTART;TZID=America/New_York:20250920T060000
DTEND;TZID=America/New_York:20250920T110000
DTSTAMP:20260425T065431
CREATED:20250725T181328Z
LAST-MODIFIED:20250725T185343Z
UID:10003256-1758348000-1758366000@www.tcrunning.org
SUMMARY:MRCC XC Meet
DESCRIPTION:The Milers Running Club & Camp XC Meet is on Saturday\, September 20 at Martin County High School and is open to elementary and middle school teams and unattached runners. There will be 4 separate races. Distances\, times\, and fees* are listed on the attached flyer.\n\n\nSchedule of events\n6:00 AM – Gates Open\n7:00 AM – Packet Pickup Opens\n8:00 AM – 6th-8th Grade Girls (3000 meters)\n8:20 AM – 6th-8th Grade Boys (3000 meters)\n8:40 AM – K -5th Grades Girls (2000 meters)\n9:00 AM – K -5th Grades Boys (2000 meters) \nAwards ceremony will take place after all races have been completed.\n2k Elementary Individuals Top 10 Girls and top 10 Boys medals\n3k Middle School Individuals- Top 10 Girls and top 10 Boys medals \nRegistration will be on Direct Athletics. Race fees are $80 per school gender team. $150 if a school enters both genders. $20 per unattached individual or per individual on incomplete teams. No limits to the number of runners per team and category \nParking\nMartin County High School\n2801 S. Kanner Hwy\, Stuart\, FL 34994 \n\n*For all Martin County Elementary and Middle School runners entry is free courtesy of generous sponsors including TC Running \, Milers Running Club and Camps\, Fleet Feet\, The Stuart Center for Couples and Families\, Precision Chiropractic & Rehab\, and personal donations from Mike Melton\, John Trahan & Laura Elsenboss.\n\nTo enter for free\, Martin County Elementary and Middle School runners\, parents must:\n1) Send an email or to Meet Director J-P Albertelli at milersrcc@gmail.com with runner name\, age\, gender\, and school name. The meet director will enter the runners in the meet. A phone call to J-P is also acceptable (954) 579-4991.\n\n2) Once school reopens\, inform the school your child will be running for the school team and request the principal include your child’s name on a list of school team entries for the meet. Payment of entry fee is not required by parents or the school. This applies to Martin County Elementary and Middle Schools runners only.
URL:https://www.tcrunning.org/event/mrcc-xc-meet-2/
LOCATION:Martin County High School:\, 2801 S. Kanner Hwy\, Stuart\, FL\, 34994\, United States
CATEGORIES:Non Race Series Races
ATTACH;FMTTYPE=image/png:https://www.tcrunning.org/wp-content/uploads/2025/07/Screenshot-2025-07-25-at-2.11.05 PM-1.png
END:VEVENT
BEGIN:VEVENT
DTSTART;TZID=America/New_York:20250920T060000
DTEND;TZID=America/New_York:20250920T100000
DTSTAMP:20260425T065431
CREATED:20250603T203211Z
LAST-MODIFIED:20250603T203211Z
UID:10003247-1758348000-1758362400@www.tcrunning.org
SUMMARY:MRCC XC Meet
DESCRIPTION:Saturday\, September 20th \, 2025\nMartin County High School: 2801 S. Kanner Hwy\, Stuart\, FL 34994\nOpen to Elementary and Middle School teams and unattached runners only.\nRegistration will be on Direct Athletics. Race fees are $80 per school gender team. $150 if a school enters both genders. $20 per unattached individual or per individual on incomplete teams.  No limits to the number of runners per team and category. \nSaturday schedule of events\n6:00 AM – Gates Open\n7:00 AM – Packet Pickup Opens\n8:00 AM – 6th-8th Grade Girls (3000 meters)\n8:20 AM – 6th-8th Grade Boys (3000 meters)\n8:40 AM – K -5th Grades Girls (2000 meters)\n9:00 AM – K -5th Grades Boys (2000 meters)\nAwards ceremony will take place after all races have been completed.\n2k Elementary Individuals Top 10 Girls and top 10 Boys medals\n3k Middle School Individuals- Top 10 Girls and top 10 Boys medals \nParking\nMartin County High School\n2801 S. Kanner Hwy\, Stuart\, FL 34994
URL:https://www.tcrunning.org/event/mrcc-xc-meet/
LOCATION:Martin County High School\, 2801 S. Kanner Hwy\, Stuart\, FL\, 34994\, United States
ATTACH;FMTTYPE=image/jpeg:https://www.tcrunning.org/wp-content/uploads/2025/06/xc-pic-scaled.jpg
END:VEVENT
BEGIN:VEVENT
DTSTART;TZID=America/New_York:20250919T063000
DTEND;TZID=America/New_York:20250919T073000
DTSTAMP:20260425T065431
CREATED:20250910T124816Z
LAST-MODIFIED:20260227T203053Z
UID:10003267-1758263400-1758267000@www.tcrunning.org
SUMMARY:Mulligan's Milers Bridge Break Friday
DESCRIPTION:Mulligans Milers of Jensen Beach meets at the waterfront parking lot near Fredgie’s Food truck and walk or run (all paces welcome) over the Jensen Beach causeway bridge and back for a 5K every Friday. \nFredgie’s address: 3251 N. E. Indian River Drive. (On the river)\, Jensen Beach\, FL\, United States\, Florida \nHost:\nhttps://www.facebook.com/groups/369410335884239
URL:https://www.tcrunning.org/event/bridge-break-friday/2025-09-19/
LOCATION:3251 N. E. Indian River Drive.\, Jensen Beach\, FL\, United States\, Florida
CATEGORIES:Weekly Running
END:VEVENT
BEGIN:VEVENT
DTSTART;TZID=America/New_York:20250919T054500
DTEND;TZID=America/New_York:20250919T070000
DTSTAMP:20260425T065431
CREATED:20250511T230113Z
LAST-MODIFIED:20250513T194434Z
UID:10002999-1758260700-1758265200@www.tcrunning.org
SUMMARY:Fri World's Okayest Runners
DESCRIPTION:Friday Mornings. Meetup at 5:45am. Start at 6am. \nRotating start locations at local coffee shops to support local businesses. \nContact Haley McCartney on Facebook
URL:https://www.tcrunning.org/event/fri-worlds-okayest-runners/2025-09-19/
CATEGORIES:Weekly Running
END:VEVENT
BEGIN:VEVENT
DTSTART;TZID=America/New_York:20250918T174500
DTEND;TZID=America/New_York:20250918T190000
DTSTAMP:20260425T065431
CREATED:20250511T212831Z
LAST-MODIFIED:20260206T194159Z
UID:10001547-1758217500-1758222000@www.tcrunning.org
SUMMARY:Thr Jogging with the Doctor
DESCRIPTION:Pace: All Paces\nDistance: All Distances\nLocation: Tradition Square \n 
URL:https://www.tcrunning.org/event/jogging-with-the-doctor-2/2025-09-18/
LOCATION:Tradition Square\, Tradition Square\, Port St. Lucie\, FL\, 34987\, United States
CATEGORIES:Weekly Running
END:VEVENT
BEGIN:VEVENT
DTSTART;TZID=America/New_York:20250918T063000
DTEND;TZID=America/New_York:20250918T083000
DTSTAMP:20260425T065431
CREATED:20250511T220528Z
LAST-MODIFIED:20250511T220529Z
UID:10001855-1758177000-1758184200@www.tcrunning.org
SUMMARY:Thr Googan Coffee Run
DESCRIPTION:Pace: Walk/Run\nDistance: 5-Mile Loop
URL:https://www.tcrunning.org/event/googan-coffee-run-3/2025-09-18/
LOCATION:1917 SW Federal Hwy\, 1917 SW Federal Hwy\, Stuart\, FL\, 34994\, United States
CATEGORIES:Weekly Running
END:VEVENT
BEGIN:VEVENT
DTSTART;TZID=America/New_York:20250918T044500
DTEND;TZID=America/New_York:20250918T064500
DTSTAMP:20260425T065431
CREATED:20250512T122246Z
LAST-MODIFIED:20260206T195459Z
UID:10002701-1758170700-1758177900@www.tcrunning.org
SUMMARY:Thurs Dark and Early Downtown Stuart
DESCRIPTION:Pace: All Paces\nDistance: 3–6 miles \norganizer: https://www.facebook.com/frankfender
URL:https://www.tcrunning.org/event/thurs-dark-and-early-downtown-stuart/2025-09-18/
LOCATION:Stuart City Hall\, 121 SW Flagler Ave\, Stuart\, FL\, 34994\, United States
CATEGORIES:Weekly Running
END:VEVENT
BEGIN:VEVENT
DTSTART;TZID=America/New_York:20250917T180000
DTEND;TZID=America/New_York:20250917T200000
DTSTAMP:20260425T065431
CREATED:20250505T062412Z
LAST-MODIFIED:20250512T120730Z
UID:10000538-1758132000-1758139200@www.tcrunning.org
SUMMARY:Wed Crosstown – Port St. Lucie
DESCRIPTION:Location: Mako Soccer Club next to McChesney Park
URL:https://www.tcrunning.org/event/crosstown-port-st-lucie/2025-09-17/
LOCATION:McChesney Park\, Port St Lucie
CATEGORIES:Weekly Running
END:VEVENT
BEGIN:VEVENT
DTSTART;TZID=America/New_York:20250917T063000
DTEND;TZID=America/New_York:20250917T083000
DTSTAMP:20260425T065431
CREATED:20250511T225810Z
LAST-MODIFIED:20260130T165133Z
UID:10002127-1758090600-1758097800@www.tcrunning.org
SUMMARY:Wed Mulligan Milers Run
DESCRIPTION:Mulligan’s Milers \n\n\nLooking for a fun\, supportive way to start your morning? Come join us! All paces are welcome — walk\, run\, or a mix of both. The goal is simply to move\, connect\, and enjoy the miles together. Fridays are for bridges!\n\n\nWhether you’re a seasoned runner or just getting started\, you’ll fit right in with our crew. We’d love to meet you and have you join us!\n\n\nBring a friend and come see what Mulligan’s Milers is all about! \n\n\nWe meet at Indian Riverside Park
URL:https://www.tcrunning.org/event/wed-mulligan-milers/2025-09-17/
LOCATION:Indian Riverside Park\, 1707 NE Indian River Dr\, Jensen Beach\, FL\, 34957
CATEGORIES:Weekly Running
END:VEVENT
BEGIN:VEVENT
DTSTART;TZID=America/New_York:20250916T183000
DTEND;TZID=America/New_York:20250916T203000
DTSTAMP:20260425T065431
CREATED:20250511T223517Z
LAST-MODIFIED:20260206T194830Z
UID:10002022-1758047400-1758054600@www.tcrunning.org
SUMMARY:Tue Fleet Feet – Tidehouse
DESCRIPTION:
URL:https://www.tcrunning.org/event/tue-fleet-feet-tidehouse/2025-09-16/
LOCATION:Tidehouse\, 915 NW Flagler Ave\, Stuart\, FL\, 34994
CATEGORIES:Weekly Running
END:VEVENT
END:VCALENDAR