BEGIN:VCALENDAR
VERSION:2.0
PRODID:-//Treasure Coast Running - ECPv6.15.20//NONSGML v1.0//EN
CALSCALE:GREGORIAN
METHOD:PUBLISH
X-ORIGINAL-URL:https://www.tcrunning.org
X-WR-CALDESC:Events for Treasure Coast Running
REFRESH-INTERVAL;VALUE=DURATION:PT1H
X-Robots-Tag:noindex
X-PUBLISHED-TTL:PT1H
BEGIN:VTIMEZONE
TZID:America/New_York
BEGIN:DAYLIGHT
TZOFFSETFROM:-0500
TZOFFSETTO:-0400
TZNAME:EDT
DTSTART:20240310T070000
END:DAYLIGHT
BEGIN:STANDARD
TZOFFSETFROM:-0400
TZOFFSETTO:-0500
TZNAME:EST
DTSTART:20241103T060000
END:STANDARD
BEGIN:DAYLIGHT
TZOFFSETFROM:-0500
TZOFFSETTO:-0400
TZNAME:EDT
DTSTART:20250309T070000
END:DAYLIGHT
BEGIN:STANDARD
TZOFFSETFROM:-0400
TZOFFSETTO:-0500
TZNAME:EST
DTSTART:20251102T060000
END:STANDARD
BEGIN:DAYLIGHT
TZOFFSETFROM:-0500
TZOFFSETTO:-0400
TZNAME:EDT
DTSTART:20260308T070000
END:DAYLIGHT
BEGIN:STANDARD
TZOFFSETFROM:-0400
TZOFFSETTO:-0500
TZNAME:EST
DTSTART:20261101T060000
END:STANDARD
END:VTIMEZONE
BEGIN:VEVENT
DTSTART;TZID=America/New_York:20250824T080000
DTEND;TZID=America/New_York:20250824T100000
DTSTAMP:20260425T062348
CREATED:20250505T070949Z
LAST-MODIFIED:20250511T220106Z
UID:10000969-1756022400-1756029600@www.tcrunning.org
SUMMARY:Sun Crosstown – Port St. Lucie
DESCRIPTION:Pace: Walk/Run\nDistance: All Distances\nLocation: Submarine Veterans Park (Floresta & Crosstown)
URL:https://www.tcrunning.org/event/crosstown-port-st-lucie-2/2025-08-24/
LOCATION:Submarine Veterans Park\, SE Floresta Dr & SE Crosstown Pkwy\, Port St. Lucie\, FL\, 34983\, United States
CATEGORIES:Weekly Running
END:VEVENT
BEGIN:VEVENT
DTSTART;TZID=America/New_York:20250825T183000
DTEND;TZID=America/New_York:20250825T203000
DTSTAMP:20260425T062348
CREATED:20250503T200834Z
LAST-MODIFIED:20260206T195127Z
UID:10000292-1756146600-1756153800@www.tcrunning.org
SUMMARY:Mon Old Skool Run Group – Stuart
DESCRIPTION:Pace: Mid to low 7’s
URL:https://www.tcrunning.org/event/old-skool-group-stuart/2025-08-25/
LOCATION:Pete Weiler’s Office\, 515 SW Camden Ave\, Stuart\, FL\, 34994\, United States
CATEGORIES:Weekly Running
ORGANIZER;CN="Mike Melton":MAILTO:mcmelton57@gmail.com
END:VEVENT
BEGIN:VEVENT
DTSTART;TZID=America/New_York:20250825T183000
DTEND;TZID=America/New_York:20250825T203000
DTSTAMP:20260425T062348
CREATED:20250511T223119Z
LAST-MODIFIED:20260206T194736Z
UID:10002525-1756146600-1756153800@www.tcrunning.org
SUMMARY:Mon Fleet Feet – Tradition
DESCRIPTION:
URL:https://www.tcrunning.org/event/fleet-feet-stuart-2/2025-08-25/
LOCATION:Tradition Fleet Feet\, 11586 SW Village Pkwy\, Port St. Lucie\, FL\, 34987
CATEGORIES:Weekly Running
END:VEVENT
BEGIN:VEVENT
DTSTART;TZID=America/New_York:20250826T044500
DTEND;TZID=America/New_York:20250826T064500
DTSTAMP:20260425T062348
CREATED:20250503T203526Z
LAST-MODIFIED:20250511T232120Z
UID:10002422-1756183500-1756190700@www.tcrunning.org
SUMMARY:Tue Dark and Early Southside
DESCRIPTION:Pace: 7:30–8:30 min/mile
URL:https://www.tcrunning.org/event/tcr-downtown-stuart/2025-08-26/
LOCATION:Peace Presbyterian Church\, 4881 SE Cove Rd\, Stuart\, FL\, 34997\, United States
CATEGORIES:Weekly Running
END:VEVENT
BEGIN:VEVENT
DTSTART;TZID=America/New_York:20250826T044500
DTEND;TZID=America/New_York:20250826T064500
DTSTAMP:20260425T062348
CREATED:20250505T045445Z
LAST-MODIFIED:20260206T195648Z
UID:10002473-1756183500-1756190700@www.tcrunning.org
SUMMARY:Tues Dark and Early Downtown Stuart
DESCRIPTION:Pace: All Paces\nDistance: 3–6 miles \nOrganizer: https://www.facebook.com/frankfender
URL:https://www.tcrunning.org/event/treasure-coast-runners-downtown-stuart/2025-08-26/
LOCATION:Stuart City Hall\, 121 SW Flagler Ave\, Stuart\, FL\, 34994\, United States
CATEGORIES:Weekly Running
END:VEVENT
BEGIN:VEVENT
DTSTART;TZID=America/New_York:20250826T050000
DTEND;TZID=America/New_York:20250826T063000
DTSTAMP:20260425T062348
CREATED:20250503T203842Z
LAST-MODIFIED:20250511T232332Z
UID:10000465-1756184400-1756189800@www.tcrunning.org
SUMMARY:Tuesday Running Crew
DESCRIPTION:By the Post Office in the Old Palm City Shopping Plaza (1395 SW Martin Hwy)
URL:https://www.tcrunning.org/event/hobe-sound-runners/2025-08-26/
LOCATION:Publix – Palm City\, 1395 SW Martin Hwy\, Palm City\, FL\, 34990\, United States
CATEGORIES:Weekly Running
END:VEVENT
BEGIN:VEVENT
DTSTART;TZID=America/New_York:20250826T061500
DTEND;TZID=America/New_York:20250826T083000
DTSTAMP:20260425T062348
CREATED:20250511T221226Z
LAST-MODIFIED:20260206T195858Z
UID:10002627-1756188900-1756197000@www.tcrunning.org
SUMMARY:Tue 10th St. Track
DESCRIPTION:Pace: Walk/Run\nDistance: Any\nParking east of Guy Davis Field off of 10th Street.
URL:https://www.tcrunning.org/event/tue-10th-st-track/2025-08-26/
LOCATION:10th St. Track\, Russell Holloway Jr. Track\, Stuart\, FL
CATEGORIES:Weekly Running
END:VEVENT
BEGIN:VEVENT
DTSTART;TZID=America/New_York:20250826T174500
DTEND;TZID=America/New_York:20250826T190000
DTSTAMP:20260425T062348
CREATED:20250503T204616Z
LAST-MODIFIED:20260206T194342Z
UID:10001261-1756230300-1756234800@www.tcrunning.org
SUMMARY:Tue Jogging with the Doctor
DESCRIPTION:Pace: All Paces\nDistance: All Distances\nLocation: Tradition Square
URL:https://www.tcrunning.org/event/jogging-with-the-doctor/2025-08-26/
LOCATION:Tradition Square\, Tradition Square\, Port St. Lucie\, FL\, 34987\, United States
CATEGORIES:Weekly Running
END:VEVENT
BEGIN:VEVENT
DTSTART;TZID=America/New_York:20250826T180000
DTEND;TZID=America/New_York:20250826T193000
DTSTAMP:20260425T062348
CREATED:20250503T205022Z
LAST-MODIFIED:20260206T201124Z
UID:10001592-1756231200-1756236600@www.tcrunning.org
SUMMARY:Tue Sailfish Brewery – Fort Pierce
DESCRIPTION:Looking for motivation\, community\, and a great way to break up the week? This is it.  Join our Run Club every Tuesday at 6PM for an energizing group run filled with good vibes\, strong strides\, and even better people.\n\n\n\nAll paces are welcome — whether you’re a seasoned runner\, just getting started\, or somewhere in between. Come move your body\, challenge yourself\, and have fun doing it. \n\n\n\nAnd the best part? Stick around after the run to grab a drink and enjoy some delicious food.  You’ve earned it.\n\n\nNo pressure. No egos. Just movement\, community\, and a great post-run hang.\n\n Lace up\, bring a friend\, and come join the run — every Tuesday at 6PM!
URL:https://www.tcrunning.org/event/sailfish-brewery-fort-pierce/2025-08-26/
LOCATION:Sailfish Brewery\, 130 N 2nd St\, Fort Pierce\, FL\, 34950\, United States
CATEGORIES:Weekly Running
END:VEVENT
BEGIN:VEVENT
DTSTART;TZID=America/New_York:20250826T183000
DTEND;TZID=America/New_York:20250826T203000
DTSTAMP:20260425T062348
CREATED:20250511T223517Z
LAST-MODIFIED:20260206T194830Z
UID:10002019-1756233000-1756240200@www.tcrunning.org
SUMMARY:Tue Fleet Feet – Tidehouse
DESCRIPTION:
URL:https://www.tcrunning.org/event/tue-fleet-feet-tidehouse/2025-08-26/
LOCATION:Tidehouse\, 915 NW Flagler Ave\, Stuart\, FL\, 34994
CATEGORIES:Weekly Running
END:VEVENT
BEGIN:VEVENT
DTSTART;TZID=America/New_York:20250827T063000
DTEND;TZID=America/New_York:20250827T083000
DTSTAMP:20260425T062348
CREATED:20250511T225810Z
LAST-MODIFIED:20260130T165133Z
UID:10002124-1756276200-1756283400@www.tcrunning.org
SUMMARY:Wed Mulligan Milers Run
DESCRIPTION:Mulligan’s Milers \n\n\nLooking for a fun\, supportive way to start your morning? Come join us! All paces are welcome — walk\, run\, or a mix of both. The goal is simply to move\, connect\, and enjoy the miles together. Fridays are for bridges!\n\n\nWhether you’re a seasoned runner or just getting started\, you’ll fit right in with our crew. We’d love to meet you and have you join us!\n\n\nBring a friend and come see what Mulligan’s Milers is all about! \n\n\nWe meet at Indian Riverside Park
URL:https://www.tcrunning.org/event/wed-mulligan-milers/2025-08-27/
LOCATION:Indian Riverside Park\, 1707 NE Indian River Dr\, Jensen Beach\, FL\, 34957
CATEGORIES:Weekly Running
END:VEVENT
BEGIN:VEVENT
DTSTART;TZID=America/New_York:20250827T180000
DTEND;TZID=America/New_York:20250827T200000
DTSTAMP:20260425T062348
CREATED:20250505T062412Z
LAST-MODIFIED:20250512T120730Z
UID:10000535-1756317600-1756324800@www.tcrunning.org
SUMMARY:Wed Crosstown – Port St. Lucie
DESCRIPTION:Location: Mako Soccer Club next to McChesney Park
URL:https://www.tcrunning.org/event/crosstown-port-st-lucie/2025-08-27/
LOCATION:McChesney Park\, Port St Lucie
CATEGORIES:Weekly Running
END:VEVENT
BEGIN:VEVENT
DTSTART;TZID=America/New_York:20250828T044500
DTEND;TZID=America/New_York:20250828T064500
DTSTAMP:20260425T062348
CREATED:20250512T122246Z
LAST-MODIFIED:20260206T195459Z
UID:10002698-1756356300-1756363500@www.tcrunning.org
SUMMARY:Thurs Dark and Early Downtown Stuart
DESCRIPTION:Pace: All Paces\nDistance: 3–6 miles \norganizer: https://www.facebook.com/frankfender
URL:https://www.tcrunning.org/event/thurs-dark-and-early-downtown-stuart/2025-08-28/
LOCATION:Stuart City Hall\, 121 SW Flagler Ave\, Stuart\, FL\, 34994\, United States
CATEGORIES:Weekly Running
END:VEVENT
BEGIN:VEVENT
DTSTART;TZID=America/New_York:20250828T063000
DTEND;TZID=America/New_York:20250828T083000
DTSTAMP:20260425T062348
CREATED:20250511T220528Z
LAST-MODIFIED:20250511T220529Z
UID:10001852-1756362600-1756369800@www.tcrunning.org
SUMMARY:Thr Googan Coffee Run
DESCRIPTION:Pace: Walk/Run\nDistance: 5-Mile Loop
URL:https://www.tcrunning.org/event/googan-coffee-run-3/2025-08-28/
LOCATION:1917 SW Federal Hwy\, 1917 SW Federal Hwy\, Stuart\, FL\, 34994\, United States
CATEGORIES:Weekly Running
END:VEVENT
BEGIN:VEVENT
DTSTART;TZID=America/New_York:20250828T174500
DTEND;TZID=America/New_York:20250828T190000
DTSTAMP:20260425T062348
CREATED:20250511T212831Z
LAST-MODIFIED:20260206T194159Z
UID:10001541-1756403100-1756407600@www.tcrunning.org
SUMMARY:Thr Jogging with the Doctor
DESCRIPTION:Pace: All Paces\nDistance: All Distances\nLocation: Tradition Square \n 
URL:https://www.tcrunning.org/event/jogging-with-the-doctor-2/2025-08-28/
LOCATION:Tradition Square\, Tradition Square\, Port St. Lucie\, FL\, 34987\, United States
CATEGORIES:Weekly Running
END:VEVENT
BEGIN:VEVENT
DTSTART;TZID=America/New_York:20250829T054500
DTEND;TZID=America/New_York:20250829T070000
DTSTAMP:20260425T062348
CREATED:20250511T230113Z
LAST-MODIFIED:20250513T194434Z
UID:10002996-1756446300-1756450800@www.tcrunning.org
SUMMARY:Fri World's Okayest Runners
DESCRIPTION:Friday Mornings. Meetup at 5:45am. Start at 6am. \nRotating start locations at local coffee shops to support local businesses. \nContact Haley McCartney on Facebook
URL:https://www.tcrunning.org/event/fri-worlds-okayest-runners/2025-08-29/
CATEGORIES:Weekly Running
END:VEVENT
BEGIN:VEVENT
DTSTART;TZID=America/New_York:20250830T080000
DTEND;TZID=America/New_York:20250830T100000
DTSTAMP:20260425T062348
CREATED:20250725T182113Z
LAST-MODIFIED:20250725T185307Z
UID:10003257-1756540800-1756548000@www.tcrunning.org
SUMMARY:The Kids-Parents Nature Run
DESCRIPTION:Milers Running Club & CampSATURDAY MORNING NATURE RUNKIDS & PARENTS WELCOME! \nSATURDAY\, AUGUST 30TH8:00 AMPAVILION #4 – HALPATIOKEE PARK – STUART\, FL \nNO SIGN-UP NEEDED – JUST SHOW UP AND BRING WATER! \nRun\, laugh\, and explore with Milers Running Club & Camp!\nEnjoy the scenic trails of Halpatiokee Park with fellow families.\nA perfect way to start your weekend – fresh air\, fitness\, and fun! \nALL AGES & FITNESS LEVELS WELCOME!
URL:https://www.tcrunning.org/event/the-kids-parents-nature-run/
LOCATION:HALPATIOKEE PARK\, 8303 SW Lost River Rd PAVILION #4\, Stuart\, FL\, FL\, United States
CATEGORIES:Non Race Series Races
ATTACH;FMTTYPE=image/png:https://www.tcrunning.org/wp-content/uploads/2025/07/Screenshot-2025-07-25-at-2.16.22 PM.png
END:VEVENT
BEGIN:VEVENT
DTSTART;TZID=America/New_York:20250831T054500
DTEND;TZID=America/New_York:20250831T083000
DTSTAMP:20260425T062348
CREATED:20250511T220807Z
LAST-MODIFIED:20250512T115935Z
UID:10001920-1756619100-1756629000@www.tcrunning.org
SUMMARY:Sun Googan Long Run
DESCRIPTION:Pace: Walk/Run\nDistance: Any
URL:https://www.tcrunning.org/event/sun-googan-long-run/2025-08-31/
LOCATION:Downtown Stuart\, 47 SW Osceola\, Stuart\, FL\, United States
CATEGORIES:Weekly Running
END:VEVENT
BEGIN:VEVENT
DTSTART;TZID=America/New_York:20250831T080000
DTEND;TZID=America/New_York:20250831T100000
DTSTAMP:20260425T062348
CREATED:20250505T070949Z
LAST-MODIFIED:20250511T220106Z
UID:10000970-1756627200-1756634400@www.tcrunning.org
SUMMARY:Sun Crosstown – Port St. Lucie
DESCRIPTION:Pace: Walk/Run\nDistance: All Distances\nLocation: Submarine Veterans Park (Floresta & Crosstown)
URL:https://www.tcrunning.org/event/crosstown-port-st-lucie-2/2025-08-31/
LOCATION:Submarine Veterans Park\, SE Floresta Dr & SE Crosstown Pkwy\, Port St. Lucie\, FL\, 34983\, United States
CATEGORIES:Weekly Running
END:VEVENT
BEGIN:VEVENT
DTSTART;TZID=America/New_York:20250901T183000
DTEND;TZID=America/New_York:20250901T203000
DTSTAMP:20260425T062348
CREATED:20250503T200834Z
LAST-MODIFIED:20260206T195127Z
UID:10000293-1756751400-1756758600@www.tcrunning.org
SUMMARY:Mon Old Skool Run Group – Stuart
DESCRIPTION:Pace: Mid to low 7’s
URL:https://www.tcrunning.org/event/old-skool-group-stuart/2025-09-01/
LOCATION:Pete Weiler’s Office\, 515 SW Camden Ave\, Stuart\, FL\, 34994\, United States
CATEGORIES:Weekly Running
ORGANIZER;CN="Mike Melton":MAILTO:mcmelton57@gmail.com
END:VEVENT
BEGIN:VEVENT
DTSTART;TZID=America/New_York:20250901T183000
DTEND;TZID=America/New_York:20250901T203000
DTSTAMP:20260425T062348
CREATED:20250511T223119Z
LAST-MODIFIED:20260206T194736Z
UID:10002526-1756751400-1756758600@www.tcrunning.org
SUMMARY:Mon Fleet Feet – Tradition
DESCRIPTION:
URL:https://www.tcrunning.org/event/fleet-feet-stuart-2/2025-09-01/
LOCATION:Tradition Fleet Feet\, 11586 SW Village Pkwy\, Port St. Lucie\, FL\, 34987
CATEGORIES:Weekly Running
END:VEVENT
BEGIN:VEVENT
DTSTART;TZID=America/New_York:20250902T044500
DTEND;TZID=America/New_York:20250902T064500
DTSTAMP:20260425T062348
CREATED:20250503T203526Z
LAST-MODIFIED:20250511T232120Z
UID:10002423-1756788300-1756795500@www.tcrunning.org
SUMMARY:Tue Dark and Early Southside
DESCRIPTION:Pace: 7:30–8:30 min/mile
URL:https://www.tcrunning.org/event/tcr-downtown-stuart/2025-09-02/
LOCATION:Peace Presbyterian Church\, 4881 SE Cove Rd\, Stuart\, FL\, 34997\, United States
CATEGORIES:Weekly Running
END:VEVENT
BEGIN:VEVENT
DTSTART;TZID=America/New_York:20250902T044500
DTEND;TZID=America/New_York:20250902T064500
DTSTAMP:20260425T062348
CREATED:20250505T045445Z
LAST-MODIFIED:20260206T195648Z
UID:10002475-1756788300-1756795500@www.tcrunning.org
SUMMARY:Tues Dark and Early Downtown Stuart
DESCRIPTION:Pace: All Paces\nDistance: 3–6 miles \nOrganizer: https://www.facebook.com/frankfender
URL:https://www.tcrunning.org/event/treasure-coast-runners-downtown-stuart/2025-09-02/
LOCATION:Stuart City Hall\, 121 SW Flagler Ave\, Stuart\, FL\, 34994\, United States
CATEGORIES:Weekly Running
END:VEVENT
BEGIN:VEVENT
DTSTART;TZID=America/New_York:20250902T050000
DTEND;TZID=America/New_York:20250902T063000
DTSTAMP:20260425T062348
CREATED:20250503T203842Z
LAST-MODIFIED:20250511T232332Z
UID:10000466-1756789200-1756794600@www.tcrunning.org
SUMMARY:Tuesday Running Crew
DESCRIPTION:By the Post Office in the Old Palm City Shopping Plaza (1395 SW Martin Hwy)
URL:https://www.tcrunning.org/event/hobe-sound-runners/2025-09-02/
LOCATION:Publix – Palm City\, 1395 SW Martin Hwy\, Palm City\, FL\, 34990\, United States
CATEGORIES:Weekly Running
END:VEVENT
BEGIN:VEVENT
DTSTART;TZID=America/New_York:20250902T061500
DTEND;TZID=America/New_York:20250902T083000
DTSTAMP:20260425T062348
CREATED:20250511T221226Z
LAST-MODIFIED:20260206T195858Z
UID:10002628-1756793700-1756801800@www.tcrunning.org
SUMMARY:Tue 10th St. Track
DESCRIPTION:Pace: Walk/Run\nDistance: Any\nParking east of Guy Davis Field off of 10th Street.
URL:https://www.tcrunning.org/event/tue-10th-st-track/2025-09-02/
LOCATION:10th St. Track\, Russell Holloway Jr. Track\, Stuart\, FL
CATEGORIES:Weekly Running
END:VEVENT
BEGIN:VEVENT
DTSTART;TZID=America/New_York:20250902T174500
DTEND;TZID=America/New_York:20250902T190000
DTSTAMP:20260425T062348
CREATED:20250503T204616Z
LAST-MODIFIED:20260206T194342Z
UID:10001263-1756835100-1756839600@www.tcrunning.org
SUMMARY:Tue Jogging with the Doctor
DESCRIPTION:Pace: All Paces\nDistance: All Distances\nLocation: Tradition Square
URL:https://www.tcrunning.org/event/jogging-with-the-doctor/2025-09-02/
LOCATION:Tradition Square\, Tradition Square\, Port St. Lucie\, FL\, 34987\, United States
CATEGORIES:Weekly Running
END:VEVENT
BEGIN:VEVENT
DTSTART;TZID=America/New_York:20250902T180000
DTEND;TZID=America/New_York:20250902T193000
DTSTAMP:20260425T062348
CREATED:20250503T205022Z
LAST-MODIFIED:20260206T201124Z
UID:10001593-1756836000-1756841400@www.tcrunning.org
SUMMARY:Tue Sailfish Brewery – Fort Pierce
DESCRIPTION:Looking for motivation\, community\, and a great way to break up the week? This is it.  Join our Run Club every Tuesday at 6PM for an energizing group run filled with good vibes\, strong strides\, and even better people.\n\n\n\nAll paces are welcome — whether you’re a seasoned runner\, just getting started\, or somewhere in between. Come move your body\, challenge yourself\, and have fun doing it. \n\n\n\nAnd the best part? Stick around after the run to grab a drink and enjoy some delicious food.  You’ve earned it.\n\n\nNo pressure. No egos. Just movement\, community\, and a great post-run hang.\n\n Lace up\, bring a friend\, and come join the run — every Tuesday at 6PM!
URL:https://www.tcrunning.org/event/sailfish-brewery-fort-pierce/2025-09-02/
LOCATION:Sailfish Brewery\, 130 N 2nd St\, Fort Pierce\, FL\, 34950\, United States
CATEGORIES:Weekly Running
END:VEVENT
BEGIN:VEVENT
DTSTART;TZID=America/New_York:20250902T183000
DTEND;TZID=America/New_York:20250902T203000
DTSTAMP:20260425T062348
CREATED:20250511T223517Z
LAST-MODIFIED:20260206T194830Z
UID:10002020-1756837800-1756845000@www.tcrunning.org
SUMMARY:Tue Fleet Feet – Tidehouse
DESCRIPTION:
URL:https://www.tcrunning.org/event/tue-fleet-feet-tidehouse/2025-09-02/
LOCATION:Tidehouse\, 915 NW Flagler Ave\, Stuart\, FL\, 34994
CATEGORIES:Weekly Running
END:VEVENT
BEGIN:VEVENT
DTSTART;TZID=America/New_York:20250903T063000
DTEND;TZID=America/New_York:20250903T083000
DTSTAMP:20260425T062348
CREATED:20250511T225810Z
LAST-MODIFIED:20260130T165133Z
UID:10002125-1756881000-1756888200@www.tcrunning.org
SUMMARY:Wed Mulligan Milers Run
DESCRIPTION:Mulligan’s Milers \n\n\nLooking for a fun\, supportive way to start your morning? Come join us! All paces are welcome — walk\, run\, or a mix of both. The goal is simply to move\, connect\, and enjoy the miles together. Fridays are for bridges!\n\n\nWhether you’re a seasoned runner or just getting started\, you’ll fit right in with our crew. We’d love to meet you and have you join us!\n\n\nBring a friend and come see what Mulligan’s Milers is all about! \n\n\nWe meet at Indian Riverside Park
URL:https://www.tcrunning.org/event/wed-mulligan-milers/2025-09-03/
LOCATION:Indian Riverside Park\, 1707 NE Indian River Dr\, Jensen Beach\, FL\, 34957
CATEGORIES:Weekly Running
END:VEVENT
BEGIN:VEVENT
DTSTART;TZID=America/New_York:20250903T180000
DTEND;TZID=America/New_York:20250903T200000
DTSTAMP:20260425T062348
CREATED:20250505T062412Z
LAST-MODIFIED:20250512T120730Z
UID:10000536-1756922400-1756929600@www.tcrunning.org
SUMMARY:Wed Crosstown – Port St. Lucie
DESCRIPTION:Location: Mako Soccer Club next to McChesney Park
URL:https://www.tcrunning.org/event/crosstown-port-st-lucie/2025-09-03/
LOCATION:McChesney Park\, Port St Lucie
CATEGORIES:Weekly Running
END:VEVENT
END:VCALENDAR