BEGIN:VCALENDAR
VERSION:2.0
PRODID:-//Treasure Coast Running - ECPv6.15.20//NONSGML v1.0//EN
CALSCALE:GREGORIAN
METHOD:PUBLISH
X-ORIGINAL-URL:https://www.tcrunning.org
X-WR-CALDESC:Events for Treasure Coast Running
REFRESH-INTERVAL;VALUE=DURATION:PT1H
X-Robots-Tag:noindex
X-PUBLISHED-TTL:PT1H
BEGIN:VTIMEZONE
TZID:America/New_York
BEGIN:DAYLIGHT
TZOFFSETFROM:-0500
TZOFFSETTO:-0400
TZNAME:EDT
DTSTART:20240310T070000
END:DAYLIGHT
BEGIN:STANDARD
TZOFFSETFROM:-0400
TZOFFSETTO:-0500
TZNAME:EST
DTSTART:20241103T060000
END:STANDARD
BEGIN:DAYLIGHT
TZOFFSETFROM:-0500
TZOFFSETTO:-0400
TZNAME:EDT
DTSTART:20250309T070000
END:DAYLIGHT
BEGIN:STANDARD
TZOFFSETFROM:-0400
TZOFFSETTO:-0500
TZNAME:EST
DTSTART:20251102T060000
END:STANDARD
BEGIN:DAYLIGHT
TZOFFSETFROM:-0500
TZOFFSETTO:-0400
TZNAME:EDT
DTSTART:20260308T070000
END:DAYLIGHT
BEGIN:STANDARD
TZOFFSETFROM:-0400
TZOFFSETTO:-0500
TZNAME:EST
DTSTART:20261101T060000
END:STANDARD
END:VTIMEZONE
BEGIN:VEVENT
DTSTART;TZID=America/New_York:20251104T180000
DTEND;TZID=America/New_York:20251104T193000
DTSTAMP:20260424T190456
CREATED:20250503T205022Z
LAST-MODIFIED:20260206T201124Z
UID:10001602-1762279200-1762284600@www.tcrunning.org
SUMMARY:Tue Sailfish Brewery – Fort Pierce
DESCRIPTION:Looking for motivation\, community\, and a great way to break up the week? This is it.  Join our Run Club every Tuesday at 6PM for an energizing group run filled with good vibes\, strong strides\, and even better people.\n\n\n\nAll paces are welcome — whether you’re a seasoned runner\, just getting started\, or somewhere in between. Come move your body\, challenge yourself\, and have fun doing it. \n\n\n\nAnd the best part? Stick around after the run to grab a drink and enjoy some delicious food.  You’ve earned it.\n\n\nNo pressure. No egos. Just movement\, community\, and a great post-run hang.\n\n Lace up\, bring a friend\, and come join the run — every Tuesday at 6PM!
URL:https://www.tcrunning.org/event/sailfish-brewery-fort-pierce/2025-11-04/
LOCATION:Sailfish Brewery\, 130 N 2nd St\, Fort Pierce\, FL\, 34950\, United States
CATEGORIES:Weekly Running
END:VEVENT
BEGIN:VEVENT
DTSTART;TZID=America/New_York:20251104T183000
DTEND;TZID=America/New_York:20251104T203000
DTSTAMP:20260424T190456
CREATED:20250511T223517Z
LAST-MODIFIED:20260206T194830Z
UID:10002029-1762281000-1762288200@www.tcrunning.org
SUMMARY:Tue Fleet Feet – Tidehouse
DESCRIPTION:
URL:https://www.tcrunning.org/event/tue-fleet-feet-tidehouse/2025-11-04/
LOCATION:Tidehouse\, 915 NW Flagler Ave\, Stuart\, FL\, 34994
CATEGORIES:Weekly Running
END:VEVENT
BEGIN:VEVENT
DTSTART;TZID=America/New_York:20251105T063000
DTEND;TZID=America/New_York:20251105T083000
DTSTAMP:20260424T190456
CREATED:20250511T225810Z
LAST-MODIFIED:20260130T165133Z
UID:10002134-1762324200-1762331400@www.tcrunning.org
SUMMARY:Wed Mulligan Milers Run
DESCRIPTION:Mulligan’s Milers \n\n\nLooking for a fun\, supportive way to start your morning? Come join us! All paces are welcome — walk\, run\, or a mix of both. The goal is simply to move\, connect\, and enjoy the miles together. Fridays are for bridges!\n\n\nWhether you’re a seasoned runner or just getting started\, you’ll fit right in with our crew. We’d love to meet you and have you join us!\n\n\nBring a friend and come see what Mulligan’s Milers is all about! \n\n\nWe meet at Indian Riverside Park
URL:https://www.tcrunning.org/event/wed-mulligan-milers/2025-11-05/
LOCATION:Indian Riverside Park\, 1707 NE Indian River Dr\, Jensen Beach\, FL\, 34957
CATEGORIES:Weekly Running
END:VEVENT
BEGIN:VEVENT
DTSTART;TZID=America/New_York:20251105T180000
DTEND;TZID=America/New_York:20251105T200000
DTSTAMP:20260424T190456
CREATED:20250505T062412Z
LAST-MODIFIED:20250512T120730Z
UID:10000545-1762365600-1762372800@www.tcrunning.org
SUMMARY:Wed Crosstown – Port St. Lucie
DESCRIPTION:Location: Mako Soccer Club next to McChesney Park
URL:https://www.tcrunning.org/event/crosstown-port-st-lucie/2025-11-05/
LOCATION:McChesney Park\, Port St Lucie
CATEGORIES:Weekly Running
END:VEVENT
BEGIN:VEVENT
DTSTART;TZID=America/New_York:20251106T044500
DTEND;TZID=America/New_York:20251106T064500
DTSTAMP:20260424T190456
CREATED:20250512T122246Z
LAST-MODIFIED:20260206T195459Z
UID:10002708-1762404300-1762411500@www.tcrunning.org
SUMMARY:Thurs Dark and Early Downtown Stuart
DESCRIPTION:Pace: All Paces\nDistance: 3–6 miles \norganizer: https://www.facebook.com/frankfender
URL:https://www.tcrunning.org/event/thurs-dark-and-early-downtown-stuart/2025-11-06/
LOCATION:Stuart City Hall\, 121 SW Flagler Ave\, Stuart\, FL\, 34994\, United States
CATEGORIES:Weekly Running
END:VEVENT
BEGIN:VEVENT
DTSTART;TZID=America/New_York:20251106T063000
DTEND;TZID=America/New_York:20251106T083000
DTSTAMP:20260424T190456
CREATED:20250511T220528Z
LAST-MODIFIED:20250511T220529Z
UID:10001862-1762410600-1762417800@www.tcrunning.org
SUMMARY:Thr Googan Coffee Run
DESCRIPTION:Pace: Walk/Run\nDistance: 5-Mile Loop
URL:https://www.tcrunning.org/event/googan-coffee-run-3/2025-11-06/
LOCATION:1917 SW Federal Hwy\, 1917 SW Federal Hwy\, Stuart\, FL\, 34994\, United States
CATEGORIES:Weekly Running
END:VEVENT
BEGIN:VEVENT
DTSTART;TZID=America/New_York:20251106T174500
DTEND;TZID=America/New_York:20251106T190000
DTSTAMP:20260424T190456
CREATED:20250511T212831Z
LAST-MODIFIED:20260206T194159Z
UID:10001561-1762451100-1762455600@www.tcrunning.org
SUMMARY:Thr Jogging with the Doctor
DESCRIPTION:Pace: All Paces\nDistance: All Distances\nLocation: Tradition Square \n 
URL:https://www.tcrunning.org/event/jogging-with-the-doctor-2/2025-11-06/
LOCATION:Tradition Square\, Tradition Square\, Port St. Lucie\, FL\, 34987\, United States
CATEGORIES:Weekly Running
END:VEVENT
BEGIN:VEVENT
DTSTART;TZID=America/New_York:20251107T054500
DTEND;TZID=America/New_York:20251107T070000
DTSTAMP:20260424T190456
CREATED:20250511T230113Z
LAST-MODIFIED:20250513T194434Z
UID:10003006-1762494300-1762498800@www.tcrunning.org
SUMMARY:Fri World's Okayest Runners
DESCRIPTION:Friday Mornings. Meetup at 5:45am. Start at 6am. \nRotating start locations at local coffee shops to support local businesses. \nContact Haley McCartney on Facebook
URL:https://www.tcrunning.org/event/fri-worlds-okayest-runners/2025-11-07/
CATEGORIES:Weekly Running
END:VEVENT
BEGIN:VEVENT
DTSTART;TZID=America/New_York:20251107T063000
DTEND;TZID=America/New_York:20251107T073000
DTSTAMP:20260424T190456
CREATED:20250910T124816Z
LAST-MODIFIED:20260227T203053Z
UID:10003274-1762497000-1762500600@www.tcrunning.org
SUMMARY:Mulligan's Milers Bridge Break Friday
DESCRIPTION:Mulligans Milers of Jensen Beach meets at the waterfront parking lot near Fredgie’s Food truck and walk or run (all paces welcome) over the Jensen Beach causeway bridge and back for a 5K every Friday. \nFredgie’s address: 3251 N. E. Indian River Drive. (On the river)\, Jensen Beach\, FL\, United States\, Florida \nHost:\nhttps://www.facebook.com/groups/369410335884239
URL:https://www.tcrunning.org/event/bridge-break-friday/2025-11-07/
LOCATION:3251 N. E. Indian River Drive.\, Jensen Beach\, FL\, United States\, Florida
CATEGORIES:Weekly Running
END:VEVENT
BEGIN:VEVENT
DTSTART;TZID=America/New_York:20251108T070000
DTEND;TZID=America/New_York:20251108T110000
DTSTAMP:20260424T190456
CREATED:20251006T131433Z
LAST-MODIFIED:20251006T131533Z
UID:10003541-1762585200-1762599600@www.tcrunning.org
SUMMARY:Veterans Memorial Bridge 5K
DESCRIPTION:Join the Palm City Chamber of Commerce\, local veterans and dignitaries at Jock Leighton Park for a fun run up and over the Veterans Memorial Bridge east and west bound.  There will be a short run through the park before the bridge to achieve the correct distance.  Eastbound course will be in the bike lane and the westbound is on the sidewalk for safety.  This annual event gives a portion of the proceeds to Southeast Florida Honor Flight. \nJock Leighton Park\n3755 SW Mapp Rd\nPalm City\, FL US 34990\n\n\n\n\nRace Contact Info\nIf you have any questions about this race\, please contact the race director at christiana@palmcitychamber.com
URL:https://www.tcrunning.org/event/veterans-memorial-bridge-5k/
CATEGORIES:Non Race Series Races
ATTACH;FMTTYPE=image/jpeg:https://www.tcrunning.org/wp-content/uploads/2025/10/https-runsignup.comRaceFLPalmCityVeteransMemorialBridge5K.jpg
END:VEVENT
BEGIN:VEVENT
DTSTART;TZID=America/New_York:20251108T073000
DTEND;TZID=America/New_York:20251108T220000
DTSTAMP:20260424T190456
CREATED:20250910T133148Z
LAST-MODIFIED:20250910T133346Z
UID:10003527-1762587000-1762639200@www.tcrunning.org
SUMMARY:2nd Annual Outrun Hunger 5K
DESCRIPTION:2nd Annual Outrun Hunger 5K \nJoin us for the 2nd Annual Outrun Hunger 5K Fun Run/Walk\, an exciting race through the Florida State Fairgrounds!  This exciting event\, organized by Hillsborough County Farm Bureau serves as the perfect kickoff to the highly anticipated Farm City Week\, while benefiting Feeding Tampa Bay! \nJoin us at the finish line for Fresh from Florida samples including Strawberry Shortcake\, Florida Milk\, Watermelon slices and Steak Bites as well as stations highlighting agriculture in Hillsborough County.  \nFarm City week is an annual celebration that promotes and highlights the vital connection between rural farms and urban consumers. The event aims to bridge the gap between these two groups and educate urban residents about the importance of agriculture and its impact on their daily lives. \nThe Outrun Hunger 5K aims to raise awareness not only about agriculture in our county\, but also food insecurity that is prevalent in our community and highlight the crucial role that agriculture plays in ensuring food provisions for all. By actively participating and supporting this event\, you will contribute towards supporting Feeding Tampa Bay’s mission of eradicating hunger and Farm Bureau’s mission of promoting agriculture education. \nThe race route will take you through the Florida State Fairgrounds\, highlighting Florida agriculture industry. You’ll find yourself surrounded by a vibrant atmosphere\, as fellow participants\, volunteers\, and supporters unite to tackle the issue of food insecurity head-on. Whether you’re a seasoned runner or a casual walker\, this event welcomes participants of all skill levels to join a community-wide movement towards hunger eradication. \nNot only will the Outrun Hunger 5K be an empowering experience for runners and walkers\, but it will also provide invaluable opportunities for education. Throughout the event\, experts in agriculture will be on hand to engage with participants\, offering insights into the significant impact of farming practices on our local food systems. By fostering this connection between agriculture and our community\, we hope to promote a sustainable and prosperous future for all. \nJoin us for the 2nd Annual Outrun Hunger 5K on November 8\, 2025 and become part of the movement to alleviate food insecurity in Hillsborough County. By lacing up your running shoes\, you will not only achieve personal fitness goals but also make a lasting difference in the lives of those affected by hunger. Together\, let’s OUTRUN HUNGER and cultivate a brighter future for our community! \nPRICING\n5K\n$30 through 10/14\n$35 from 10/15 through 11/7\n$40 race morning \nFun Run\n$15 through 11/7\n$20 race morning \n5K Virtual\n$35 \nPACKET PICKUP\nFriday November 7 TBD\nRace day 6:15 a.m. – 7:20 a.m. \nRACE SCHEDULE\n5k – 7:30 a.m.\nFun Run – 8:30 a.m. (be prepared to run no later than 8:20 a.m.)\nAwards – 9:45 a.m. \nAWARDS\nTop 3 male and female\nOverall male and female in the following age groups\n9 and under\, 10-14\, 15-19\, 20-29\, 30-39\, 40-49\, 50-59 and 60 and over \nRunners that place will receive a Fresh from Florida Watermelon as pictured below! \nRunners will also receive access to FREE race photos courtsey of our sponsor\, Berry Sweet Memories!  \nThere are no refunds for this event
URL:https://www.tcrunning.org/event/2nd-annual-outrun-hunger-5k/
LOCATION:Florida State Fairgrounds
CATEGORIES:Non Race Series Races
ATTACH;FMTTYPE=image/png:https://www.tcrunning.org/wp-content/uploads/2025/09/Outrun-hunger.png
END:VEVENT
BEGIN:VEVENT
DTSTART;TZID=America/New_York:20251109T054500
DTEND;TZID=America/New_York:20251109T083000
DTSTAMP:20260424T190456
CREATED:20250511T220807Z
LAST-MODIFIED:20250512T115935Z
UID:10001930-1762667100-1762677000@www.tcrunning.org
SUMMARY:Sun Googan Long Run
DESCRIPTION:Pace: Walk/Run\nDistance: Any
URL:https://www.tcrunning.org/event/sun-googan-long-run/2025-11-09/
LOCATION:Downtown Stuart\, 47 SW Osceola\, Stuart\, FL\, United States
CATEGORIES:Weekly Running
END:VEVENT
BEGIN:VEVENT
DTSTART;TZID=America/New_York:20251109T080000
DTEND;TZID=America/New_York:20251109T100000
DTSTAMP:20260424T190457
CREATED:20250505T070949Z
LAST-MODIFIED:20250511T220106Z
UID:10000980-1762675200-1762682400@www.tcrunning.org
SUMMARY:Sun Crosstown – Port St. Lucie
DESCRIPTION:Pace: Walk/Run\nDistance: All Distances\nLocation: Submarine Veterans Park (Floresta & Crosstown)
URL:https://www.tcrunning.org/event/crosstown-port-st-lucie-2/2025-11-09/
LOCATION:Submarine Veterans Park\, SE Floresta Dr & SE Crosstown Pkwy\, Port St. Lucie\, FL\, 34983\, United States
CATEGORIES:Weekly Running
END:VEVENT
BEGIN:VEVENT
DTSTART;TZID=America/New_York:20251110T183000
DTEND;TZID=America/New_York:20251110T203000
DTSTAMP:20260424T190457
CREATED:20250503T200834Z
LAST-MODIFIED:20260206T195127Z
UID:10000303-1762799400-1762806600@www.tcrunning.org
SUMMARY:Mon Old Skool Run Group – Stuart
DESCRIPTION:Pace: Mid to low 7’s
URL:https://www.tcrunning.org/event/old-skool-group-stuart/2025-11-10/
LOCATION:Pete Weiler’s Office\, 515 SW Camden Ave\, Stuart\, FL\, 34994\, United States
CATEGORIES:Weekly Running
ORGANIZER;CN="Mike Melton":MAILTO:mcmelton57@gmail.com
END:VEVENT
BEGIN:VEVENT
DTSTART;TZID=America/New_York:20251110T183000
DTEND;TZID=America/New_York:20251110T203000
DTSTAMP:20260424T190457
CREATED:20250511T223119Z
LAST-MODIFIED:20260206T194736Z
UID:10002536-1762799400-1762806600@www.tcrunning.org
SUMMARY:Mon Fleet Feet – Tradition
DESCRIPTION:
URL:https://www.tcrunning.org/event/fleet-feet-stuart-2/2025-11-10/
LOCATION:Tradition Fleet Feet\, 11586 SW Village Pkwy\, Port St. Lucie\, FL\, 34987
CATEGORIES:Weekly Running
END:VEVENT
BEGIN:VEVENT
DTSTART;TZID=America/New_York:20251110T190000
DTEND;TZID=America/New_York:20251110T210000
DTSTAMP:20260424T190457
CREATED:20251007T173134Z
LAST-MODIFIED:20251007T174220Z
UID:10003543-1762801200-1762808400@www.tcrunning.org
SUMMARY:Tropical Trekkers Monthly Meeting: Guest Speaker Deanna Doane
DESCRIPTION:Guest Speaker Deanna Doane – Fastest Known Time on the Florida Trail \nThe Tropical Trekkers are the local chapter of the Florida Trail Association\, dedicated to maintaining and preserving the Florida National Scenic Trail. We invite you to get involved — join\, volunteer\, or attend one of our many upcoming events. \nJoin us for the next Tropical Trekkers Monthly Meeting to learn more about our initiatives and connect with fellow outdoor enthusiasts. \nUpcoming Event for Runners & Outdoor Enthusiasts📅 Monday\, November 10\, 2025🕖 7:00 PM📍 Palm City \nJoin us for our next Monthly Meeting featuring Deanna Doane\, an accomplished endurance athlete and trail adventurer. Deanna will share her inspiring story of setting the Fastest Known Time (FKT) on the Florida Trail — a journey of determination\, resilience\, and connection to Florida’s wild beauty. \nWhether you love running\, hiking\, or exploring the outdoors\, this is an event you won’t want to miss! \nExplore more about us here:🌿 Florida Trail Association Chapters🥾 Tropical Trekkers Meetup Group \nPalm City Recreation Center\n2701 SW Cornell Ave · Palm City\, FL
URL:https://www.tcrunning.org/event/tropical-trekkers-monthly-meeting-guest-speaker-deanna-doane-fastest-known-time-on-the-florida-trail/
CATEGORIES:Non Race Series Races
ATTACH;FMTTYPE=image/png:https://www.tcrunning.org/wp-content/uploads/2025/10/cropped-FTA_Logo_Square_RGB-e1690290905205-256x300-1.png
END:VEVENT
BEGIN:VEVENT
DTSTART;TZID=America/New_York:20251111T044500
DTEND;TZID=America/New_York:20251111T064500
DTSTAMP:20260424T190457
CREATED:20250503T203526Z
LAST-MODIFIED:20250511T232120Z
UID:10002433-1762836300-1762843500@www.tcrunning.org
SUMMARY:Tue Dark and Early Southside
DESCRIPTION:Pace: 7:30–8:30 min/mile
URL:https://www.tcrunning.org/event/tcr-downtown-stuart/2025-11-11/
LOCATION:Peace Presbyterian Church\, 4881 SE Cove Rd\, Stuart\, FL\, 34997\, United States
CATEGORIES:Weekly Running
END:VEVENT
BEGIN:VEVENT
DTSTART;TZID=America/New_York:20251111T044500
DTEND;TZID=America/New_York:20251111T064500
DTSTAMP:20260424T190457
CREATED:20250505T045445Z
LAST-MODIFIED:20260206T195648Z
UID:10002495-1762836300-1762843500@www.tcrunning.org
SUMMARY:Tues Dark and Early Downtown Stuart
DESCRIPTION:Pace: All Paces\nDistance: 3–6 miles \nOrganizer: https://www.facebook.com/frankfender
URL:https://www.tcrunning.org/event/treasure-coast-runners-downtown-stuart/2025-11-11/
LOCATION:Stuart City Hall\, 121 SW Flagler Ave\, Stuart\, FL\, 34994\, United States
CATEGORIES:Weekly Running
END:VEVENT
BEGIN:VEVENT
DTSTART;TZID=America/New_York:20251111T050000
DTEND;TZID=America/New_York:20251111T063000
DTSTAMP:20260424T190457
CREATED:20250503T203842Z
LAST-MODIFIED:20250511T232332Z
UID:10000476-1762837200-1762842600@www.tcrunning.org
SUMMARY:Tuesday Running Crew
DESCRIPTION:By the Post Office in the Old Palm City Shopping Plaza (1395 SW Martin Hwy)
URL:https://www.tcrunning.org/event/hobe-sound-runners/2025-11-11/
LOCATION:Publix – Palm City\, 1395 SW Martin Hwy\, Palm City\, FL\, 34990\, United States
CATEGORIES:Weekly Running
END:VEVENT
BEGIN:VEVENT
DTSTART;TZID=America/New_York:20251111T061500
DTEND;TZID=America/New_York:20251111T083000
DTSTAMP:20260424T190457
CREATED:20250511T221226Z
LAST-MODIFIED:20260206T195858Z
UID:10002638-1762841700-1762849800@www.tcrunning.org
SUMMARY:Tue 10th St. Track
DESCRIPTION:Pace: Walk/Run\nDistance: Any\nParking east of Guy Davis Field off of 10th Street.
URL:https://www.tcrunning.org/event/tue-10th-st-track/2025-11-11/
LOCATION:10th St. Track\, Russell Holloway Jr. Track\, Stuart\, FL
CATEGORIES:Weekly Running
END:VEVENT
BEGIN:VEVENT
DTSTART;TZID=America/New_York:20251111T174500
DTEND;TZID=America/New_York:20251111T190000
DTSTAMP:20260424T190457
CREATED:20250503T204616Z
LAST-MODIFIED:20260206T194342Z
UID:10001283-1762883100-1762887600@www.tcrunning.org
SUMMARY:Tue Jogging with the Doctor
DESCRIPTION:Pace: All Paces\nDistance: All Distances\nLocation: Tradition Square
URL:https://www.tcrunning.org/event/jogging-with-the-doctor/2025-11-11/
LOCATION:Tradition Square\, Tradition Square\, Port St. Lucie\, FL\, 34987\, United States
CATEGORIES:Weekly Running
END:VEVENT
BEGIN:VEVENT
DTSTART;TZID=America/New_York:20251111T180000
DTEND;TZID=America/New_York:20251111T193000
DTSTAMP:20260424T190457
CREATED:20250503T205022Z
LAST-MODIFIED:20260206T201124Z
UID:10001603-1762884000-1762889400@www.tcrunning.org
SUMMARY:Tue Sailfish Brewery – Fort Pierce
DESCRIPTION:Looking for motivation\, community\, and a great way to break up the week? This is it.  Join our Run Club every Tuesday at 6PM for an energizing group run filled with good vibes\, strong strides\, and even better people.\n\n\n\nAll paces are welcome — whether you’re a seasoned runner\, just getting started\, or somewhere in between. Come move your body\, challenge yourself\, and have fun doing it. \n\n\n\nAnd the best part? Stick around after the run to grab a drink and enjoy some delicious food.  You’ve earned it.\n\n\nNo pressure. No egos. Just movement\, community\, and a great post-run hang.\n\n Lace up\, bring a friend\, and come join the run — every Tuesday at 6PM!
URL:https://www.tcrunning.org/event/sailfish-brewery-fort-pierce/2025-11-11/
LOCATION:Sailfish Brewery\, 130 N 2nd St\, Fort Pierce\, FL\, 34950\, United States
CATEGORIES:Weekly Running
END:VEVENT
BEGIN:VEVENT
DTSTART;TZID=America/New_York:20251111T183000
DTEND;TZID=America/New_York:20251111T203000
DTSTAMP:20260424T190457
CREATED:20250511T223517Z
LAST-MODIFIED:20260206T194830Z
UID:10002030-1762885800-1762893000@www.tcrunning.org
SUMMARY:Tue Fleet Feet – Tidehouse
DESCRIPTION:
URL:https://www.tcrunning.org/event/tue-fleet-feet-tidehouse/2025-11-11/
LOCATION:Tidehouse\, 915 NW Flagler Ave\, Stuart\, FL\, 34994
CATEGORIES:Weekly Running
END:VEVENT
BEGIN:VEVENT
DTSTART;TZID=America/New_York:20251112T063000
DTEND;TZID=America/New_York:20251112T083000
DTSTAMP:20260424T190457
CREATED:20250511T225810Z
LAST-MODIFIED:20260130T165133Z
UID:10002135-1762929000-1762936200@www.tcrunning.org
SUMMARY:Wed Mulligan Milers Run
DESCRIPTION:Mulligan’s Milers \n\n\nLooking for a fun\, supportive way to start your morning? Come join us! All paces are welcome — walk\, run\, or a mix of both. The goal is simply to move\, connect\, and enjoy the miles together. Fridays are for bridges!\n\n\nWhether you’re a seasoned runner or just getting started\, you’ll fit right in with our crew. We’d love to meet you and have you join us!\n\n\nBring a friend and come see what Mulligan’s Milers is all about! \n\n\nWe meet at Indian Riverside Park
URL:https://www.tcrunning.org/event/wed-mulligan-milers/2025-11-12/
LOCATION:Indian Riverside Park\, 1707 NE Indian River Dr\, Jensen Beach\, FL\, 34957
CATEGORIES:Weekly Running
END:VEVENT
BEGIN:VEVENT
DTSTART;TZID=America/New_York:20251112T180000
DTEND;TZID=America/New_York:20251112T200000
DTSTAMP:20260424T190457
CREATED:20250505T062412Z
LAST-MODIFIED:20250512T120730Z
UID:10000546-1762970400-1762977600@www.tcrunning.org
SUMMARY:Wed Crosstown – Port St. Lucie
DESCRIPTION:Location: Mako Soccer Club next to McChesney Park
URL:https://www.tcrunning.org/event/crosstown-port-st-lucie/2025-11-12/
LOCATION:McChesney Park\, Port St Lucie
CATEGORIES:Weekly Running
END:VEVENT
BEGIN:VEVENT
DTSTART;TZID=America/New_York:20251113T044500
DTEND;TZID=America/New_York:20251113T064500
DTSTAMP:20260424T190457
CREATED:20250512T122246Z
LAST-MODIFIED:20260206T195459Z
UID:10002709-1763009100-1763016300@www.tcrunning.org
SUMMARY:Thurs Dark and Early Downtown Stuart
DESCRIPTION:Pace: All Paces\nDistance: 3–6 miles \norganizer: https://www.facebook.com/frankfender
URL:https://www.tcrunning.org/event/thurs-dark-and-early-downtown-stuart/2025-11-13/
LOCATION:Stuart City Hall\, 121 SW Flagler Ave\, Stuart\, FL\, 34994\, United States
CATEGORIES:Weekly Running
END:VEVENT
BEGIN:VEVENT
DTSTART;TZID=America/New_York:20251113T063000
DTEND;TZID=America/New_York:20251113T083000
DTSTAMP:20260424T190457
CREATED:20250511T220528Z
LAST-MODIFIED:20250511T220529Z
UID:10001863-1763015400-1763022600@www.tcrunning.org
SUMMARY:Thr Googan Coffee Run
DESCRIPTION:Pace: Walk/Run\nDistance: 5-Mile Loop
URL:https://www.tcrunning.org/event/googan-coffee-run-3/2025-11-13/
LOCATION:1917 SW Federal Hwy\, 1917 SW Federal Hwy\, Stuart\, FL\, 34994\, United States
CATEGORIES:Weekly Running
END:VEVENT
BEGIN:VEVENT
DTSTART;TZID=America/New_York:20251113T174500
DTEND;TZID=America/New_York:20251113T190000
DTSTAMP:20260424T190457
CREATED:20250511T212831Z
LAST-MODIFIED:20260206T194159Z
UID:10001563-1763055900-1763060400@www.tcrunning.org
SUMMARY:Thr Jogging with the Doctor
DESCRIPTION:Pace: All Paces\nDistance: All Distances\nLocation: Tradition Square \n 
URL:https://www.tcrunning.org/event/jogging-with-the-doctor-2/2025-11-13/
LOCATION:Tradition Square\, Tradition Square\, Port St. Lucie\, FL\, 34987\, United States
CATEGORIES:Weekly Running
END:VEVENT
BEGIN:VEVENT
DTSTART;TZID=America/New_York:20251114T054500
DTEND;TZID=America/New_York:20251114T070000
DTSTAMP:20260424T190457
CREATED:20250511T230113Z
LAST-MODIFIED:20250513T194434Z
UID:10003007-1763099100-1763103600@www.tcrunning.org
SUMMARY:Fri World's Okayest Runners
DESCRIPTION:Friday Mornings. Meetup at 5:45am. Start at 6am. \nRotating start locations at local coffee shops to support local businesses. \nContact Haley McCartney on Facebook
URL:https://www.tcrunning.org/event/fri-worlds-okayest-runners/2025-11-14/
CATEGORIES:Weekly Running
END:VEVENT
BEGIN:VEVENT
DTSTART;TZID=America/New_York:20251114T063000
DTEND;TZID=America/New_York:20251114T073000
DTSTAMP:20260424T190457
CREATED:20250910T124816Z
LAST-MODIFIED:20260227T203053Z
UID:10003275-1763101800-1763105400@www.tcrunning.org
SUMMARY:Mulligan's Milers Bridge Break Friday
DESCRIPTION:Mulligans Milers of Jensen Beach meets at the waterfront parking lot near Fredgie’s Food truck and walk or run (all paces welcome) over the Jensen Beach causeway bridge and back for a 5K every Friday. \nFredgie’s address: 3251 N. E. Indian River Drive. (On the river)\, Jensen Beach\, FL\, United States\, Florida \nHost:\nhttps://www.facebook.com/groups/369410335884239
URL:https://www.tcrunning.org/event/bridge-break-friday/2025-11-14/
LOCATION:3251 N. E. Indian River Drive.\, Jensen Beach\, FL\, United States\, Florida
CATEGORIES:Weekly Running
END:VEVENT
END:VCALENDAR