BEGIN:VCALENDAR
VERSION:2.0
PRODID:-//Treasure Coast Running - ECPv6.15.20//NONSGML v1.0//EN
CALSCALE:GREGORIAN
METHOD:PUBLISH
X-ORIGINAL-URL:https://www.tcrunning.org
X-WR-CALDESC:Events for Treasure Coast Running
REFRESH-INTERVAL;VALUE=DURATION:PT1H
X-Robots-Tag:noindex
X-PUBLISHED-TTL:PT1H
BEGIN:VTIMEZONE
TZID:America/New_York
BEGIN:DAYLIGHT
TZOFFSETFROM:-0500
TZOFFSETTO:-0400
TZNAME:EDT
DTSTART:20250309T070000
END:DAYLIGHT
BEGIN:STANDARD
TZOFFSETFROM:-0400
TZOFFSETTO:-0500
TZNAME:EST
DTSTART:20251102T060000
END:STANDARD
BEGIN:DAYLIGHT
TZOFFSETFROM:-0500
TZOFFSETTO:-0400
TZNAME:EDT
DTSTART:20260308T070000
END:DAYLIGHT
BEGIN:STANDARD
TZOFFSETFROM:-0400
TZOFFSETTO:-0500
TZNAME:EST
DTSTART:20261101T060000
END:STANDARD
BEGIN:DAYLIGHT
TZOFFSETFROM:-0500
TZOFFSETTO:-0400
TZNAME:EDT
DTSTART:20270314T070000
END:DAYLIGHT
BEGIN:STANDARD
TZOFFSETFROM:-0400
TZOFFSETTO:-0500
TZNAME:EST
DTSTART:20271107T060000
END:STANDARD
END:VTIMEZONE
BEGIN:VEVENT
DTSTART;TZID=America/New_York:20260123T054500
DTEND;TZID=America/New_York:20260123T070000
DTSTAMP:20260426T001058
CREATED:20250511T230113Z
LAST-MODIFIED:20250513T194434Z
UID:10003017-1769147100-1769151600@www.tcrunning.org
SUMMARY:Fri World's Okayest Runners
DESCRIPTION:Friday Mornings. Meetup at 5:45am. Start at 6am. \nRotating start locations at local coffee shops to support local businesses. \nContact Haley McCartney on Facebook
URL:https://www.tcrunning.org/event/fri-worlds-okayest-runners/2026-01-23/
CATEGORIES:Weekly Running
END:VEVENT
BEGIN:VEVENT
DTSTART;TZID=America/New_York:20260123T063000
DTEND;TZID=America/New_York:20260123T073000
DTSTAMP:20260426T001058
CREATED:20250910T124816Z
LAST-MODIFIED:20260227T203053Z
UID:10003285-1769149800-1769153400@www.tcrunning.org
SUMMARY:Mulligan's Milers Bridge Break Friday
DESCRIPTION:Mulligans Milers of Jensen Beach meets at the waterfront parking lot near Fredgie’s Food truck and walk or run (all paces welcome) over the Jensen Beach causeway bridge and back for a 5K every Friday. \nFredgie’s address: 3251 N. E. Indian River Drive. (On the river)\, Jensen Beach\, FL\, United States\, Florida \nHost:\nhttps://www.facebook.com/groups/369410335884239
URL:https://www.tcrunning.org/event/bridge-break-friday/2026-01-23/
LOCATION:3251 N. E. Indian River Drive.\, Jensen Beach\, FL\, United States\, Florida
CATEGORIES:Weekly Running
END:VEVENT
BEGIN:VEVENT
DTSTART;TZID=America/New_York:20260124T064500
DTEND;TZID=America/New_York:20260124T083000
DTSTAMP:20260426T001058
CREATED:20251216T131919Z
LAST-MODIFIED:20251216T132851Z
UID:10003564-1769237100-1769243400@www.tcrunning.org
SUMMARY:Sat Hobe Sound Run Club
DESCRIPTION:Hobe Sound Run Club \nGroup Run: Saturday mornings @ Hobe Sound Social & Coffee\n11844 SE Dixie Hwy ste a\,\nHobe Sound\, FL 33455 \nMeetup at 6:45 am. Run starts at 7:00 am. \n3-mile route to the beach and back. Longer route options available. \nContact Hobe Sound Run Club on Facebook or Instagram (IG: @hobesoundruns)
URL:https://www.tcrunning.org/event/sat-hobe-sound-run-club/2026-01-24/
LOCATION:Hobe Sound Social & Coffee\, 11844 SE Dixie Hwy Suite A\, Hobe Sound\, FL\, 33455
CATEGORIES:Weekly Running
ORGANIZER;CN="Meredith Wilcox":MAILTO:meredith.wilcox@yahoo.com
END:VEVENT
BEGIN:VEVENT
DTSTART;TZID=America/New_York:20260124T075000
DTEND;TZID=America/New_York:20260124T110000
DTSTAMP:20260426T001058
CREATED:20260107T172137Z
LAST-MODIFIED:20260107T172330Z
UID:10004611-1769241000-1769252400@www.tcrunning.org
SUMMARY:Run to Row 5k
DESCRIPTION:SATURDAY\, JANUARY 24\, 2026 \n7:50AM    Kids Fun Run 8:00AM    5K Run/Walk \nhttps://www.treasurecoastrowing.com/register \n14th Annual Run 2 Row 5K \nThe 14th Annual Run 2 Row is going to be held at Jock Leighton Park in Palm City. This year’s event will feature a fun 80s theme\, inviting participants to dress in their best retro gear while enjoying a scenic 5K run/walk. Get ready to race\, reminisce\, and support the Treasure Coast Rowing Club youth program! \n\n\nAbout Treasure Coast Rowing Club \nTCRC cultivates the sport of rowing by providing adults and youth of all abilities opportunities for personal growth\, physical fitness\, and camaraderie through competitive and recreational rowing.At Treasure Coast Rowing Club\, our promise is to help every athlete unlock their full potential—on and off the water.​Whether you’re a junior chasing a college scholarship\, a novice learning the basics\, or a master aiming for the podium\, we’re here to guide\, challenge\, and support you every step of the way. No shortcuts.
URL:https://www.tcrunning.org/event/run-to-row-5k/
CATEGORIES:Non Race Series Races
ATTACH;FMTTYPE=image/png:https://www.tcrunning.org/wp-content/uploads/2026/01/run2row-1.png
END:VEVENT
BEGIN:VEVENT
DTSTART;TZID=America/New_York:20260124T140000
DTEND;TZID=America/New_York:20260124T170000
DTSTAMP:20260426T001058
CREATED:20251009T134240Z
LAST-MODIFIED:20260204T134753Z
UID:10003544-1769263200-1769274000@www.tcrunning.org
SUMMARY:2nd Annual 10th Street Track Out
DESCRIPTION:Community Comes Together for a Successful 2nd Annual 10th Street Track Out in Stuart\nThe Treasure Coast running community came together on Saturday\, January 24\, for the 2nd Annual 10th Street Track Out\, a celebration of youth\, fitness\, and community held at the newly resurfaced Russell Holloway Jr Track at the Guy Davis Sports Complex. \nHosted by Treasure Coast Running\, the event took place from 2:00 to 5:00 PM on a picture-perfect sunny afternoon and welcomed runners\, families\, volunteers\, and spectators from across the area. Participants of all ages took to the track\, enjoying a wide range of events designed to be inclusive\, fun\, and competitive. \n			\n			\n				\n				\n				\n				\n				\n				\n				\n				\n				\n				\n			\n			\n				\n				\n				\n				\n			\n				\n				\n				\n				\n				\n				\n				\n				\n				\n				\n				Thank You to Our Event Sponsors\nThe success of the 2nd Annual 10th Street Track Out would not have been possible without the generous support of local sponsors who share a commitment to health\, wellness\, and community involvement: \n\nMilers Running Club & Camps\nPrecision Chiropractic & Rehab\nStuart Center for Couples and Families\nFleet Feet\nMcCarthy-Summers\nZweben Law\nMcDonald & Schumm\nSapp’s Barber Shop\n\nTheir support helped create a memorable event that continues to grow each year. \nLooking Ahead to Year Three\nWith two successful Track Outs now complete\, planning is already underway for the 3rd Annual 10th Street Track Out. Treasure Coast Running looks forward to building on this momentum and continuing to provide events that bring people together\, encourage youth participation\, and strengthen the region’s active community. \nWe invite everyone to celebrate what our vibrant running community has achieved together and to stay tuned for details on next year’s event. \n			\n			\n				\n				\n				\n				\n			\n				\n				\n				\n				\n				\n				\n				\n				\n				\n				\n				\n			\n			\n				\n				\n				\n				\n				\n				\n				\n				\n				\n				\n			\n			\n				\n				\n				\n				\n			\n				\n				\n				\n				\n				\n				\n				\n				\n				\n				\n				\n			\n			\n				\n				\n				\n				\n			\n				\n				\n				\n				\n				\n				\n				\n				\n				\n				\n				\n			\n			\n				\n				\n				\n				\n			\n				\n				\n				\n				\n				\n				\n				\n				\n				\n				\n				The flat fee of $30 ($40 after Jan 1) allows runners to choose up to 4 events. \nThe 50m dash will be a free event (for ages 10 and under and 60+ only please).Signup is at the track on race day. \nRelay teams will be signed in/verified at the track on race day. Teams must meet age groupings set by race director. Each relay race counts as an individual event in the ‘choose 4 flat fee’ format. Team members – sign up individually online and verify team assignment on race day. \nSign up now: https://www.milesplit.com/meets/719936-10th-street-track-meet-2026-2026 \n			\n			\n				\n				\n				\n				\n			\n				\n				\n				\n				\n				\n				\n				\n				\n				\n				\n				Our inaugural 10th Street Track Out in January 2025 raised money to help improve the track and the City of Stuart hired a contractor to fully re-surface the track. Come out and celebrate our newly resurfaced Russell Holloway Jr. Track!  \n			\n			\n				\n				\n				\n				\n			\n				\n				\n				\n				\n				\n				\n			\n				\n				\n				\n				\n				\n				\n				\n				\n				\n				\n			\n			[/et_pb_column]
URL:https://www.tcrunning.org/event/2nd-annual-10th-street-track-out/
LOCATION:724 SE 10th Street Russell Holloway Jr Track\, Guy Davis Field Stuart\, FL US 34994
CATEGORIES:2025 TCR Race Series,Non Race Series Races
ATTACH;FMTTYPE=image/jpeg:https://www.tcrunning.org/wp-content/uploads/2025/10/genericImage-websiteLogo-234328-1721753037.6155-0.bMN93n.jpg
END:VEVENT
BEGIN:VEVENT
DTSTART;TZID=America/New_York:20260125T054500
DTEND;TZID=America/New_York:20260125T070000
DTSTAMP:20260426T001059
CREATED:20260122T180028Z
LAST-MODIFIED:20260206T194604Z
UID:10007331-1769319900-1769324400@www.tcrunning.org
SUMMARY:Sun Googan Running Club Long Run
DESCRIPTION:Googan Running Club \nSunday long run at the The Googan Coffee Shop downtown Stuart location. We start 6AM and have a beautiful 10ish mile route to Stuart Beach and Back. \n5:45am Meet\n\n6AM – Start\n\nThe Googan Coffee Shop – Downtown\n55 SW Flagler Ave\, Stuart\, FL 34994
URL:https://www.tcrunning.org/event/sun-googan-running-club-long-run/2026-01-25/
LOCATION:Googan Coffee Shop Downtown\, 55 SW Flagler Ave\, Stuart\, FL
CATEGORIES:Weekly Running
END:VEVENT
BEGIN:VEVENT
DTSTART;TZID=America/New_York:20260126T183000
DTEND;TZID=America/New_York:20260126T203000
DTSTAMP:20260426T001059
CREATED:20250503T200834Z
LAST-MODIFIED:20260206T195127Z
UID:10008129-1769452200-1769459400@www.tcrunning.org
SUMMARY:Mon Old Skool Run Group – Stuart
DESCRIPTION:Pace: Mid to low 7’s
URL:https://www.tcrunning.org/event/old-skool-group-stuart/2026-01-26/
LOCATION:Pete Weiler’s Office\, 515 SW Camden Ave\, Stuart\, FL\, 34994\, United States
CATEGORIES:Weekly Running
ORGANIZER;CN="Mike Melton":MAILTO:mcmelton57@gmail.com
END:VEVENT
BEGIN:VEVENT
DTSTART;TZID=America/New_York:20260126T183000
DTEND;TZID=America/New_York:20260126T203000
DTSTAMP:20260426T001059
CREATED:20250511T223119Z
LAST-MODIFIED:20260206T194736Z
UID:10007597-1769452200-1769459400@www.tcrunning.org
SUMMARY:Mon Fleet Feet – Tradition
DESCRIPTION:
URL:https://www.tcrunning.org/event/fleet-feet-stuart-2/2026-01-26/
LOCATION:Tradition Fleet Feet\, 11586 SW Village Pkwy\, Port St. Lucie\, FL\, 34987
CATEGORIES:Weekly Running
END:VEVENT
BEGIN:VEVENT
DTSTART;TZID=America/New_York:20260127T044500
DTEND;TZID=America/New_York:20260127T064500
DTSTAMP:20260426T001059
CREATED:20250505T045445Z
LAST-MODIFIED:20260206T195648Z
UID:10008662-1769489100-1769496300@www.tcrunning.org
SUMMARY:Tues Dark and Early Downtown Stuart
DESCRIPTION:Pace: All Paces\nDistance: 3–6 miles \nOrganizer: https://www.facebook.com/frankfender
URL:https://www.tcrunning.org/event/treasure-coast-runners-downtown-stuart/2026-01-27/
LOCATION:Stuart City Hall\, 121 SW Flagler Ave\, Stuart\, FL\, 34994\, United States
CATEGORIES:Weekly Running
END:VEVENT
BEGIN:VEVENT
DTSTART;TZID=America/New_York:20260127T061500
DTEND;TZID=America/New_York:20260127T083000
DTSTAMP:20260426T001059
CREATED:20250511T221226Z
LAST-MODIFIED:20260206T195858Z
UID:10008928-1769494500-1769502600@www.tcrunning.org
SUMMARY:Tue 10th St. Track
DESCRIPTION:Pace: Walk/Run\nDistance: Any\nParking east of Guy Davis Field off of 10th Street.
URL:https://www.tcrunning.org/event/tue-10th-st-track/2026-01-27/
LOCATION:10th St. Track\, Russell Holloway Jr. Track\, Stuart\, FL
CATEGORIES:Weekly Running
END:VEVENT
BEGIN:VEVENT
DTSTART;TZID=America/New_York:20260127T061500
DTEND;TZID=America/New_York:20260127T200000
DTSTAMP:20260426T001059
CREATED:20260122T175354Z
LAST-MODIFIED:20260122T180359Z
UID:10004879-1769494500-1769544000@www.tcrunning.org
SUMMARY:Tues Googan Running Club
DESCRIPTION:Tues Googan Running Club \nRun/walk is on Tuesday mornings at the Federal Hwy coffee shop. \nWe invite all paces and have 3-5 mile routes. \n\n6:15AM – Warmup\n\n\n6:30AM – Start\n\nThe Googan Coffee Shop\n1917 NW Federal Hwy\, Stuart\, FL 34994
URL:https://www.tcrunning.org/event/tues-googan-running-club/2026-01-27/
LOCATION:Googan Coffee\, 1917 NW Federal Hwy\, Stuart\, FL
CATEGORIES:Weekly Running
END:VEVENT
BEGIN:VEVENT
DTSTART;TZID=America/New_York:20260127T174500
DTEND;TZID=America/New_York:20260127T190000
DTSTAMP:20260426T001059
CREATED:20250503T204616Z
LAST-MODIFIED:20260206T194342Z
UID:10007068-1769535900-1769540400@www.tcrunning.org
SUMMARY:Tue Jogging with the Doctor
DESCRIPTION:Pace: All Paces\nDistance: All Distances\nLocation: Tradition Square
URL:https://www.tcrunning.org/event/jogging-with-the-doctor/2026-01-27/
LOCATION:Tradition Square\, Tradition Square\, Port St. Lucie\, FL\, 34987\, United States
CATEGORIES:Weekly Running
END:VEVENT
BEGIN:VEVENT
DTSTART;TZID=America/New_York:20260127T180000
DTEND;TZID=America/New_York:20260127T193000
DTSTAMP:20260426T001059
CREATED:20250503T205022Z
LAST-MODIFIED:20260206T201124Z
UID:10001614-1769536800-1769542200@www.tcrunning.org
SUMMARY:Tue Sailfish Brewery – Fort Pierce
DESCRIPTION:Looking for motivation\, community\, and a great way to break up the week? This is it.  Join our Run Club every Tuesday at 6PM for an energizing group run filled with good vibes\, strong strides\, and even better people.\n\n\n\nAll paces are welcome — whether you’re a seasoned runner\, just getting started\, or somewhere in between. Come move your body\, challenge yourself\, and have fun doing it. \n\n\n\nAnd the best part? Stick around after the run to grab a drink and enjoy some delicious food.  You’ve earned it.\n\n\nNo pressure. No egos. Just movement\, community\, and a great post-run hang.\n\n Lace up\, bring a friend\, and come join the run — every Tuesday at 6PM!
URL:https://www.tcrunning.org/event/sailfish-brewery-fort-pierce/2026-01-27/
LOCATION:Sailfish Brewery\, 130 N 2nd St\, Fort Pierce\, FL\, 34950\, United States
CATEGORIES:Weekly Running
END:VEVENT
BEGIN:VEVENT
DTSTART;TZID=America/New_York:20260127T183000
DTEND;TZID=America/New_York:20260127T203000
DTSTAMP:20260426T001059
CREATED:20250511T223517Z
LAST-MODIFIED:20260206T194830Z
UID:10007863-1769538600-1769545800@www.tcrunning.org
SUMMARY:Tue Fleet Feet – Tidehouse
DESCRIPTION:
URL:https://www.tcrunning.org/event/tue-fleet-feet-tidehouse/2026-01-27/
LOCATION:Tidehouse\, 915 NW Flagler Ave\, Stuart\, FL\, 34994
CATEGORIES:Weekly Running
END:VEVENT
BEGIN:VEVENT
DTSTART;TZID=America/New_York:20260127T183000
DTEND;TZID=America/New_York:20260127T203000
DTSTAMP:20260426T001059
CREATED:20260120T215749Z
LAST-MODIFIED:20260120T220324Z
UID:10004619-1769538600-1769545800@www.tcrunning.org
SUMMARY:Tues Sapp's Elite Run Club - PSL
DESCRIPTION:New Port St Lucie Run Group \nSapp’s Elite Run Club \nTuesdays at 6:30pm at Midflorida Event Center \n9221 SE Event Center\nPort St Lucie\, FL 34952
URL:https://www.tcrunning.org/event/tues-sapps-elite-run-club/2026-01-27/
LOCATION:Midflorida Event Center\, 9221 SE Event Center\, Port St Lucie\, FL
CATEGORIES:Weekly Running
END:VEVENT
BEGIN:VEVENT
DTSTART;TZID=America/New_York:20260128T063000
DTEND;TZID=America/New_York:20260128T083000
DTSTAMP:20260426T001059
CREATED:20250511T225810Z
LAST-MODIFIED:20260130T165133Z
UID:10002146-1769581800-1769589000@www.tcrunning.org
SUMMARY:Wed Mulligan Milers Run
DESCRIPTION:Mulligan’s Milers \n\n\nLooking for a fun\, supportive way to start your morning? Come join us! All paces are welcome — walk\, run\, or a mix of both. The goal is simply to move\, connect\, and enjoy the miles together. Fridays are for bridges!\n\n\nWhether you’re a seasoned runner or just getting started\, you’ll fit right in with our crew. We’d love to meet you and have you join us!\n\n\nBring a friend and come see what Mulligan’s Milers is all about! \n\n\nWe meet at Indian Riverside Park
URL:https://www.tcrunning.org/event/wed-mulligan-milers/2026-01-28/
LOCATION:Indian Riverside Park\, 1707 NE Indian River Dr\, Jensen Beach\, FL\, 34957
CATEGORIES:Weekly Running
END:VEVENT
BEGIN:VEVENT
DTSTART;TZID=America/New_York:20260128T180000
DTEND;TZID=America/New_York:20260128T193000
DTSTAMP:20260426T001059
CREATED:20251222T161926Z
LAST-MODIFIED:20260407T171939Z
UID:10009247-1769623200-1769628600@www.tcrunning.org
SUMMARY:Wed Hobe Sound Run Club
DESCRIPTION:Hobe Sound Run Club \nWednesday mornings @ Sound Brewing Company\n9126B SE Bridge Rd\,\nHobe Sound\, FL 33455 \n3-mile route to the beach and back. Longer route options available. \nContact Hobe Sound Run Club on Facebook or Instagram (IG: @hobesoundruns).
URL:https://www.tcrunning.org/event/wed-hobe-sound-run-club-2/2026-01-28/
LOCATION:Sound Brewing Company\, 9126B SE Bridge Rd\, Hobe Sound\, FL\, 33455
CATEGORIES:Weekly Running
ORGANIZER;CN="Meredith Wilcox":MAILTO:meredith.wilcox@yahoo.com
END:VEVENT
BEGIN:VEVENT
DTSTART;TZID=America/New_York:20260129T044500
DTEND;TZID=America/New_York:20260129T064500
DTSTAMP:20260426T001059
CREATED:20250512T122246Z
LAST-MODIFIED:20260206T195459Z
UID:10008396-1769661900-1769669100@www.tcrunning.org
SUMMARY:Thurs Dark and Early Downtown Stuart
DESCRIPTION:Pace: All Paces\nDistance: 3–6 miles \norganizer: https://www.facebook.com/frankfender
URL:https://www.tcrunning.org/event/thurs-dark-and-early-downtown-stuart/2026-01-29/
LOCATION:Stuart City Hall\, 121 SW Flagler Ave\, Stuart\, FL\, 34994\, United States
CATEGORIES:Weekly Running
END:VEVENT
BEGIN:VEVENT
DTSTART;TZID=America/New_York:20260129T174500
DTEND;TZID=America/New_York:20260129T190000
DTSTAMP:20260426T001059
CREATED:20250511T212831Z
LAST-MODIFIED:20260206T194159Z
UID:10006802-1769708700-1769713200@www.tcrunning.org
SUMMARY:Thr Jogging with the Doctor
DESCRIPTION:Pace: All Paces\nDistance: All Distances\nLocation: Tradition Square \n 
URL:https://www.tcrunning.org/event/jogging-with-the-doctor-2/2026-01-29/
LOCATION:Tradition Square\, Tradition Square\, Port St. Lucie\, FL\, 34987\, United States
CATEGORIES:Weekly Running
END:VEVENT
BEGIN:VEVENT
DTSTART;TZID=America/New_York:20260130T054500
DTEND;TZID=America/New_York:20260130T070000
DTSTAMP:20260426T001059
CREATED:20250511T230113Z
LAST-MODIFIED:20250513T194434Z
UID:10003018-1769751900-1769756400@www.tcrunning.org
SUMMARY:Fri World's Okayest Runners
DESCRIPTION:Friday Mornings. Meetup at 5:45am. Start at 6am. \nRotating start locations at local coffee shops to support local businesses. \nContact Haley McCartney on Facebook
URL:https://www.tcrunning.org/event/fri-worlds-okayest-runners/2026-01-30/
CATEGORIES:Weekly Running
END:VEVENT
BEGIN:VEVENT
DTSTART;TZID=America/New_York:20260130T063000
DTEND;TZID=America/New_York:20260130T073000
DTSTAMP:20260426T001059
CREATED:20250910T124816Z
LAST-MODIFIED:20260227T203053Z
UID:10003286-1769754600-1769758200@www.tcrunning.org
SUMMARY:Mulligan's Milers Bridge Break Friday
DESCRIPTION:Mulligans Milers of Jensen Beach meets at the waterfront parking lot near Fredgie’s Food truck and walk or run (all paces welcome) over the Jensen Beach causeway bridge and back for a 5K every Friday. \nFredgie’s address: 3251 N. E. Indian River Drive. (On the river)\, Jensen Beach\, FL\, United States\, Florida \nHost:\nhttps://www.facebook.com/groups/369410335884239
URL:https://www.tcrunning.org/event/bridge-break-friday/2026-01-30/
LOCATION:3251 N. E. Indian River Drive.\, Jensen Beach\, FL\, United States\, Florida
CATEGORIES:Weekly Running
END:VEVENT
BEGIN:VEVENT
DTSTART;TZID=America/New_York:20260131T064500
DTEND;TZID=America/New_York:20260131T083000
DTSTAMP:20260426T001059
CREATED:20251216T131919Z
LAST-MODIFIED:20251216T132851Z
UID:10003565-1769841900-1769848200@www.tcrunning.org
SUMMARY:Sat Hobe Sound Run Club
DESCRIPTION:Hobe Sound Run Club \nGroup Run: Saturday mornings @ Hobe Sound Social & Coffee\n11844 SE Dixie Hwy ste a\,\nHobe Sound\, FL 33455 \nMeetup at 6:45 am. Run starts at 7:00 am. \n3-mile route to the beach and back. Longer route options available. \nContact Hobe Sound Run Club on Facebook or Instagram (IG: @hobesoundruns)
URL:https://www.tcrunning.org/event/sat-hobe-sound-run-club/2026-01-31/
LOCATION:Hobe Sound Social & Coffee\, 11844 SE Dixie Hwy Suite A\, Hobe Sound\, FL\, 33455
CATEGORIES:Weekly Running
ORGANIZER;CN="Meredith Wilcox":MAILTO:meredith.wilcox@yahoo.com
END:VEVENT
BEGIN:VEVENT
DTSTART;TZID=America/New_York:20260201T054500
DTEND;TZID=America/New_York:20260201T070000
DTSTAMP:20260426T001059
CREATED:20260122T180028Z
LAST-MODIFIED:20260206T194604Z
UID:10007332-1769924700-1769929200@www.tcrunning.org
SUMMARY:Sun Googan Running Club Long Run
DESCRIPTION:Googan Running Club \nSunday long run at the The Googan Coffee Shop downtown Stuart location. We start 6AM and have a beautiful 10ish mile route to Stuart Beach and Back. \n5:45am Meet\n\n6AM – Start\n\nThe Googan Coffee Shop – Downtown\n55 SW Flagler Ave\, Stuart\, FL 34994
URL:https://www.tcrunning.org/event/sun-googan-running-club-long-run/2026-02-01/
LOCATION:Googan Coffee Shop Downtown\, 55 SW Flagler Ave\, Stuart\, FL
CATEGORIES:Weekly Running
END:VEVENT
BEGIN:VEVENT
DTSTART;TZID=America/New_York:20260201T070000
DTEND;TZID=America/New_York:20260201T090000
DTSTAMP:20260426T001059
CREATED:20260107T164103Z
LAST-MODIFIED:20260107T164416Z
UID:10004606-1769929200-1769936400@www.tcrunning.org
SUMMARY:ICA 5K for Education
DESCRIPTION:Join us on Sunday\, February 1st at the Causeway Cove Marina for the ICA 5K for Education! \nJoin us for this fast & flat 5K course perfect for runners of all ages and skills! Enjoy a well laid out course along the water with chip timing & live results provided to all participants! \nJoin the Independence Classical Academy for their 4th Annual 5K for Education! All participants will receive chip timing\, a race t-shirt\, finisher medal and post-race snacks! Participants 17 & under can register at a discounted price! This is automatically applied during registration. \nAbout Independence Classical Academy \nMaking a Difference \nIndependence Classical Academy is a small\, independent\, tuition-free charter school in Fort Pierce which offers a classical\, liberal arts education for students in grades K-8. Seeking to develop a well-rounded\, civic-minded student\, ICA is setting a new standard for education! With a rigorous academic standard and a virtuous environment\, students at ICA are motivated\, competitive\, engaged scholars. \n\nWe are hosting a 5k to show the community our love of fitness and raise awareness for this method of learning we so strongly believe in….because we MUST do better by our kids in America!\nSchedule \nSunday\, February 1st \n7:00am – Race Day Registration & Packet Pick-Up Opens \n7:45am – Opening Ceremony \n8:00am – Race Start \n8:45am – Awards Ceremony \nTiming & Awards \nChip Timing will be provided by Southern Timing\, LLC with LIVE results\, results kiosks\, individual results page with a 20 second clip of you crossing the Start and Finish line! Results will be streaming live on race day to www.southerntimingfl.com/results \nAwards will be given in the 5K to the top 3 male & female finishers in each category: \nOverall \n5 & Under\, 6-10\, 11-15\, 16-19\, 20-29\, 30-39\, 40-49\, 50-59\, 60-69\, 70+ \nRegister by January 14th at 11:59 pm for a guaranteed race day shirt!
URL:https://www.tcrunning.org/event/ica-5k-for-education/
CATEGORIES:Non Race Series Races
ATTACH;FMTTYPE=image/png:https://www.tcrunning.org/wp-content/uploads/2026/01/5k-for-education.png
END:VEVENT
BEGIN:VEVENT
DTSTART;TZID=America/New_York:20260202T183000
DTEND;TZID=America/New_York:20260202T203000
DTSTAMP:20260426T001059
CREATED:20250503T200834Z
LAST-MODIFIED:20260206T195127Z
UID:10008130-1770057000-1770064200@www.tcrunning.org
SUMMARY:Mon Old Skool Run Group – Stuart
DESCRIPTION:Pace: Mid to low 7’s
URL:https://www.tcrunning.org/event/old-skool-group-stuart/2026-02-02/
LOCATION:Pete Weiler’s Office\, 515 SW Camden Ave\, Stuart\, FL\, 34994\, United States
CATEGORIES:Weekly Running
ORGANIZER;CN="Mike Melton":MAILTO:mcmelton57@gmail.com
END:VEVENT
BEGIN:VEVENT
DTSTART;TZID=America/New_York:20260202T183000
DTEND;TZID=America/New_York:20260202T203000
DTSTAMP:20260426T001059
CREATED:20250511T223119Z
LAST-MODIFIED:20260206T194736Z
UID:10007598-1770057000-1770064200@www.tcrunning.org
SUMMARY:Mon Fleet Feet – Tradition
DESCRIPTION:
URL:https://www.tcrunning.org/event/fleet-feet-stuart-2/2026-02-02/
LOCATION:Tradition Fleet Feet\, 11586 SW Village Pkwy\, Port St. Lucie\, FL\, 34987
CATEGORIES:Weekly Running
END:VEVENT
BEGIN:VEVENT
DTSTART;TZID=America/New_York:20260203T044500
DTEND;TZID=America/New_York:20260203T064500
DTSTAMP:20260426T001059
CREATED:20250505T045445Z
LAST-MODIFIED:20260206T195648Z
UID:10008663-1770093900-1770101100@www.tcrunning.org
SUMMARY:Tues Dark and Early Downtown Stuart
DESCRIPTION:Pace: All Paces\nDistance: 3–6 miles \nOrganizer: https://www.facebook.com/frankfender
URL:https://www.tcrunning.org/event/treasure-coast-runners-downtown-stuart/2026-02-03/
LOCATION:Stuart City Hall\, 121 SW Flagler Ave\, Stuart\, FL\, 34994\, United States
CATEGORIES:Weekly Running
END:VEVENT
BEGIN:VEVENT
DTSTART;TZID=America/New_York:20260203T061500
DTEND;TZID=America/New_York:20260203T083000
DTSTAMP:20260426T001059
CREATED:20250511T221226Z
LAST-MODIFIED:20260206T195858Z
UID:10008929-1770099300-1770107400@www.tcrunning.org
SUMMARY:Tue 10th St. Track
DESCRIPTION:Pace: Walk/Run\nDistance: Any\nParking east of Guy Davis Field off of 10th Street.
URL:https://www.tcrunning.org/event/tue-10th-st-track/2026-02-03/
LOCATION:10th St. Track\, Russell Holloway Jr. Track\, Stuart\, FL
CATEGORIES:Weekly Running
END:VEVENT
BEGIN:VEVENT
DTSTART;TZID=America/New_York:20260203T061500
DTEND;TZID=America/New_York:20260203T200000
DTSTAMP:20260426T001059
CREATED:20260122T175354Z
LAST-MODIFIED:20260122T180359Z
UID:10004880-1770099300-1770148800@www.tcrunning.org
SUMMARY:Tues Googan Running Club
DESCRIPTION:Tues Googan Running Club \nRun/walk is on Tuesday mornings at the Federal Hwy coffee shop. \nWe invite all paces and have 3-5 mile routes. \n\n6:15AM – Warmup\n\n\n6:30AM – Start\n\nThe Googan Coffee Shop\n1917 NW Federal Hwy\, Stuart\, FL 34994
URL:https://www.tcrunning.org/event/tues-googan-running-club/2026-02-03/
LOCATION:Googan Coffee\, 1917 NW Federal Hwy\, Stuart\, FL
CATEGORIES:Weekly Running
END:VEVENT
BEGIN:VEVENT
DTSTART;TZID=America/New_York:20260203T174500
DTEND;TZID=America/New_York:20260203T190000
DTSTAMP:20260426T001059
CREATED:20250503T204616Z
LAST-MODIFIED:20260206T194342Z
UID:10007069-1770140700-1770145200@www.tcrunning.org
SUMMARY:Tue Jogging with the Doctor
DESCRIPTION:Pace: All Paces\nDistance: All Distances\nLocation: Tradition Square
URL:https://www.tcrunning.org/event/jogging-with-the-doctor/2026-02-03/
LOCATION:Tradition Square\, Tradition Square\, Port St. Lucie\, FL\, 34987\, United States
CATEGORIES:Weekly Running
END:VEVENT
END:VCALENDAR