BEGIN:VCALENDAR
VERSION:2.0
PRODID:-//Treasure Coast Running - ECPv6.15.20//NONSGML v1.0//EN
CALSCALE:GREGORIAN
METHOD:PUBLISH
X-WR-CALNAME:Treasure Coast Running
X-ORIGINAL-URL:https://www.tcrunning.org
X-WR-CALDESC:Events for Treasure Coast Running
REFRESH-INTERVAL;VALUE=DURATION:PT1H
X-Robots-Tag:noindex
X-PUBLISHED-TTL:PT1H
BEGIN:VTIMEZONE
TZID:America/New_York
BEGIN:DAYLIGHT
TZOFFSETFROM:-0500
TZOFFSETTO:-0400
TZNAME:EDT
DTSTART:20240310T070000
END:DAYLIGHT
BEGIN:STANDARD
TZOFFSETFROM:-0400
TZOFFSETTO:-0500
TZNAME:EST
DTSTART:20241103T060000
END:STANDARD
BEGIN:DAYLIGHT
TZOFFSETFROM:-0500
TZOFFSETTO:-0400
TZNAME:EDT
DTSTART:20250309T070000
END:DAYLIGHT
BEGIN:STANDARD
TZOFFSETFROM:-0400
TZOFFSETTO:-0500
TZNAME:EST
DTSTART:20251102T060000
END:STANDARD
BEGIN:DAYLIGHT
TZOFFSETFROM:-0500
TZOFFSETTO:-0400
TZNAME:EDT
DTSTART:20260308T070000
END:DAYLIGHT
BEGIN:STANDARD
TZOFFSETFROM:-0400
TZOFFSETTO:-0500
TZNAME:EST
DTSTART:20261101T060000
END:STANDARD
END:VTIMEZONE
BEGIN:VEVENT
DTSTART;TZID=America/New_York:20250729T061500
DTEND;TZID=America/New_York:20250729T083000
DTSTAMP:20260421T151504
CREATED:20250511T221226Z
LAST-MODIFIED:20260206T195858Z
UID:10002623-1753769700-1753777800@www.tcrunning.org
SUMMARY:Tue 10th St. Track
DESCRIPTION:Pace: Walk/Run\nDistance: Any\nParking east of Guy Davis Field off of 10th Street.
URL:https://www.tcrunning.org/event/tue-10th-st-track/2025-07-29/
LOCATION:10th St. Track\, Russell Holloway Jr. Track\, Stuart\, FL
CATEGORIES:Weekly Running
END:VEVENT
BEGIN:VEVENT
DTSTART;TZID=America/New_York:20250729T174500
DTEND;TZID=America/New_York:20250729T190000
DTSTAMP:20260421T151504
CREATED:20250503T204616Z
LAST-MODIFIED:20260206T194342Z
UID:10001253-1753811100-1753815600@www.tcrunning.org
SUMMARY:Tue Jogging with the Doctor
DESCRIPTION:Pace: All Paces\nDistance: All Distances\nLocation: Tradition Square
URL:https://www.tcrunning.org/event/jogging-with-the-doctor/2025-07-29/
LOCATION:Tradition Square\, Tradition Square\, Port St. Lucie\, FL\, 34987\, United States
CATEGORIES:Weekly Running
END:VEVENT
BEGIN:VEVENT
DTSTART;TZID=America/New_York:20250729T180000
DTEND;TZID=America/New_York:20250729T193000
DTSTAMP:20260421T151504
CREATED:20250503T205022Z
LAST-MODIFIED:20260206T201124Z
UID:10001588-1753812000-1753817400@www.tcrunning.org
SUMMARY:Tue Sailfish Brewery – Fort Pierce
DESCRIPTION:Looking for motivation\, community\, and a great way to break up the week? This is it.  Join our Run Club every Tuesday at 6PM for an energizing group run filled with good vibes\, strong strides\, and even better people.\n\n\n\nAll paces are welcome — whether you’re a seasoned runner\, just getting started\, or somewhere in between. Come move your body\, challenge yourself\, and have fun doing it. \n\n\n\nAnd the best part? Stick around after the run to grab a drink and enjoy some delicious food.  You’ve earned it.\n\n\nNo pressure. No egos. Just movement\, community\, and a great post-run hang.\n\n Lace up\, bring a friend\, and come join the run — every Tuesday at 6PM!
URL:https://www.tcrunning.org/event/sailfish-brewery-fort-pierce/2025-07-29/
LOCATION:Sailfish Brewery\, 130 N 2nd St\, Fort Pierce\, FL\, 34950\, United States
CATEGORIES:Weekly Running
END:VEVENT
BEGIN:VEVENT
DTSTART;TZID=America/New_York:20250729T183000
DTEND;TZID=America/New_York:20250729T203000
DTSTAMP:20260421T151504
CREATED:20250511T223517Z
LAST-MODIFIED:20260206T194830Z
UID:10002015-1753813800-1753821000@www.tcrunning.org
SUMMARY:Tue Fleet Feet – Tidehouse
DESCRIPTION:
URL:https://www.tcrunning.org/event/tue-fleet-feet-tidehouse/2025-07-29/
LOCATION:Tidehouse\, 915 NW Flagler Ave\, Stuart\, FL\, 34994
CATEGORIES:Weekly Running
END:VEVENT
BEGIN:VEVENT
DTSTART;TZID=America/New_York:20250730T063000
DTEND;TZID=America/New_York:20250730T083000
DTSTAMP:20260421T151504
CREATED:20250511T225810Z
LAST-MODIFIED:20260130T165133Z
UID:10002120-1753857000-1753864200@www.tcrunning.org
SUMMARY:Wed Mulligan Milers Run
DESCRIPTION:Mulligan’s Milers \n\n\nLooking for a fun\, supportive way to start your morning? Come join us! All paces are welcome — walk\, run\, or a mix of both. The goal is simply to move\, connect\, and enjoy the miles together. Fridays are for bridges!\n\n\nWhether you’re a seasoned runner or just getting started\, you’ll fit right in with our crew. We’d love to meet you and have you join us!\n\n\nBring a friend and come see what Mulligan’s Milers is all about! \n\n\nWe meet at Indian Riverside Park
URL:https://www.tcrunning.org/event/wed-mulligan-milers/2025-07-30/
LOCATION:Indian Riverside Park\, 1707 NE Indian River Dr\, Jensen Beach\, FL\, 34957
CATEGORIES:Weekly Running
END:VEVENT
BEGIN:VEVENT
DTSTART;TZID=America/New_York:20250730T180000
DTEND;TZID=America/New_York:20250730T200000
DTSTAMP:20260421T151504
CREATED:20250505T062412Z
LAST-MODIFIED:20250512T120730Z
UID:10000531-1753898400-1753905600@www.tcrunning.org
SUMMARY:Wed Crosstown – Port St. Lucie
DESCRIPTION:Location: Mako Soccer Club next to McChesney Park
URL:https://www.tcrunning.org/event/crosstown-port-st-lucie/2025-07-30/
LOCATION:McChesney Park\, Port St Lucie
CATEGORIES:Weekly Running
END:VEVENT
BEGIN:VEVENT
DTSTART;TZID=America/New_York:20250731T044500
DTEND;TZID=America/New_York:20250731T064500
DTSTAMP:20260421T151504
CREATED:20250512T122246Z
LAST-MODIFIED:20260206T195459Z
UID:10002694-1753937100-1753944300@www.tcrunning.org
SUMMARY:Thurs Dark and Early Downtown Stuart
DESCRIPTION:Pace: All Paces\nDistance: 3–6 miles \norganizer: https://www.facebook.com/frankfender
URL:https://www.tcrunning.org/event/thurs-dark-and-early-downtown-stuart/2025-07-31/
LOCATION:Stuart City Hall\, 121 SW Flagler Ave\, Stuart\, FL\, 34994\, United States
CATEGORIES:Weekly Running
END:VEVENT
BEGIN:VEVENT
DTSTART;TZID=America/New_York:20250731T063000
DTEND;TZID=America/New_York:20250731T083000
DTSTAMP:20260421T151504
CREATED:20250511T220528Z
LAST-MODIFIED:20250511T220529Z
UID:10001848-1753943400-1753950600@www.tcrunning.org
SUMMARY:Thr Googan Coffee Run
DESCRIPTION:Pace: Walk/Run\nDistance: 5-Mile Loop
URL:https://www.tcrunning.org/event/googan-coffee-run-3/2025-07-31/
LOCATION:1917 SW Federal Hwy\, 1917 SW Federal Hwy\, Stuart\, FL\, 34994\, United States
CATEGORIES:Weekly Running
END:VEVENT
BEGIN:VEVENT
DTSTART;TZID=America/New_York:20250731T174500
DTEND;TZID=America/New_York:20250731T190000
DTSTAMP:20260421T151504
CREATED:20250511T212831Z
LAST-MODIFIED:20260206T194159Z
UID:10001533-1753983900-1753988400@www.tcrunning.org
SUMMARY:Thr Jogging with the Doctor
DESCRIPTION:Pace: All Paces\nDistance: All Distances\nLocation: Tradition Square \n 
URL:https://www.tcrunning.org/event/jogging-with-the-doctor-2/2025-07-31/
LOCATION:Tradition Square\, Tradition Square\, Port St. Lucie\, FL\, 34987\, United States
CATEGORIES:Weekly Running
END:VEVENT
BEGIN:VEVENT
DTSTART;TZID=America/New_York:20250801T054500
DTEND;TZID=America/New_York:20250801T070000
DTSTAMP:20260421T151504
CREATED:20250511T230113Z
LAST-MODIFIED:20250513T194434Z
UID:10002992-1754027100-1754031600@www.tcrunning.org
SUMMARY:Fri World's Okayest Runners
DESCRIPTION:Friday Mornings. Meetup at 5:45am. Start at 6am. \nRotating start locations at local coffee shops to support local businesses. \nContact Haley McCartney on Facebook
URL:https://www.tcrunning.org/event/fri-worlds-okayest-runners/2025-08-01/
CATEGORIES:Weekly Running
END:VEVENT
BEGIN:VEVENT
DTSTART;TZID=America/New_York:20250803T054500
DTEND;TZID=America/New_York:20250803T083000
DTSTAMP:20260421T151504
CREATED:20250511T220807Z
LAST-MODIFIED:20250512T115935Z
UID:10001916-1754199900-1754209800@www.tcrunning.org
SUMMARY:Sun Googan Long Run
DESCRIPTION:Pace: Walk/Run\nDistance: Any
URL:https://www.tcrunning.org/event/sun-googan-long-run/2025-08-03/
LOCATION:Downtown Stuart\, 47 SW Osceola\, Stuart\, FL\, United States
CATEGORIES:Weekly Running
END:VEVENT
BEGIN:VEVENT
DTSTART;TZID=America/New_York:20250803T080000
DTEND;TZID=America/New_York:20250803T100000
DTSTAMP:20260421T151504
CREATED:20250505T070949Z
LAST-MODIFIED:20250511T220106Z
UID:10000966-1754208000-1754215200@www.tcrunning.org
SUMMARY:Sun Crosstown – Port St. Lucie
DESCRIPTION:Pace: Walk/Run\nDistance: All Distances\nLocation: Submarine Veterans Park (Floresta & Crosstown)
URL:https://www.tcrunning.org/event/crosstown-port-st-lucie-2/2025-08-03/
LOCATION:Submarine Veterans Park\, SE Floresta Dr & SE Crosstown Pkwy\, Port St. Lucie\, FL\, 34983\, United States
CATEGORIES:Weekly Running
END:VEVENT
BEGIN:VEVENT
DTSTART;TZID=America/New_York:20250804T183000
DTEND;TZID=America/New_York:20250804T203000
DTSTAMP:20260421T151504
CREATED:20250503T200834Z
LAST-MODIFIED:20260206T195127Z
UID:10000289-1754332200-1754339400@www.tcrunning.org
SUMMARY:Mon Old Skool Run Group – Stuart
DESCRIPTION:Pace: Mid to low 7’s
URL:https://www.tcrunning.org/event/old-skool-group-stuart/2025-08-04/
LOCATION:Pete Weiler’s Office\, 515 SW Camden Ave\, Stuart\, FL\, 34994\, United States
CATEGORIES:Weekly Running
ORGANIZER;CN="Mike Melton":MAILTO:mcmelton57@gmail.com
END:VEVENT
BEGIN:VEVENT
DTSTART;TZID=America/New_York:20250804T183000
DTEND;TZID=America/New_York:20250804T203000
DTSTAMP:20260421T151504
CREATED:20250511T223119Z
LAST-MODIFIED:20260206T194736Z
UID:10002522-1754332200-1754339400@www.tcrunning.org
SUMMARY:Mon Fleet Feet – Tradition
DESCRIPTION:
URL:https://www.tcrunning.org/event/fleet-feet-stuart-2/2025-08-04/
LOCATION:Tradition Fleet Feet\, 11586 SW Village Pkwy\, Port St. Lucie\, FL\, 34987
CATEGORIES:Weekly Running
END:VEVENT
BEGIN:VEVENT
DTSTART;TZID=America/New_York:20250805T044500
DTEND;TZID=America/New_York:20250805T064500
DTSTAMP:20260421T151504
CREATED:20250503T203526Z
LAST-MODIFIED:20250511T232120Z
UID:10002419-1754369100-1754376300@www.tcrunning.org
SUMMARY:Tue Dark and Early Southside
DESCRIPTION:Pace: 7:30–8:30 min/mile
URL:https://www.tcrunning.org/event/tcr-downtown-stuart/2025-08-05/
LOCATION:Peace Presbyterian Church\, 4881 SE Cove Rd\, Stuart\, FL\, 34997\, United States
CATEGORIES:Weekly Running
END:VEVENT
BEGIN:VEVENT
DTSTART;TZID=America/New_York:20250805T044500
DTEND;TZID=America/New_York:20250805T064500
DTSTAMP:20260421T151504
CREATED:20250505T045445Z
LAST-MODIFIED:20260206T195648Z
UID:10002467-1754369100-1754376300@www.tcrunning.org
SUMMARY:Tues Dark and Early Downtown Stuart
DESCRIPTION:Pace: All Paces\nDistance: 3–6 miles \nOrganizer: https://www.facebook.com/frankfender
URL:https://www.tcrunning.org/event/treasure-coast-runners-downtown-stuart/2025-08-05/
LOCATION:Stuart City Hall\, 121 SW Flagler Ave\, Stuart\, FL\, 34994\, United States
CATEGORIES:Weekly Running
END:VEVENT
BEGIN:VEVENT
DTSTART;TZID=America/New_York:20250805T050000
DTEND;TZID=America/New_York:20250805T063000
DTSTAMP:20260421T151504
CREATED:20250503T203842Z
LAST-MODIFIED:20250511T232332Z
UID:10000462-1754370000-1754375400@www.tcrunning.org
SUMMARY:Tuesday Running Crew
DESCRIPTION:By the Post Office in the Old Palm City Shopping Plaza (1395 SW Martin Hwy)
URL:https://www.tcrunning.org/event/hobe-sound-runners/2025-08-05/
LOCATION:Publix – Palm City\, 1395 SW Martin Hwy\, Palm City\, FL\, 34990\, United States
CATEGORIES:Weekly Running
END:VEVENT
BEGIN:VEVENT
DTSTART;TZID=America/New_York:20250805T061500
DTEND;TZID=America/New_York:20250805T083000
DTSTAMP:20260421T151504
CREATED:20250511T221226Z
LAST-MODIFIED:20260206T195858Z
UID:10002624-1754374500-1754382600@www.tcrunning.org
SUMMARY:Tue 10th St. Track
DESCRIPTION:Pace: Walk/Run\nDistance: Any\nParking east of Guy Davis Field off of 10th Street.
URL:https://www.tcrunning.org/event/tue-10th-st-track/2025-08-05/
LOCATION:10th St. Track\, Russell Holloway Jr. Track\, Stuart\, FL
CATEGORIES:Weekly Running
END:VEVENT
BEGIN:VEVENT
DTSTART;TZID=America/New_York:20250805T174500
DTEND;TZID=America/New_York:20250805T190000
DTSTAMP:20260421T151504
CREATED:20250503T204616Z
LAST-MODIFIED:20260206T194342Z
UID:10001255-1754415900-1754420400@www.tcrunning.org
SUMMARY:Tue Jogging with the Doctor
DESCRIPTION:Pace: All Paces\nDistance: All Distances\nLocation: Tradition Square
URL:https://www.tcrunning.org/event/jogging-with-the-doctor/2025-08-05/
LOCATION:Tradition Square\, Tradition Square\, Port St. Lucie\, FL\, 34987\, United States
CATEGORIES:Weekly Running
END:VEVENT
BEGIN:VEVENT
DTSTART;TZID=America/New_York:20250805T180000
DTEND;TZID=America/New_York:20250805T193000
DTSTAMP:20260421T151504
CREATED:20250503T205022Z
LAST-MODIFIED:20260206T201124Z
UID:10001589-1754416800-1754422200@www.tcrunning.org
SUMMARY:Tue Sailfish Brewery – Fort Pierce
DESCRIPTION:Looking for motivation\, community\, and a great way to break up the week? This is it.  Join our Run Club every Tuesday at 6PM for an energizing group run filled with good vibes\, strong strides\, and even better people.\n\n\n\nAll paces are welcome — whether you’re a seasoned runner\, just getting started\, or somewhere in between. Come move your body\, challenge yourself\, and have fun doing it. \n\n\n\nAnd the best part? Stick around after the run to grab a drink and enjoy some delicious food.  You’ve earned it.\n\n\nNo pressure. No egos. Just movement\, community\, and a great post-run hang.\n\n Lace up\, bring a friend\, and come join the run — every Tuesday at 6PM!
URL:https://www.tcrunning.org/event/sailfish-brewery-fort-pierce/2025-08-05/
LOCATION:Sailfish Brewery\, 130 N 2nd St\, Fort Pierce\, FL\, 34950\, United States
CATEGORIES:Weekly Running
END:VEVENT
BEGIN:VEVENT
DTSTART;TZID=America/New_York:20250805T183000
DTEND;TZID=America/New_York:20250805T203000
DTSTAMP:20260421T151504
CREATED:20250511T223517Z
LAST-MODIFIED:20260206T194830Z
UID:10002016-1754418600-1754425800@www.tcrunning.org
SUMMARY:Tue Fleet Feet – Tidehouse
DESCRIPTION:
URL:https://www.tcrunning.org/event/tue-fleet-feet-tidehouse/2025-08-05/
LOCATION:Tidehouse\, 915 NW Flagler Ave\, Stuart\, FL\, 34994
CATEGORIES:Weekly Running
END:VEVENT
BEGIN:VEVENT
DTSTART;TZID=America/New_York:20250806T063000
DTEND;TZID=America/New_York:20250806T083000
DTSTAMP:20260421T151504
CREATED:20250511T225810Z
LAST-MODIFIED:20260130T165133Z
UID:10002121-1754461800-1754469000@www.tcrunning.org
SUMMARY:Wed Mulligan Milers Run
DESCRIPTION:Mulligan’s Milers \n\n\nLooking for a fun\, supportive way to start your morning? Come join us! All paces are welcome — walk\, run\, or a mix of both. The goal is simply to move\, connect\, and enjoy the miles together. Fridays are for bridges!\n\n\nWhether you’re a seasoned runner or just getting started\, you’ll fit right in with our crew. We’d love to meet you and have you join us!\n\n\nBring a friend and come see what Mulligan’s Milers is all about! \n\n\nWe meet at Indian Riverside Park
URL:https://www.tcrunning.org/event/wed-mulligan-milers/2025-08-06/
LOCATION:Indian Riverside Park\, 1707 NE Indian River Dr\, Jensen Beach\, FL\, 34957
CATEGORIES:Weekly Running
END:VEVENT
BEGIN:VEVENT
DTSTART;TZID=America/New_York:20250806T180000
DTEND;TZID=America/New_York:20250806T200000
DTSTAMP:20260421T151504
CREATED:20250505T062412Z
LAST-MODIFIED:20250512T120730Z
UID:10000532-1754503200-1754510400@www.tcrunning.org
SUMMARY:Wed Crosstown – Port St. Lucie
DESCRIPTION:Location: Mako Soccer Club next to McChesney Park
URL:https://www.tcrunning.org/event/crosstown-port-st-lucie/2025-08-06/
LOCATION:McChesney Park\, Port St Lucie
CATEGORIES:Weekly Running
END:VEVENT
BEGIN:VEVENT
DTSTART;TZID=America/New_York:20250807T044500
DTEND;TZID=America/New_York:20250807T064500
DTSTAMP:20260421T151504
CREATED:20250512T122246Z
LAST-MODIFIED:20260206T195459Z
UID:10002695-1754541900-1754549100@www.tcrunning.org
SUMMARY:Thurs Dark and Early Downtown Stuart
DESCRIPTION:Pace: All Paces\nDistance: 3–6 miles \norganizer: https://www.facebook.com/frankfender
URL:https://www.tcrunning.org/event/thurs-dark-and-early-downtown-stuart/2025-08-07/
LOCATION:Stuart City Hall\, 121 SW Flagler Ave\, Stuart\, FL\, 34994\, United States
CATEGORIES:Weekly Running
END:VEVENT
BEGIN:VEVENT
DTSTART;TZID=America/New_York:20250807T063000
DTEND;TZID=America/New_York:20250807T083000
DTSTAMP:20260421T151504
CREATED:20250511T220528Z
LAST-MODIFIED:20250511T220529Z
UID:10001849-1754548200-1754555400@www.tcrunning.org
SUMMARY:Thr Googan Coffee Run
DESCRIPTION:Pace: Walk/Run\nDistance: 5-Mile Loop
URL:https://www.tcrunning.org/event/googan-coffee-run-3/2025-08-07/
LOCATION:1917 SW Federal Hwy\, 1917 SW Federal Hwy\, Stuart\, FL\, 34994\, United States
CATEGORIES:Weekly Running
END:VEVENT
BEGIN:VEVENT
DTSTART;TZID=America/New_York:20250807T174500
DTEND;TZID=America/New_York:20250807T190000
DTSTAMP:20260421T151504
CREATED:20250511T212831Z
LAST-MODIFIED:20260206T194159Z
UID:10001535-1754588700-1754593200@www.tcrunning.org
SUMMARY:Thr Jogging with the Doctor
DESCRIPTION:Pace: All Paces\nDistance: All Distances\nLocation: Tradition Square \n 
URL:https://www.tcrunning.org/event/jogging-with-the-doctor-2/2025-08-07/
LOCATION:Tradition Square\, Tradition Square\, Port St. Lucie\, FL\, 34987\, United States
CATEGORIES:Weekly Running
END:VEVENT
BEGIN:VEVENT
DTSTART;TZID=America/New_York:20250808T054500
DTEND;TZID=America/New_York:20250808T070000
DTSTAMP:20260421T151504
CREATED:20250511T230113Z
LAST-MODIFIED:20250513T194434Z
UID:10002993-1754631900-1754636400@www.tcrunning.org
SUMMARY:Fri World's Okayest Runners
DESCRIPTION:Friday Mornings. Meetup at 5:45am. Start at 6am. \nRotating start locations at local coffee shops to support local businesses. \nContact Haley McCartney on Facebook
URL:https://www.tcrunning.org/event/fri-worlds-okayest-runners/2025-08-08/
CATEGORIES:Weekly Running
END:VEVENT
BEGIN:VEVENT
DTSTART;TZID=America/New_York:20250809T070000
DTEND;TZID=America/New_York:20250809T100000
DTSTAMP:20260421T151504
CREATED:20250706T155129Z
LAST-MODIFIED:20250706T155412Z
UID:10003249-1754722800-1754733600@www.tcrunning.org
SUMMARY:Furnace 5K
DESCRIPTION:The HOTTEST Race in town!\n3.1 Mile Run/Walk through North River Shores! It’s Florida! It’s Summer! It’s August!\nJoin Fleet Feet Stuart on Saturday\, August 12\, 2023.  Race starts at 7:00 a.m.\nTime to have some fun and show the rest of them that just because it’s HOT… We still love to RUN! \nThe course starts and ends right in front of Fleet Feet Stuart!  Packet Pick Up \nThursday\, August 10  10am – 6pm at Fleet Feet Stuart \nFriday\, August 11  10am-6pm at Fleet Feet Stuart \nSaturday\, August 12 (Race Day) starting at 6am – 6:50am \nCome EARN your Fleet Feet Furnace black race hoodie and Finisher Medal.  Artwork designed by Adam’s Artworks \n   \n 
URL:https://www.tcrunning.org/event/furnace-5k/
LOCATION:fleet feet stuart\, 2440 NW Federal Hwy\, Stuart\, FL
CATEGORIES:Non Race Series Races
ATTACH;FMTTYPE=image/png:https://www.tcrunning.org/wp-content/uploads/2025/07/Furnace5k-logo-1.png
END:VEVENT
BEGIN:VEVENT
DTSTART;TZID=America/New_York:20250810T054500
DTEND;TZID=America/New_York:20250810T083000
DTSTAMP:20260421T151504
CREATED:20250511T220807Z
LAST-MODIFIED:20250512T115935Z
UID:10001917-1754804700-1754814600@www.tcrunning.org
SUMMARY:Sun Googan Long Run
DESCRIPTION:Pace: Walk/Run\nDistance: Any
URL:https://www.tcrunning.org/event/sun-googan-long-run/2025-08-10/
LOCATION:Downtown Stuart\, 47 SW Osceola\, Stuart\, FL\, United States
CATEGORIES:Weekly Running
END:VEVENT
BEGIN:VEVENT
DTSTART;TZID=America/New_York:20250810T080000
DTEND;TZID=America/New_York:20250810T100000
DTSTAMP:20260421T151504
CREATED:20250505T070949Z
LAST-MODIFIED:20250511T220106Z
UID:10000967-1754812800-1754820000@www.tcrunning.org
SUMMARY:Sun Crosstown – Port St. Lucie
DESCRIPTION:Pace: Walk/Run\nDistance: All Distances\nLocation: Submarine Veterans Park (Floresta & Crosstown)
URL:https://www.tcrunning.org/event/crosstown-port-st-lucie-2/2025-08-10/
LOCATION:Submarine Veterans Park\, SE Floresta Dr & SE Crosstown Pkwy\, Port St. Lucie\, FL\, 34983\, United States
CATEGORIES:Weekly Running
END:VEVENT
END:VCALENDAR