BEGIN:VCALENDAR
VERSION:2.0
PRODID:-//Treasure Coast Running - ECPv6.15.20//NONSGML v1.0//EN
CALSCALE:GREGORIAN
METHOD:PUBLISH
X-ORIGINAL-URL:https://www.tcrunning.org
X-WR-CALDESC:Events for Treasure Coast Running
REFRESH-INTERVAL;VALUE=DURATION:PT1H
X-Robots-Tag:noindex
X-PUBLISHED-TTL:PT1H
BEGIN:VTIMEZONE
TZID:America/New_York
BEGIN:DAYLIGHT
TZOFFSETFROM:-0500
TZOFFSETTO:-0400
TZNAME:EDT
DTSTART:20240310T070000
END:DAYLIGHT
BEGIN:STANDARD
TZOFFSETFROM:-0400
TZOFFSETTO:-0500
TZNAME:EST
DTSTART:20241103T060000
END:STANDARD
BEGIN:DAYLIGHT
TZOFFSETFROM:-0500
TZOFFSETTO:-0400
TZNAME:EDT
DTSTART:20250309T070000
END:DAYLIGHT
BEGIN:STANDARD
TZOFFSETFROM:-0400
TZOFFSETTO:-0500
TZNAME:EST
DTSTART:20251102T060000
END:STANDARD
BEGIN:DAYLIGHT
TZOFFSETFROM:-0500
TZOFFSETTO:-0400
TZNAME:EDT
DTSTART:20260308T070000
END:DAYLIGHT
BEGIN:STANDARD
TZOFFSETFROM:-0400
TZOFFSETTO:-0500
TZNAME:EST
DTSTART:20261101T060000
END:STANDARD
END:VTIMEZONE
BEGIN:VEVENT
DTSTART;TZID=America/New_York:20251212T063000
DTEND;TZID=America/New_York:20251212T073000
DTSTAMP:20260425T111327
CREATED:20250910T124816Z
LAST-MODIFIED:20260227T203053Z
UID:10003279-1765521000-1765524600@www.tcrunning.org
SUMMARY:Mulligan's Milers Bridge Break Friday
DESCRIPTION:Mulligans Milers of Jensen Beach meets at the waterfront parking lot near Fredgie’s Food truck and walk or run (all paces welcome) over the Jensen Beach causeway bridge and back for a 5K every Friday. \nFredgie’s address: 3251 N. E. Indian River Drive. (On the river)\, Jensen Beach\, FL\, United States\, Florida \nHost:\nhttps://www.facebook.com/groups/369410335884239
URL:https://www.tcrunning.org/event/bridge-break-friday/2025-12-12/
LOCATION:3251 N. E. Indian River Drive.\, Jensen Beach\, FL\, United States\, Florida
CATEGORIES:Weekly Running
END:VEVENT
BEGIN:VEVENT
DTSTART;TZID=America/New_York:20251212T063000
DTEND;TZID=America/New_York:20251212T220000
DTSTAMP:20260425T111327
CREATED:20250521T182256Z
LAST-MODIFIED:20251201T151731Z
UID:10003242-1765521000-1765576800@www.tcrunning.org
SUMMARY:TC Running Holiday Party
DESCRIPTION:Join Treasure Coast Running for our annual Holiday Party! 🎉 \nWe’ll be celebrating a great year with awards for our Race Series winners\, plus drinks\, music\, fun\, and awesome raffle prizes. Come toast the season with your running crew—it’s a night you won’t want to miss! \nDate: Friday\, December 12th\nTime: 6:30 PM to 10:00 PM\nLocation: Port Salerno Community Centre\nDinner Served: 7:00 PM\nDrinks: Beer\, wine\, and water provided\nFun: Food\, drinks\, raffles\, prizes and great company \nRSVP Required by December 10th\nPlease secure your spot below:\nPlease enable JavaScript in your browser to complete this form.Please enable JavaScript in your browser to complete this form.Name *FirstLastPhone # *Email *Number of Members Attending *Submit
URL:https://www.tcrunning.org/event/holiday-party/
LOCATION:4940 SE Anchor Ave\, Stuart\, FL
CATEGORIES:2025 TCR Race Series
ATTACH;FMTTYPE=image/jpeg:https://www.tcrunning.org/wp-content/uploads/2025/05/TCRunningHolidayParty_Banner-2.jpg
END:VEVENT
BEGIN:VEVENT
DTSTART;TZID=America/New_York:20251213T080000
DTEND;TZID=America/New_York:20251213T100000
DTSTAMP:20260425T111327
CREATED:20251211T151809Z
LAST-MODIFIED:20251211T152056Z
UID:10003553-1765612800-1765620000@www.tcrunning.org
SUMMARY:Centennial Athletics December Dash
DESCRIPTION:St Lucie West Centennial High School \n\n\n\nJoin us for the third annual 5k run/walk here on the campus of St Lucie West Centennial High School.  The proceeds from this race will go towards our Athletics department and provide some much needed funding for facility upgrades for our student athletes. \nThe race will start and end in the back school courtyard located in front of our gymnasium. \nWe will use the student parking lot for St Lucie West Centennial High School.  The lot can be reached via Cameo Blvd from Crosstown Parkway\, or by way of turning from Cashmere Blvd onto Education Way (in front of McChesney Park).  The parking lot is located adjacent to St. Lucie West K-8 school. \n\n\nPre-Race Packet Pickup \n\nPre-Race packet pickup will be Friday\, December 12\, from 8:00 AM until 1:00 PM\, at Centennial High School.  Please park in front of the building\, come into the main office\, and give the person at the counter your name. \nRace Day Packet Pickup will be 6:45 AM until 7:45 AM.  PLEASE ARRIVE IN TIME!  PLEASE BE ON CAMPUS BY 7:00 AM! \n\n\n\nAwards will be as follows: \n\nOverall Male/Female\nMasters Male/Female\nTop Three Male and Female Runners in the following Age Groups:  10 and Under\, 11-19\, 20-29\, 30-39\, 40-49\, 50-59\, and 60 and Over
URL:https://www.tcrunning.org/event/centennial-athletics-december-dash/
CATEGORIES:Non Race Series Races
ATTACH;FMTTYPE=image/png:https://www.tcrunning.org/wp-content/uploads/2025/12/CentetennialDash.png
END:VEVENT
BEGIN:VEVENT
DTSTART;TZID=America/New_York:20251214T054500
DTEND;TZID=America/New_York:20251214T070000
DTSTAMP:20260425T111327
CREATED:20251211T153646Z
LAST-MODIFIED:20251211T154708Z
UID:10003555-1765691100-1765695600@www.tcrunning.org
SUMMARY:TC RUNNING HOLIDAY PIC
DESCRIPTION:JOIN US FOR THE TC RUNNING HOLIDAY PIC!! \nThis Sunday 12/14 \, 5:45am just before the Sunday Googan Run. \nAll are welcome and we hope to see you downtown with your festive holiday running gear\, followed immediately by the Googan Run at 6am in downtown Stuart! Be there with bells on!!
URL:https://www.tcrunning.org/event/tc-running-holiday-pic/
CATEGORIES:Non Race Series Races
ATTACH;FMTTYPE=image/jpeg:https://www.tcrunning.org/wp-content/uploads/2025/12/runningpic.jpg
END:VEVENT
BEGIN:VEVENT
DTSTART;TZID=America/New_York:20251214T054500
DTEND;TZID=America/New_York:20251214T083000
DTSTAMP:20260425T111327
CREATED:20250511T220807Z
LAST-MODIFIED:20250512T115935Z
UID:10001935-1765691100-1765701000@www.tcrunning.org
SUMMARY:Sun Googan Long Run
DESCRIPTION:Pace: Walk/Run\nDistance: Any
URL:https://www.tcrunning.org/event/sun-googan-long-run/2025-12-14/
LOCATION:Downtown Stuart\, 47 SW Osceola\, Stuart\, FL\, United States
CATEGORIES:Weekly Running
END:VEVENT
BEGIN:VEVENT
DTSTART;TZID=America/New_York:20251214T080000
DTEND;TZID=America/New_York:20251214T100000
DTSTAMP:20260425T111327
CREATED:20250505T070949Z
LAST-MODIFIED:20250511T220106Z
UID:10000985-1765699200-1765706400@www.tcrunning.org
SUMMARY:Sun Crosstown – Port St. Lucie
DESCRIPTION:Pace: Walk/Run\nDistance: All Distances\nLocation: Submarine Veterans Park (Floresta & Crosstown)
URL:https://www.tcrunning.org/event/crosstown-port-st-lucie-2/2025-12-14/
LOCATION:Submarine Veterans Park\, SE Floresta Dr & SE Crosstown Pkwy\, Port St. Lucie\, FL\, 34983\, United States
CATEGORIES:Weekly Running
END:VEVENT
BEGIN:VEVENT
DTSTART;TZID=America/New_York:20251215T183000
DTEND;TZID=America/New_York:20251215T203000
DTSTAMP:20260425T111327
CREATED:20250503T200834Z
LAST-MODIFIED:20260206T195127Z
UID:10000308-1765823400-1765830600@www.tcrunning.org
SUMMARY:Mon Old Skool Run Group – Stuart
DESCRIPTION:Pace: Mid to low 7’s
URL:https://www.tcrunning.org/event/old-skool-group-stuart/2025-12-15/
LOCATION:Pete Weiler’s Office\, 515 SW Camden Ave\, Stuart\, FL\, 34994\, United States
CATEGORIES:Weekly Running
ORGANIZER;CN="Mike Melton":MAILTO:mcmelton57@gmail.com
END:VEVENT
BEGIN:VEVENT
DTSTART;TZID=America/New_York:20251215T183000
DTEND;TZID=America/New_York:20251215T203000
DTSTAMP:20260425T111327
CREATED:20250511T223119Z
LAST-MODIFIED:20260206T194736Z
UID:10002541-1765823400-1765830600@www.tcrunning.org
SUMMARY:Mon Fleet Feet – Tradition
DESCRIPTION:
URL:https://www.tcrunning.org/event/fleet-feet-stuart-2/2025-12-15/
LOCATION:Tradition Fleet Feet\, 11586 SW Village Pkwy\, Port St. Lucie\, FL\, 34987
CATEGORIES:Weekly Running
END:VEVENT
BEGIN:VEVENT
DTSTART;TZID=America/New_York:20251216T044500
DTEND;TZID=America/New_York:20251216T064500
DTSTAMP:20260425T111327
CREATED:20250503T203526Z
LAST-MODIFIED:20250511T232120Z
UID:10002438-1765860300-1765867500@www.tcrunning.org
SUMMARY:Tue Dark and Early Southside
DESCRIPTION:Pace: 7:30–8:30 min/mile
URL:https://www.tcrunning.org/event/tcr-downtown-stuart/2025-12-16/
LOCATION:Peace Presbyterian Church\, 4881 SE Cove Rd\, Stuart\, FL\, 34997\, United States
CATEGORIES:Weekly Running
END:VEVENT
BEGIN:VEVENT
DTSTART;TZID=America/New_York:20251216T044500
DTEND;TZID=America/New_York:20251216T064500
DTSTAMP:20260425T111327
CREATED:20250505T045445Z
LAST-MODIFIED:20260206T195648Z
UID:10002505-1765860300-1765867500@www.tcrunning.org
SUMMARY:Tues Dark and Early Downtown Stuart
DESCRIPTION:Pace: All Paces\nDistance: 3–6 miles \nOrganizer: https://www.facebook.com/frankfender
URL:https://www.tcrunning.org/event/treasure-coast-runners-downtown-stuart/2025-12-16/
LOCATION:Stuart City Hall\, 121 SW Flagler Ave\, Stuart\, FL\, 34994\, United States
CATEGORIES:Weekly Running
END:VEVENT
BEGIN:VEVENT
DTSTART;TZID=America/New_York:20251216T050000
DTEND;TZID=America/New_York:20251216T063000
DTSTAMP:20260425T111327
CREATED:20250503T203842Z
LAST-MODIFIED:20250511T232332Z
UID:10000481-1765861200-1765866600@www.tcrunning.org
SUMMARY:Tuesday Running Crew
DESCRIPTION:By the Post Office in the Old Palm City Shopping Plaza (1395 SW Martin Hwy)
URL:https://www.tcrunning.org/event/hobe-sound-runners/2025-12-16/
LOCATION:Publix – Palm City\, 1395 SW Martin Hwy\, Palm City\, FL\, 34990\, United States
CATEGORIES:Weekly Running
END:VEVENT
BEGIN:VEVENT
DTSTART;TZID=America/New_York:20251216T061500
DTEND;TZID=America/New_York:20251216T083000
DTSTAMP:20260425T111327
CREATED:20250511T221226Z
LAST-MODIFIED:20260206T195858Z
UID:10002643-1765865700-1765873800@www.tcrunning.org
SUMMARY:Tue 10th St. Track
DESCRIPTION:Pace: Walk/Run\nDistance: Any\nParking east of Guy Davis Field off of 10th Street.
URL:https://www.tcrunning.org/event/tue-10th-st-track/2025-12-16/
LOCATION:10th St. Track\, Russell Holloway Jr. Track\, Stuart\, FL
CATEGORIES:Weekly Running
END:VEVENT
BEGIN:VEVENT
DTSTART;TZID=America/New_York:20251216T174500
DTEND;TZID=America/New_York:20251216T190000
DTSTAMP:20260425T111327
CREATED:20250503T204616Z
LAST-MODIFIED:20260206T194342Z
UID:10001293-1765907100-1765911600@www.tcrunning.org
SUMMARY:Tue Jogging with the Doctor
DESCRIPTION:Pace: All Paces\nDistance: All Distances\nLocation: Tradition Square
URL:https://www.tcrunning.org/event/jogging-with-the-doctor/2025-12-16/
LOCATION:Tradition Square\, Tradition Square\, Port St. Lucie\, FL\, 34987\, United States
CATEGORIES:Weekly Running
END:VEVENT
BEGIN:VEVENT
DTSTART;TZID=America/New_York:20251216T180000
DTEND;TZID=America/New_York:20251216T193000
DTSTAMP:20260425T111327
CREATED:20250503T205022Z
LAST-MODIFIED:20260206T201124Z
UID:10001608-1765908000-1765913400@www.tcrunning.org
SUMMARY:Tue Sailfish Brewery – Fort Pierce
DESCRIPTION:Looking for motivation\, community\, and a great way to break up the week? This is it.  Join our Run Club every Tuesday at 6PM for an energizing group run filled with good vibes\, strong strides\, and even better people.\n\n\n\nAll paces are welcome — whether you’re a seasoned runner\, just getting started\, or somewhere in between. Come move your body\, challenge yourself\, and have fun doing it. \n\n\n\nAnd the best part? Stick around after the run to grab a drink and enjoy some delicious food.  You’ve earned it.\n\n\nNo pressure. No egos. Just movement\, community\, and a great post-run hang.\n\n Lace up\, bring a friend\, and come join the run — every Tuesday at 6PM!
URL:https://www.tcrunning.org/event/sailfish-brewery-fort-pierce/2025-12-16/
LOCATION:Sailfish Brewery\, 130 N 2nd St\, Fort Pierce\, FL\, 34950\, United States
CATEGORIES:Weekly Running
END:VEVENT
BEGIN:VEVENT
DTSTART;TZID=America/New_York:20251216T183000
DTEND;TZID=America/New_York:20251216T203000
DTSTAMP:20260425T111327
CREATED:20250511T223517Z
LAST-MODIFIED:20260206T194830Z
UID:10002035-1765909800-1765917000@www.tcrunning.org
SUMMARY:Tue Fleet Feet – Tidehouse
DESCRIPTION:
URL:https://www.tcrunning.org/event/tue-fleet-feet-tidehouse/2025-12-16/
LOCATION:Tidehouse\, 915 NW Flagler Ave\, Stuart\, FL\, 34994
CATEGORIES:Weekly Running
END:VEVENT
BEGIN:VEVENT
DTSTART;TZID=America/New_York:20251217T063000
DTEND;TZID=America/New_York:20251217T083000
DTSTAMP:20260425T111327
CREATED:20250511T225810Z
LAST-MODIFIED:20260130T165133Z
UID:10002140-1765953000-1765960200@www.tcrunning.org
SUMMARY:Wed Mulligan Milers Run
DESCRIPTION:Mulligan’s Milers \n\n\nLooking for a fun\, supportive way to start your morning? Come join us! All paces are welcome — walk\, run\, or a mix of both. The goal is simply to move\, connect\, and enjoy the miles together. Fridays are for bridges!\n\n\nWhether you’re a seasoned runner or just getting started\, you’ll fit right in with our crew. We’d love to meet you and have you join us!\n\n\nBring a friend and come see what Mulligan’s Milers is all about! \n\n\nWe meet at Indian Riverside Park
URL:https://www.tcrunning.org/event/wed-mulligan-milers/2025-12-17/
LOCATION:Indian Riverside Park\, 1707 NE Indian River Dr\, Jensen Beach\, FL\, 34957
CATEGORIES:Weekly Running
END:VEVENT
BEGIN:VEVENT
DTSTART;TZID=America/New_York:20251217T171500
DTEND;TZID=America/New_York:20251217T190000
DTSTAMP:20260425T111327
CREATED:20251216T133257Z
LAST-MODIFIED:20251216T133309Z
UID:10003820-1765991700-1765998000@www.tcrunning.org
SUMMARY:Wed Hobe Sound Run Club
DESCRIPTION:Hobe Sound Run Club \nWednesday evenings @ Sound Brewing Company\n9126B SE Bridge Rd\,\nHobe Sound\, FL 33455 \nMeetup at 5:15 pm. Run starts at 5:30 pm. 3-mile route to the beach and back. Longer route options available. \nContact Hobe Sound Run Club on Facebook or Instagram (IG: @hobesoundruns).
URL:https://www.tcrunning.org/event/wed-hobe-sound-run-club/
LOCATION:Sound Brewing Company\, 9126B SE Bridge Rd\, Hobe Sound\, FL\, 33455
CATEGORIES:Weekly Running
ORGANIZER;CN="Meredith Wilcox":MAILTO:meredith.wilcox@yahoo.com
END:VEVENT
BEGIN:VEVENT
DTSTART;TZID=America/New_York:20251217T180000
DTEND;TZID=America/New_York:20251217T200000
DTSTAMP:20260425T111327
CREATED:20250505T062412Z
LAST-MODIFIED:20250512T120730Z
UID:10000551-1765994400-1766001600@www.tcrunning.org
SUMMARY:Wed Crosstown – Port St. Lucie
DESCRIPTION:Location: Mako Soccer Club next to McChesney Park
URL:https://www.tcrunning.org/event/crosstown-port-st-lucie/2025-12-17/
LOCATION:McChesney Park\, Port St Lucie
CATEGORIES:Weekly Running
END:VEVENT
BEGIN:VEVENT
DTSTART;TZID=America/New_York:20251218T044500
DTEND;TZID=America/New_York:20251218T064500
DTSTAMP:20260425T111327
CREATED:20250512T122246Z
LAST-MODIFIED:20260206T195459Z
UID:10002714-1766033100-1766040300@www.tcrunning.org
SUMMARY:Thurs Dark and Early Downtown Stuart
DESCRIPTION:Pace: All Paces\nDistance: 3–6 miles \norganizer: https://www.facebook.com/frankfender
URL:https://www.tcrunning.org/event/thurs-dark-and-early-downtown-stuart/2025-12-18/
LOCATION:Stuart City Hall\, 121 SW Flagler Ave\, Stuart\, FL\, 34994\, United States
CATEGORIES:Weekly Running
END:VEVENT
BEGIN:VEVENT
DTSTART;TZID=America/New_York:20251218T063000
DTEND;TZID=America/New_York:20251218T083000
DTSTAMP:20260425T111327
CREATED:20250511T220528Z
LAST-MODIFIED:20250511T220529Z
UID:10001868-1766039400-1766046600@www.tcrunning.org
SUMMARY:Thr Googan Coffee Run
DESCRIPTION:Pace: Walk/Run\nDistance: 5-Mile Loop
URL:https://www.tcrunning.org/event/googan-coffee-run-3/2025-12-18/
LOCATION:1917 SW Federal Hwy\, 1917 SW Federal Hwy\, Stuart\, FL\, 34994\, United States
CATEGORIES:Weekly Running
END:VEVENT
BEGIN:VEVENT
DTSTART;TZID=America/New_York:20251218T174500
DTEND;TZID=America/New_York:20251218T190000
DTSTAMP:20260425T111327
CREATED:20250511T212831Z
LAST-MODIFIED:20260206T194159Z
UID:10001573-1766079900-1766084400@www.tcrunning.org
SUMMARY:Thr Jogging with the Doctor
DESCRIPTION:Pace: All Paces\nDistance: All Distances\nLocation: Tradition Square \n 
URL:https://www.tcrunning.org/event/jogging-with-the-doctor-2/2025-12-18/
LOCATION:Tradition Square\, Tradition Square\, Port St. Lucie\, FL\, 34987\, United States
CATEGORIES:Weekly Running
END:VEVENT
BEGIN:VEVENT
DTSTART;TZID=America/New_York:20251219T054500
DTEND;TZID=America/New_York:20251219T070000
DTSTAMP:20260425T111327
CREATED:20250511T230113Z
LAST-MODIFIED:20250513T194434Z
UID:10003012-1766123100-1766127600@www.tcrunning.org
SUMMARY:Fri World's Okayest Runners
DESCRIPTION:Friday Mornings. Meetup at 5:45am. Start at 6am. \nRotating start locations at local coffee shops to support local businesses. \nContact Haley McCartney on Facebook
URL:https://www.tcrunning.org/event/fri-worlds-okayest-runners/2025-12-19/
CATEGORIES:Weekly Running
END:VEVENT
BEGIN:VEVENT
DTSTART;TZID=America/New_York:20251219T063000
DTEND;TZID=America/New_York:20251219T073000
DTSTAMP:20260425T111327
CREATED:20250910T124816Z
LAST-MODIFIED:20260227T203053Z
UID:10003280-1766125800-1766129400@www.tcrunning.org
SUMMARY:Mulligan's Milers Bridge Break Friday
DESCRIPTION:Mulligans Milers of Jensen Beach meets at the waterfront parking lot near Fredgie’s Food truck and walk or run (all paces welcome) over the Jensen Beach causeway bridge and back for a 5K every Friday. \nFredgie’s address: 3251 N. E. Indian River Drive. (On the river)\, Jensen Beach\, FL\, United States\, Florida \nHost:\nhttps://www.facebook.com/groups/369410335884239
URL:https://www.tcrunning.org/event/bridge-break-friday/2025-12-19/
LOCATION:3251 N. E. Indian River Drive.\, Jensen Beach\, FL\, United States\, Florida
CATEGORIES:Weekly Running
END:VEVENT
BEGIN:VEVENT
DTSTART;TZID=America/New_York:20251220T064500
DTEND;TZID=America/New_York:20251220T083000
DTSTAMP:20260425T111327
CREATED:20251216T131919Z
LAST-MODIFIED:20251216T132851Z
UID:10003559-1766213100-1766219400@www.tcrunning.org
SUMMARY:Sat Hobe Sound Run Club
DESCRIPTION:Hobe Sound Run Club \nGroup Run: Saturday mornings @ Hobe Sound Social & Coffee\n11844 SE Dixie Hwy ste a\,\nHobe Sound\, FL 33455 \nMeetup at 6:45 am. Run starts at 7:00 am. \n3-mile route to the beach and back. Longer route options available. \nContact Hobe Sound Run Club on Facebook or Instagram (IG: @hobesoundruns)
URL:https://www.tcrunning.org/event/sat-hobe-sound-run-club/2025-12-20/
LOCATION:Hobe Sound Social & Coffee\, 11844 SE Dixie Hwy Suite A\, Hobe Sound\, FL\, 33455
CATEGORIES:Weekly Running
ORGANIZER;CN="Meredith Wilcox":MAILTO:meredith.wilcox@yahoo.com
END:VEVENT
BEGIN:VEVENT
DTSTART;TZID=America/New_York:20251221T054500
DTEND;TZID=America/New_York:20251221T083000
DTSTAMP:20260425T111327
CREATED:20250511T220807Z
LAST-MODIFIED:20250512T115935Z
UID:10001936-1766295900-1766305800@www.tcrunning.org
SUMMARY:Sun Googan Long Run
DESCRIPTION:Pace: Walk/Run\nDistance: Any
URL:https://www.tcrunning.org/event/sun-googan-long-run/2025-12-21/
LOCATION:Downtown Stuart\, 47 SW Osceola\, Stuart\, FL\, United States
CATEGORIES:Weekly Running
END:VEVENT
BEGIN:VEVENT
DTSTART;TZID=America/New_York:20251221T080000
DTEND;TZID=America/New_York:20251221T100000
DTSTAMP:20260425T111327
CREATED:20250505T070949Z
LAST-MODIFIED:20250511T220106Z
UID:10000986-1766304000-1766311200@www.tcrunning.org
SUMMARY:Sun Crosstown – Port St. Lucie
DESCRIPTION:Pace: Walk/Run\nDistance: All Distances\nLocation: Submarine Veterans Park (Floresta & Crosstown)
URL:https://www.tcrunning.org/event/crosstown-port-st-lucie-2/2025-12-21/
LOCATION:Submarine Veterans Park\, SE Floresta Dr & SE Crosstown Pkwy\, Port St. Lucie\, FL\, 34983\, United States
CATEGORIES:Weekly Running
END:VEVENT
BEGIN:VEVENT
DTSTART;TZID=America/New_York:20251222T183000
DTEND;TZID=America/New_York:20251222T203000
DTSTAMP:20260425T111327
CREATED:20250503T200834Z
LAST-MODIFIED:20260206T195127Z
UID:10000309-1766428200-1766435400@www.tcrunning.org
SUMMARY:Mon Old Skool Run Group – Stuart
DESCRIPTION:Pace: Mid to low 7’s
URL:https://www.tcrunning.org/event/old-skool-group-stuart/2025-12-22/
LOCATION:Pete Weiler’s Office\, 515 SW Camden Ave\, Stuart\, FL\, 34994\, United States
CATEGORIES:Weekly Running
ORGANIZER;CN="Mike Melton":MAILTO:mcmelton57@gmail.com
END:VEVENT
BEGIN:VEVENT
DTSTART;TZID=America/New_York:20251222T183000
DTEND;TZID=America/New_York:20251222T203000
DTSTAMP:20260425T111327
CREATED:20250511T223119Z
LAST-MODIFIED:20260206T194736Z
UID:10002542-1766428200-1766435400@www.tcrunning.org
SUMMARY:Mon Fleet Feet – Tradition
DESCRIPTION:
URL:https://www.tcrunning.org/event/fleet-feet-stuart-2/2025-12-22/
LOCATION:Tradition Fleet Feet\, 11586 SW Village Pkwy\, Port St. Lucie\, FL\, 34987
CATEGORIES:Weekly Running
END:VEVENT
BEGIN:VEVENT
DTSTART;TZID=America/New_York:20251223T044500
DTEND;TZID=America/New_York:20251223T064500
DTSTAMP:20260425T111327
CREATED:20250503T203526Z
LAST-MODIFIED:20250511T232120Z
UID:10002439-1766465100-1766472300@www.tcrunning.org
SUMMARY:Tue Dark and Early Southside
DESCRIPTION:Pace: 7:30–8:30 min/mile
URL:https://www.tcrunning.org/event/tcr-downtown-stuart/2025-12-23/
LOCATION:Peace Presbyterian Church\, 4881 SE Cove Rd\, Stuart\, FL\, 34997\, United States
CATEGORIES:Weekly Running
END:VEVENT
BEGIN:VEVENT
DTSTART;TZID=America/New_York:20251223T044500
DTEND;TZID=America/New_York:20251223T064500
DTSTAMP:20260425T111327
CREATED:20250505T045445Z
LAST-MODIFIED:20260206T195648Z
UID:10002507-1766465100-1766472300@www.tcrunning.org
SUMMARY:Tues Dark and Early Downtown Stuart
DESCRIPTION:Pace: All Paces\nDistance: 3–6 miles \nOrganizer: https://www.facebook.com/frankfender
URL:https://www.tcrunning.org/event/treasure-coast-runners-downtown-stuart/2025-12-23/
LOCATION:Stuart City Hall\, 121 SW Flagler Ave\, Stuart\, FL\, 34994\, United States
CATEGORIES:Weekly Running
END:VEVENT
END:VCALENDAR