BEGIN:VCALENDAR
VERSION:2.0
PRODID:-//Treasure Coast Running - ECPv6.15.20//NONSGML v1.0//EN
CALSCALE:GREGORIAN
METHOD:PUBLISH
X-WR-CALNAME:Treasure Coast Running
X-ORIGINAL-URL:https://www.tcrunning.org
X-WR-CALDESC:Events for Treasure Coast Running
REFRESH-INTERVAL;VALUE=DURATION:PT1H
X-Robots-Tag:noindex
X-PUBLISHED-TTL:PT1H
BEGIN:VTIMEZONE
TZID:America/New_York
BEGIN:DAYLIGHT
TZOFFSETFROM:-0500
TZOFFSETTO:-0400
TZNAME:EDT
DTSTART:20250309T070000
END:DAYLIGHT
BEGIN:STANDARD
TZOFFSETFROM:-0400
TZOFFSETTO:-0500
TZNAME:EST
DTSTART:20251102T060000
END:STANDARD
BEGIN:DAYLIGHT
TZOFFSETFROM:-0500
TZOFFSETTO:-0400
TZNAME:EDT
DTSTART:20260308T070000
END:DAYLIGHT
BEGIN:STANDARD
TZOFFSETFROM:-0400
TZOFFSETTO:-0500
TZNAME:EST
DTSTART:20261101T060000
END:STANDARD
BEGIN:DAYLIGHT
TZOFFSETFROM:-0500
TZOFFSETTO:-0400
TZNAME:EDT
DTSTART:20270314T070000
END:DAYLIGHT
BEGIN:STANDARD
TZOFFSETFROM:-0400
TZOFFSETTO:-0500
TZNAME:EST
DTSTART:20271107T060000
END:STANDARD
END:VTIMEZONE
BEGIN:VEVENT
DTSTART;TZID=America/New_York:20260919T070000
DTEND;TZID=America/New_York:20260919T120000
DTSTAMP:20260424T091819
CREATED:20260123T174733Z
LAST-MODIFIED:20260123T175006Z
UID:10005401-1789801200-1789819200@www.tcrunning.org
SUMMARY:2026 Osprey Trail Race 25k 8k
DESCRIPTION:The 2026 Osprey Trail Race will be held at The Oxbow Eco Center in Port St. Lucie! Details coming soon! \nContact Us \nIf you need to get ahold of us please use the FaceBook Messenger Link or email your RDs at Irene@runtheosprey.com Jeff@runtheosprey.com\nWe will do our best to answer you as quickly as possible. \nWe Are A Cup-less Race \nTo reduce our environmental impact\, we are a cup-less race. You must bring something to carry water in. A handheld\, a vest\, half a coconut\, up to you. \nRace Day \n25k – 7:00am start\n8k – 8:00 am start \nParking will be along the canal easement. Park straight in\, and squeeze in close to the car next to you to make sure everyone has a spot. Volunteers will be there to guide parking. \nOxbow Eco-Center\n5400 NE St. James Drive\nPort St. Lucie\, FL 34983 \nEco-Center Hours: Tuesday – Saturday 12 p.m. – 4 p.m.\nThe Oxbow Preserve trails are open sunrise to sunset daily. \nThe Oxbow Eco-Center is both a nature preserve and an environmental learning center in Port St. Lucie\, Florida\, situated on 225-acres along the North Fork of the St Lucie River. It is the Environmental Education and Community Outreach Division of St. Lucie County’s Environmental Resources Department. The property was acquired with Environmentally Significant Lands and Save Our Rivers funding in a partnership between St. Lucie County and the South Florida Water Management District. The land is managed and preserved to sustain native plants and wildlife. Boardwalks\, pedestrian trails and observation towers allow visitors to fully experience nature without disturbing it. \nOxbow Eco-Center staff and volunteers provide environmental programming throughout the year to residents of all ages and backgrounds through school field trips\, workshops\, lectures\, public events\, and service learning opportunities. \n 
URL:https://www.tcrunning.org/event/2026-osprey-trail-race-25k-8k/
CATEGORIES:Non Race Series Races
ATTACH;FMTTYPE=image/png:https://www.tcrunning.org/wp-content/uploads/2026/01/osprey-1.png
END:VEVENT
END:VCALENDAR